{"text_format":"1","workbook":"xlsx","n_sheets":25,"sheets":["partVide","Notice","voletGeneral","listesDeroulantes","tmp","part1-Coord","part2","part3","part4","part5","part6","part7","part8","part9","part10","part11","part12","part13","part14","part15","part16","part17","part18","part19","part20"],"not_rendered":{"charts":0,"images":2,"macros":1,"external_links":0,"defined_names":43,"comments":0,"pivot_tables":0},"unopened":[],"bounds":{"document_bytes":16777216,"sheet_cells":100000,"rows_first":2000,"rows_last":500,"rows_between":2000,"halvings":0,"cell_chars":16384,"cell_head_chars":4096},"cells_cut":0,"cells_raw":0,"read":"whole","date_system":"1900"}

{"sheet":"partVide","index":0,"n_rows":135,"n_cols":12,"rows_kept":135,"cut":false,"hidden":true,"merged":[[11,3,11,5],[13,1,13,8],[16,3,16,8],[0,0,2,4],[0,5,0,8],[1,5,1,6],[1,7,1,8],[24,1,24,3],[25,1,25,3],[2,5,2,6],[2,7,2,8],[4,1,4,8],[6,2,7,2],[6,3,7,8],[8,3,8,5],[9,3,9,5],[10,3,10,5],[26,1,26,3],[27,1,27,3],[28,1,28,3],[29,1,29,3],[17,3,17,8],[18,3,18,8],[19,3,19,8],[20,3,20,4],[22,1,22,8],[23,1,23,8],[36,1,36,2],[37,1,37,2],[38,1,38,2],[39,1,39,2],[40,1,40,2],[41,1,41,2],[30,1,30,3],[31,1,31,3],[32,1,32,3],[33,1,33,3],[34,1,34,8],[35,1,35,2],[49,1,49,3],[50,1,50,3],[51,1,51,3],[52,1,52,3],[53,1,53,3],[54,1,54,3],[42,1,42,2],[43,1,43,2],[45,1,45,3],[46,1,46,8],[47,1,47,3],[48,1,48,3],[61,1,61,3],[62,1,62,3],[63,1,63,3],[64,1,64,3],[65,1,65,3],[66,1,66,3],[55,1,55,3],[56,1,56,3],[57,1,57,3],[58,1,58,3],[59,1,59,3],[60,1,60,3],[73,1,73,3],[74,1,74,3],[75,1,75,3],[76,1,76,3],[77,1,77,3],[78,1,78,3],[67,1,67,3],[68,1,68,3],[69,1,69,3],[70,1,70,3],[71,1,71,3],[72,1,72,3],[85,1,85,5],[86,1,86,5],[87,1,87,5],[88,1,88,5],[89,1,89,5],[90,1,90,5],[79,1,79,3],[80,1,80,3],[81,1,81,8],[82,1,82,5],[83,1,83,5],[84,1,84,5],[97,1,97,5],[98,1,98,5],[99,1,99,5],[100,1,100,5],[101,1,101,5],[102,1,102,3],[91,1,91,3],[92,1,92,8],[93,1,93,5],[94,1,94,5],[95,1,95,5],[96,1,96,5],[110,1,110,5],[112,1,112,8],[114,1,114,2],[114,3,114,6],[115,3,115,6],[116,3,116,6],[104,1,104,8],[105,1,105,8],[106,2,106,5],[107,1,107,5],[108,1,108,3],[109,1,109,3],[123,1,123,3],[125,1,125,8],[127,1,133,8],[134,1,136,8],[117,3,117,6],[118,3,118,6],[119,3,119,6],[120,3,120,6],[121,3,121,6],[122,3,122,6]]}
["Identification de l'établissement partenaire",null,null,null,null,"Réservé à l'organisme gestionnaire du programme",null,null,null,{"$f":"G34","v":0},{"$f":"H34","v":0}]
[null,null,null,null,null,"N° de dossier",null,{"$f":"voletGeneral!$M$2&\"-\"&TEXT(NUM_PARTENAIRE(C2),\"0000\")","v":"ANR-17-EUR-XXXX-Vide"},null,{"$f":"G46","v":0},{"$f":"H46","v":0},"Public"]
[null,null,null,null,null,"Acronyme",null,{"$f":"IF(voletGeneral!H10<>\"\",voletGeneral!H10,\"\")","v":""},null,{"$f":"G81","v":0},{"$f":"H81","v":0},"Privé"]
[null,null,20408,{"$f":"C4&\"-0\"","v":"20408-0"},null,null,null,null,null,{"$f":"G92","v":0},{"$f":"H92","v":0}]
[null,"Nom complet du partenaire",null,null,null,null,null,null,null,{"$f":"G103","v":0},{"$f":"H103","v":0}]
[null,null,null,null,null,null,null,null,null,{"$f":"G109","v":0},{"$f":"H109","v":0},"EPSCP"]
[null,null,"Nom complet du partenaire",null,null,null,null,null,null,{"$f":"G110","v":0},0,"EPST"]
[null,null,null,null,null,null,null,null,null,{"$f":"G111","v":0},{"$f":"H111","v":0},"EPA"]
[null,null,"Sigle du partenaire ",null,null,null,null,null,null,{"$f":"H124","v":0},{"$f":"I124","v":0},"EPIC"]
[null,null,"Secteur d'activité du partenaire",null,null,null,null,"co-porteur de l'EUR :",null,null,null,"Autre établissement public"]
[null,null,"Type de partenaire",null,null,null,null,null,null,null,null,"Groupement d'établissements"]
[null,null,"Numéro SIRET",null,null,null,null,null,null,null,null,"Fondation"]
[null,null,null,null,null,null,null,null,null,null,null,"Association"]
[null,"Personne habilitée à engager juridiquement l'établissement partenaire",null,null,null,null,null,null,null,null,null,"Petite entreprise "]
[null,null,null,null,null,null,null,null,null,null,null,"Moyenne entreprise"]
[null,null,"Genre",null,null,null,null,null,null,null,null,"Grande entreprise"]
[null,null,"Nom",null,null,null,null,null,null,null,null,"Statutaire"]
[null,null,"Prénom",null,null,null,null,null,null,null,null,"Non statutaire avec financement"]
[null,null,"Qualité",null,null,null,null,null,null,null,null,"Non statutaire sans financement"]
[null,null,"Courriel"]
[null,null,"Téléphone"]
[]
[null,"Demande financière ANR détaillée du projet"]
[null,"Equipement (coût unitaire HT > 4000 € - si le partenaire récupére la TVA, indiquer le coût hors TVA)"]
[null,"Description",null,null,"Coût unitaire","Quantité","Coût total","Partie aidée","Apport"]
[null,null,null,null,null,null,{"$f":"IF(AND(ISNUMBER(E26),ISNUMBER(F26)),E26*F26,\" \")","v":" "},null,{"$f":"IF(OR(ISNUMBER(G26),ISNUMBER(H26)),ROUND(IF(ISNUMBER(G26),G26,0)-IF(ISNUMBER(H26),H26,0),2),\" \")","v":" "}]
[null,null,null,null,null,null," ",null," "]
[null,null,null,null,null,null," ",null," "]
[null,null,null,null,null,null," ",null," "]
[null,null,null,null,null,null," ",null," "]
[null,null,null,null,null,null," ",null," "]
[null,null,null,null,null,null," ",null," "]
[null,null,null,null,null,null," ",null," "]
[null,"Total équipement",null,null,null,null,{"$f":"SUM(G26:G33)","v":0},{"$f":"SUM(H26:H33)","v":0},0]
[null,"Personnel"]
[null,"Description",null,"Statut","Coût unitaire","Nb. h.mois","Coût total","Aide","Apport"]
[null,null,null,null,null,null,{"$f":"IF(AND(ISNUMBER(E37),ISNUMBER(F37)),E37*F37,\" \")","v":" "},null,{"$f":"IF(OR(ISNUMBER(G37),ISNUMBER(H37)),ROUND(IF(ISNUMBER(G37),G37,0)-IF(ISNUMBER(H37),H37,0),2),\" \")","v":" "}]
[null,null,null,null,null,null," ",null," "]
[null,null,null,null,null,null," ",null," "]
[null,null,null,null,null,null," ",null," "]
[null,null,null,null,null,null," ",null,{"$f":"IF(OR(ISNUMBER(G41),ISNUMBER(H41)),ROUND(IF(ISNUMBER(G41),G41,0)-IF(ISNUMBER(H41),H41,0),2),\" \")","v":" "}]
[null,null,null,null,null,null," ",null," "]
[null,null,null,null,null,null," ",null," "]
[null,null,null,null,null,null," ",null," "]
[null,"Primes et heures complémentaires pour le personnel statutaire",null,null,null,null,null,{"$f":"IF(G45<>\" \",G45,\" \")","v":0}]
[null,"Total personnel",null,null,null,{"$f":"SUM(F37:F44)","v":0},{"$f":"SUM(G37:G45)","v":0},{"$f":"SUM(H37:H45)","v":0},{"$f":"SUM(I37:I44)","v":0}]
[null,"Fonctionnement (si le partenaire récupère la TVA, indiquer le coût hors TVA)"]
[null,"Description",null,null,"Coût unitaire","Quantité","Coût total","Partie aidée","Apport"]
[null,"Prestations de service externes"]
[null,null,null,null,null,null,null,null,{"$f":"IF(OR(ISNUMBER(G50),ISNUMBER(H50)),ROUND(IF(ISNUMBER(G50),G50,0)-IF(ISNUMBER(H50),H50,0),2),\" \")","v":" "}]
[null,null,null,null,null,null,null,null," "]
[null,null,null,null,null,null,null,null," "]
[null,null,null,null,null,null,null,null," "]
[null,null,null,null,null,null,null,null," "]
[null,null,null,null,null,null,null,null," "]
[null,null,null,null,null,null,null,null," "]
[null,null,null,null,null,null,null,null," "]
[null,"Sous-total prestations de service externes",null,null,null,null,{"$f":"SUM(G50:G57)","v":0},{"$f":"SUM(H50:H57)","v":0},{"$f":"SUM(I50:I57)","v":0}]
[null,"Missions",null,null,"Coût unitaire","Quantité","Coût total","Partie aidée","Apport"]
[null,null,null,null,null,null,null,null,{"$f":"IF(OR(ISNUMBER(G60),ISNUMBER(H60)),ROUND(IF(ISNUMBER(G60),G60,0)-IF(ISNUMBER(H60),H60,0),2),\" \")","v":" "}]
[null,null,null,null,null,null,null,null," "]
[null,null,null,null,null,null,null,null," "]
[null,null,null,null,null,null,null,null," "]
[null,null,null,null,null,null,null,null," "]
[null,null,null,null,null,null,null,null," "]
[null,null,null,null,null,null,null,null," "]
[null,null,null,null,null,null,null,null," "]
[null,"Sous-total missions",null,null,null,null,{"$f":"SUM(G60:G67)","v":0},0,0]
[null,"Autres dépenses externes",null,null,"Coût unitaire","Quantité","Coût total","Partie aidée","Apport"]
[null,null,null,null,null,null,{"$f":"IF(AND(ISNUMBER(E70),ISNUMBER(F70)),E70*F70,\" \")","v":" "},null,{"$f":"IF(OR(ISNUMBER(G70),ISNUMBER(H70)),ROUND(IF(ISNUMBER(G70),G70,0)-IF(ISNUMBER(H70),H70,0),2),\" \")","v":" "}]
[null,null,null,null,null,null," ",null," "]
[null,null,null,null,null,null," ",null," "]
[null,null,null,null,null,null," ",null," "]
[null,null,null,null,null,null," ",null," "]
[null,null,null,null,null,null," ",null," "]
[null,null,null,null,null,null," ",null," "]
[null,null,null,null,null,null," ",null," "]
[null,null,null,null,null,null," ",null," "]
[null,"Sous-total autres dépenses externes",null,null,null,null,{"$f":"SUM(G70:G78)","v":0},0,0]
[null,null,null,null,null,null,"Coût total","Partie aidée","Apport"]
[null,"Total fonctionnement",null,null,null,null,{"$f":"G79+G68+G58","v":0},{"$f":"H79+H68+H58","v":0},{"$f":"I79+I68+I58","v":0}]
[null,"Facturation interne"]
[null,"Description",null,null,null,null,"Coût total","Partie aidée","Apport"]
[null," ",null,null,null,null," ",null,{"$f":"IF(OR(ISNUMBER(G84),ISNUMBER(H84)),ROUND(IF(ISNUMBER(G84),G84,0)-IF(ISNUMBER(H84),H84,0),2),\" \")","v":" "}]
[null," ",null,null,null,null,null,null," "]
[null," ",null,null,null,null,null,null," "]
[null," ",null,null,null,null,null,null," "]
[null," ",null,null,null,null," "," "," "]
[null," ",null,null,null,null," "," "," "]
[null," ",null,null,null,null," "," "," "]
[null," ",null,null,null,null," "," "," "]
[null,"Total facturation interne",null,null,null,null,{"$f":"SUM(G84:G91)","v":0},{"$f":"SUM(H84:H91)","v":0},0]
[null,"Frais de structure"]
[null,"Description",null,null,null,null,"Coût total","Partie aidée","Apport"]
[null," ",null,null,null,null," ",null,{"$f":"IF(OR(ISNUMBER(G95),ISNUMBER(H95)),ROUND(IF(ISNUMBER(G95),G95,0)-IF(ISNUMBER(H95),H95,0),2),\" \")","v":" "}]
[null," ",null,null,null,null,null,null," "]
[null," ",null,null,null,null,null,null," "]
[null," ",null,null,null,null," "," "," "]
[null," ",null,null,null,null," "," "," "]
[null," ",null,null,null,null," "," "," "]
[null," ",null,null,null,null," "," "," "]
[null," ",null,null,null,null," "," "," "]
[null,"Total frais de structure",null,null,null,null,{"$f":"SUM(G95:G102)","v":0},{"$f":"SUM(H95:H102)","v":0},0]
[]
[null,"Synthèse de la demande financière"]
[]
[null,null,null,null,null,null,"Coût complet","Aide demandée","Apport"]
[null,"Total hors frais de gestion",null,null,null,null,{"$f":"G34+G46+G81+G92+G103","v":0},{"$f":"IF(D10=\"Privé\",0,H34+H46+H81+H92+H103)","v":0},{"$f":"I34+I46+I81+I92+I103","v":0}]
[null,"Frais de gestion (max : 8%) (hors frais de structure)",null,null,null,null,{"$f":"H109","v":0},{"$f":"IF(D10=\"Privé\",0,((H108-H103)*E109))","v":0},0]
[null,"Taux d'environnement",null,null,null,null,{"$f":"(G46-G45)*E110","v":0},null,{"$f":"G110","v":0},null,null,{"$f":"(IF($D$11=listesDeroulantes!$A$6,0.7,0)+IF($D$11=listesDeroulantes!$A$7,0.6,0)+IF($D$11=listesDeroulantes!$A$8,0.5,0))","v":0}]
[null,"Total",null,null,null,null,{"$f":"G108+G109+G110","v":0},{"$f":"H108+H109","v":0},{"$f":"I108+I109+I110","v":0}]
[]
[null,"Autres soutiens financiers sollicités ou obtenus pour le projet"]
[]
[null,{"$f":"\"                                   Nom des financeurs\"","v":"                                   Nom des financeurs"},null,"Nature et objet du financement",null,null,null,"Sollicité","Obtenu"]
[null,{"$f":"COUNTA(B$115:B115)","v":1}," "," "]
[null,{"$f":"COUNTA(B$115:B116)","v":2}," "," "]
[null,{"$f":"COUNTA(B$115:B117)","v":3}," "," "]
[null,{"$f":"COUNTA(B$115:B118)","v":4}," "," ",null,null,null," "," "]
[null,{"$f":"COUNTA(B$115:B119)","v":5}," "," ",null,null,null," "," "]
[null,{"$f":"COUNTA(B$115:B120)","v":6}," "," ",null,null,null," "," "]
[null,{"$f":"COUNTA(B$115:B121)","v":7}," "," ",null,null,null," "," "]
[null,{"$f":"COUNTA(B$115:B122)","v":8}," "," ",null,null,null," "," "]
[null,"Total des autres financements",null,null,null,null,null,{"$f":"SUM(H116:H123)","v":0},0]
[]
[null,"Commentaires (le cas échéant)"]
[]
[]
[]
[]
[]
[]
[]
[]
[null,"Les informations personnelles transmises dans ces documents sont obligatoires et seront conservées en fichiers par l'ANR pour assurer la conduite opérationnelle de l'évaluation et l'administration des dossiers.\nConformément à la loi n° 78-17 du 6 janvier 1978 modifiée, relative à l'Informatique, aux Fichiers et aux Libertés, les personnes concernées disposent d'un droit d'accès et de rectification des données personnelles les concernant. Les personnes concernées peuvent exercer ce droit en s'adressant à l'ANR (voir coordonnées dans le texte de l’appel à projets)."]

{"sheet":"Notice","index":1,"n_rows":49,"n_cols":8,"rows_kept":49,"cut":false,"hidden":false,"merged":[[48,1,48,7],[37,1,37,7],[39,1,39,7],[41,1,41,7],[42,1,42,7],[45,1,45,7],[46,1,46,7],[36,1,36,7],[22,1,22,7],[23,1,23,7],[25,1,25,7],[26,1,26,7],[28,1,28,7],[29,1,29,7],[30,1,30,7],[32,1,32,7],[33,1,33,7],[34,1,34,7],[35,1,35,7],[21,1,21,7],[10,1,10,7],[11,1,11,7],[12,1,12,7],[13,1,13,7],[14,0,14,7],[15,1,15,7],[16,1,16,7],[17,1,17,7],[18,1,18,7],[19,0,19,7],[20,0,20,7],[9,0,9,7],[0,2,3,6],[0,7,3,7],[4,2,4,6],[6,0,6,7],[8,1,8,7]]}
[null,null,"Appel à projets EUR",null,null,null,null,"Edition 2017"]
["v2"]
[]
[]
[null,null,"Document administratif et financier - Notice",null,null,null,null,"ANR-17-EUR-00XX"]
[]
["Notice d'utilisation du \"document de soumission Administratif et Financier\""]
[]
[null,"Les bénéficiaires des aides sont des établissements d’enseignement supérieur (public ou privé à but non lucratif), des organismes de recherche et des groupements d’établissements dotés de la personnalité morale. Les établissements d’enseignement supérieur et recherche à but lucratif et les entreprises  pourront avoir le statut d’Etablissement partenaire dans les projets mais ne bénéficieront pas de financement au titre de cette participation."]
["RECOMMANDATIONS GENERALES"]
[null,"Ce document est prévu pour recueillir les informations liées au projet, le remplissage des totaux se faisant automatiquement (cellules non colorées)."]
[null,"Cependant, si vous avez besoin de modifier le document, merci de contacter l'ANR"]
[null,"Seuls les cellules sur fond vert des onglets \"Volet_general\",  \"Part1-Coord\", \"Part2\", \"Part3\", … (en fonction du nombre de partenaires) sont à renseigner.\nLes tableaux récapitulatifs du \"Volet général\" sont remplis automatiquement à partir des données fournies dans les autres onglets."]
[null,"Tous les montants financiers sont en € et hors taxes (HT) majorés, le cas échéant, de la TVA non récupérable."]
["1 - Onglet \"Volet_general\""]
[null,"1-1 L'acronyme doit permettre d'identifier rapidement le projet, il est repris sur toutes les pages du présent document."]
[null,"1-2 Le titre complet du projet"]
[null,"1-3 Durée du projet "]
[null,"1-4 les coordonnées du responsable du projet"]
[]
["2 - Onglets \"Part1-Coord\", \"Part2\", \"part3\"…"]
[null," Chaque établissement et partenaire renseigne l'onglet qui lui correspond"]
[null,"2-1 Identification du partenaire :"]
[null,"Renseigner dans cette partie :\n- le nom complet de l'établissement et le sigle du partenaire. Ces informations seront reprises automatiquement dans certains tableaux récapitulatifs et devront être identiques à celles saisies sur le site de soumission (merci de respecter l'ordre de renseignement en ligne, sur le présent document et sur le document scientifique)\n- le secteur d'activité du partenaire : public ou privé\n- le type de partenaire (menu déroulant) \n- préciser le n° de SIRET de la tutelle gestionnaire\n- les coordonnées de la personne habilitée à représenter l'établissement partenaire"]
[null,"2-2 Demande financière :"]
[null,"Renseigner les tableaux par nature de demande. La justification de ces dernières sera à effectuer dans le document de soumission scientifique. Les calculs s'effectuent automatiquement : les cellules sur fond blanc comportant des formules sont verrouillées. "]
[null,"Indiquer le montant total des dépenses dans la colonne \"coût total\" et les montants demandés au titre de l'aide dans la colonne \"Partie aidée\". La différence constituera les apports du partenaire pour l'ensemble des natures de dépenses. Nous vous rappelons que les apports doivent être autres que des subventions PIA ."]
[null,"2-2-1 Equipements"]
[null,"\nSont considérées comme dépenses d'équipement, les matériels dont la valeur unitaire est supérieur à 4000€ HT."]
[null,"Il s'agit du coût total de ces matériels. "]
[null,"Les montants sont à renseigner hors taxes (HT) augmentés éventuellement de la TVA non récupérable. En conséquence, les montants indiqués doivent prendre en compte la proportion x de TVA non récupérable de l'organisme. [coût = coût HT * (1+ x *0.20)].  "]
[null,"2-2-2 Personnels"]
[null,"Renseigner  le type de poste, le statut (statutaire, non statutaire avec financement ANR demandé, non statutaire sans financement ANR demandé), le coût mensuel qui est le coût total correspondant (salaires bruts, primes diverses, et charges patronales, y compris la taxe sur les salaires), et le nombre total de personne.mois par tâche (une personne à temps plein pendant un an = 12 personnes.mois). Le coût total sur la totalité de la durée s'effectue alors automatiquement. renseigner ensuite le montant demandé à l'ANR dans la colonne \"partie aidée\".  La différence constituera les apports du partenaire."]
[]
[null,"Pour les partenaires publics, une case \"Primes et heures complémentaires pour le personnel statutaire\" permet d'indiquer le montant demandé à l'ANR pour les primes et heures complémentaires pour le personnel statutaire."]
[]
[null,"2-2-3 Prestations de service, missions, dépenses sur facturation interne, autres dépenses :"]
[null,"Les montants sont à renseigner hors taxes (HT) augmenté éventuellement de la TVA non récupérable. En conséquence, les montants indiqués doivent prendre en compte la proportion x de TVA non récupérable fonction de l'organisme [coût = coût HT * (1+ x *0.20)]. "]
[null,"2-2-4 Frais de gestion "]
[null,"Les frais de gestion sont pris en compte pour le calcul du coût complet du projet (hors frais de structure). Pour le calcul de l'assiette, leur montant est pris en compte dans la limite d'un montant maximum. Le montant maximum des frais de gestion est calculé automatiquement aprés saisie du taux de frais de gestion dans la case appropriée.\n"]
[null,"2-2-5 Frais d'environnement "]
[null,"Ceci concerne exclusivement les établissements publics financés sur la base du coût marginal. "]
[null,"Pour le calcul du coût complet, il faut ajouter aux coûts salariaux totaux des personnels leurs frais d'environnement (ex coûts d'infrastructures). Les frais d'environnement sont égaux au produit de ces coûts salariaux totaux par le taux d'environnement propre à l'organisme. Les frais d'environnement sont calculés automatiquement.\nex : pour un institut dont le taux d'environnement est à l'heure actuelle de 80 % : vous devez alors renseigner la valeur du taux d'environnement (ex: inscrire 80 pour un taux de 80 %) de l'organisme assurant la tutelle de gestion du partenaire pour le projet. Le taux étant propre à l'organisme, vous devez le consulter pour connaitre le taux applicable."]
[null,"2-2-6 Coût complet, aide demandée"]
[null,"Calculés automatiquement."]
[null,"Le coût complet correspondant à la participation du partenaire est calculé automatiquement à partir de l'ensemble des données rentrées dans les tableaux, du montant des frais de gestion/frais de structure déclaré et, pour les organismes publics financés sur la base du coût marginal et des frais d'environnement."]
[null,"Le montant de l'aide demandée est calculée automatiquement à partir de certaines données rentrées dans le tableau, du montant des frais de gestion dans la limite d'un montant maximum."]
[null,"2-3 Participation au projet et autres soutiens financiers"]
[null,"Le tableau \"Autres soutiens financiers sollicités ou obtenus pour le projet\" doit faire l'objet d'une attention particulière : en effet, ce tableau doit indiquer tous les cofinancements au projet qu'ils soient obtenus ou sollicités. L'identification du financeur, la nature du financement  doivent être clairement précisés."]

{"sheet":"voletGeneral","index":2,"n_rows":135,"n_cols":17,"rows_kept":135,"cut":false,"hidden":false,"merged":[[132,2,132,7],[134,1,134,7],[65,2,65,7],[65,8,65,9],[65,10,65,11],[65,12,65,13],[105,2,105,7],[133,2,133,7],[122,2,122,7],[123,2,123,7],[124,2,124,7],[125,2,125,7],[126,2,126,7],[127,2,127,7],[128,2,128,7],[129,2,129,7],[130,2,130,7],[113,2,113,7],[114,2,114,7],[115,2,115,7],[116,2,116,7],[117,2,117,7],[118,2,118,7],[73,12,73,13],[64,2,64,7],[64,8,64,9],[64,10,64,11],[62,8,62,9],[45,8,45,9],[46,12,46,13],[58,2,58,7],[58,8,58,9],[131,2,131,7],[119,2,119,7],[120,2,120,7],[121,2,121,7],[108,1,108,13],[110,1,112,1],[110,2,112,7],[110,8,112,8],[110,9,112,9],[110,10,112,10],[110,11,112,11],[110,12,112,12],[110,13,112,13],[48,2,48,7],[48,8,48,9],[48,10,48,11],[48,12,48,13],[62,12,62,13],[49,12,49,13],[50,2,50,7],[50,8,50,9],[50,10,50,11],[50,12,50,13],[51,2,51,7],[51,8,51,9],[51,10,51,11],[51,12,51,13],[52,2,52,7],[52,8,52,9],[61,12,61,13],[62,2,62,7],[58,10,58,11],[58,12,58,13],[49,2,49,7],[59,2,59,7],[59,8,59,9],[59,10,59,11],[59,12,59,13],[60,2,60,7],[60,8,60,9],[0,2,1,9],[0,10,0,13],[1,10,1,11],[1,12,1,13],[2,2,3,9],[4,0,4,9],[10,1,11,5],[14,1,14,13],[12,1,12,5],[2,10,2,11],[3,10,3,11],[0,0,3,1],[7,0,7,13],[6,0,6,13],[2,12,2,13],[9,1,9,5],[10,7,10,13],[9,7,9,9],[3,12,3,13],[4,10,4,13],[12,7,12,9],[11,7,11,13],[16,1,16,4],[26,1,26,7],[28,1,28,7],[27,1,27,7],[22,1,22,7],[25,1,25,7],[23,1,23,7],[24,1,24,7],[21,1,21,13],[28,8,28,13],[27,8,27,13],[24,8,24,13],[16,5,16,8],[35,10,35,11],[17,5,17,8],[18,5,18,8],[23,8,23,13],[22,8,22,13],[19,5,19,8],[32,10,32,11],[32,12,32,13],[25,8,25,13],[26,8,26,13],[32,1,32,7],[30,1,30,13],[33,1,33,7],[32,8,32,9],[34,8,34,9],[35,8,35,9],[35,12,35,13],[33,8,33,9],[33,10,33,11],[19,1,19,4],[17,1,17,4],[18,1,18,4],[34,12,34,13],[33,12,33,13],[36,12,36,13],[38,8,38,9],[40,8,40,9],[36,10,36,11],[36,8,36,9],[40,1,40,7],[38,1,38,7],[47,8,47,9],[47,10,47,11],[47,12,47,13],[36,1,36,7],[42,1,42,13],[37,12,37,13],[38,10,38,11],[40,12,40,13],[38,12,38,13],[46,10,46,11],[46,8,46,9],[39,12,39,13],[47,2,47,7],[44,12,44,13],[44,8,44,9],[40,10,40,11],[35,1,35,7],[34,1,34,7],[66,1,66,7],[66,8,66,9],[44,10,44,11],[34,10,34,11],[39,1,39,7],[39,8,39,9],[39,10,39,11],[37,1,37,7],[37,8,37,9],[37,10,37,11],[54,8,54,9],[54,10,54,11],[55,2,55,7],[55,8,55,9],[55,10,55,11],[56,2,56,7],[56,8,56,9],[56,10,56,11],[61,2,61,7],[61,8,61,9],[61,10,61,11],[44,2,44,7],[73,10,73,11],[73,1,73,7],[73,8,73,9],[64,12,64,13],[54,12,54,13],[55,12,55,13],[56,12,56,13],[45,10,45,11],[72,1,72,7],[72,12,72,13],[72,8,72,9],[71,1,71,7],[70,12,70,13],[71,12,71,13],[70,10,70,11],[72,10,72,11],[71,10,71,11],[63,2,63,7],[63,8,63,9],[63,10,63,11],[63,12,63,13],[45,12,45,13],[46,2,46,7],[45,2,45,7],[60,10,60,11],[60,12,60,13],[49,8,49,9],[49,10,49,11],[52,10,52,11],[52,12,52,13],[53,2,53,7],[53,8,53,9],[53,10,53,11],[53,12,53,13],[57,2,57,7],[57,8,57,9],[57,10,57,11],[57,12,57,13],[54,2,54,7],[80,1,80,13],[85,2,85,7],[82,2,84,7],[82,1,84,1],[82,8,84,8],[82,9,84,9],[82,10,84,10],[82,11,84,11],[62,10,62,11],[66,10,66,11],[66,12,66,13],[71,8,71,9],[70,8,70,9],[68,1,68,13],[70,1,70,7],[78,1,78,7],[77,1,77,2],[78,11,78,13],[78,8,78,10],[77,11,77,13],[77,8,77,10],[82,12,84,12],[82,13,84,13],[75,1,75,13],[104,2,104,7],[106,1,106,7],[101,2,101,7],[102,2,102,7],[103,2,103,7],[98,2,98,7],[99,2,99,7],[100,2,100,7],[95,2,95,7],[96,2,96,7],[97,2,97,7],[92,2,92,7],[93,2,93,7],[94,2,94,7],[89,2,89,7],[90,2,90,7],[91,2,91,7],[86,2,86,7],[87,2,87,7],[88,2,88,7]]}
[null,null,{"$f":"\"Appel à projets EUR\"","v":"Appel à projets EUR"},null,null,null,null,null,null,null,"Réservé à l'organisme gestionnaire du programme"]
[null,null,null,null,null,null,null,null,null,null,"N° de dossier",null,"ANR-17-EUR-XXXX"]
[null,null,"Investissements d'Avenir - Agence Nationale de la Recherche",null,null,null,null,null,null,null,"Acronyme",null,{"$f":"IF(H10<>\"\",H10,\" \")","v":" "}]
[null,null,null,null,null,null,null,null,null,null,"Nombre de partenaires",null,{"$f":"SUM(A46:A66)","v":0},null,{"$f":"COUNTA(I46:J66)-1","v":20}]
["Document financier",null,null,null,null,null,null,null,null,null,"Edition 2017"]
[]
["Volet général"]
["Fiche d'identité du proIet"]
[]
[null,"Acronyme du projet"]
[null,"Titre du projet",null,null,null,null,"en francais"]
[null,null,null,null,null,null,"en anglais"]
[null,"Durée du projet (en mois)"]
[]
[null,"Responsable du projet"]
[]
[null,"Nom",null,null,null,"Prénom"]
[]
[null,"Courriel",null,null,null,"Téléphone"]
[]
[]
[null,"Adresse postale professionnelle"]
[null,"Bâtiment, n° de bureau"]
[null,"Numéro de voie"]
[null,"Type et nom de voie"]
[null,"Code postal"]
[null,"Ville"]
[null,"Cédex"]
[null,"Pays"]
[]
[null,"Récapitulatif des demandes financières par destination"]
[]
[null,"Description",null,null,null,null,null,null,"Coût total",null,"Aide demandée",null,"Apport"]
[null,"Equipement",null,null,null,null,null,null,{"$f":"I135","v":0},null,{"$f":"I107","v":0},null,{"$f":"I34-K34","v":0}]
[null,"Personnels",null,null,null,null,null,null,{"$f":"J135","v":0},null,{"$f":"J107","v":0},null,{"$f":"I35-K35","v":0}]
[null,"Fonctionnement",null,null,null,null,null,null,{"$f":"K135","v":0},null,{"$f":"K107","v":0},null,0]
[null,"Facturation interne",null,null,null,null,null,null,{"$f":"L135","v":0},null,{"$f":"L107","v":0},null,0]
[null,"Frais de structure",null,null,null,null,null,null,{"$f":"M135","v":0},null,{"$f":"M107","v":0},null,0]
[null,"Frais de gestion",null,null,null,null,null,null,{"$f":"N135","v":0},null,{"$f":"N107","v":0},null,0,null,"Frais de gestion sur coûts complets :"]
[null,"Frais d'environnement",null,null,null,null,null,null,{"$f":"O135","v":0},null,{"$f":"O107","v":0},null,0]
[null,"Total",null,null,null,null,null,null,{"$f":"SUM(I34:I40)","v":0},null,{"$f":"SUM(K34:K40)","v":0},null,{"$f":"SUM(M34:M40)","v":0},null,"oui"]
[]
[null,"Récapitulatif des demandes financières par partenaire"]
[]
[null,"Type","Nom du partenaire",null,null,null,null,null,"Coût total",null,"Aide demandée",null,"Apport"]
[{"$f":"IF(C46<>\"\",1,0)","v":0},{"$f":"IF('part1-Coord'!D$10=\"\",\"\",'part1-Coord'!D$10)","v":""},{"$f":"IF('part1-Coord'!$D$7<>\"\",'part1-Coord'!$D$7,\"\")","v":""},null,null,null,null,null,{"$f":"'part1-Coord'!$J$8","v":0},null,{"$f":"'part1-Coord'!$K$8","v":0},null,{"$f":"I46-K46","v":0}]
[{"$f":"IF(C47<>\"\",1,0)","v":0},{"$f":"IF(part2!D$10=\"\",\"\",part2!D$10)","v":""},{"$f":"IF(part2!$D$7<>\"\",part2!$D$7,\"\")","v":""},null,null,null,null,null,{"$f":"part2!$J$8","v":0},null,{"$f":"part2!$K$8","v":0},null,{"$f":"part2!$I$111","v":0}]
[0,{"$f":"IF(part3!D$10=\"\",\"\",part3!D$10)","v":""},{"$f":"IF(part3!$D$7<>\"\",part3!$D$7,\"\")","v":""},null,null,null,null,null,{"$f":"part3!$J$8","v":0},null,{"$f":"part3!$K$8","v":0},null,{"$f":"part3!$I$111","v":0}]
[0,{"$f":"IF(part4!D$10=\"\",\"\",part4!D$10)","v":""},{"$f":"IF(part4!$D$7<>\"\",part4!$D$7,\"\")","v":""},null,null,null,null,null,{"$f":"part4!$J$8","v":0},null,{"$f":"part4!$K$8","v":0},null,{"$f":"part4!$I$111","v":0}]
[0,{"$f":"IF(part5!D$10=\"\",\"\",part5!D$10)","v":""},{"$f":"IF(part5!$D$7<>\"\",part5!$D$7,\"\")","v":""},null,null,null,null,null,{"$f":"part5!$J$8","v":0},null,{"$f":"part5!$K$8","v":0},null,{"$f":"part5!$I$111","v":0}]
[0,{"$f":"IF(part6!D$10=\"\",\"\",part6!D$10)","v":""},{"$f":"IF(part6!$D$7<>\"\",part6!$D$7,\"\")","v":""},null,null,null,null,null,{"$f":"part6!$J$8","v":0},null,{"$f":"part6!$K$8","v":0},null,{"$f":"part6!$I$111","v":0}]
[0,{"$f":"IF(part7!D$10=\"\",\"\",part7!D$10)","v":""},{"$f":"IF(part7!$D$7<>\"\",part7!$D$7,\"\")","v":""},null,null,null,null,null,{"$f":"part7!$J$8","v":0},null,{"$f":"part7!$K$8","v":0},null,{"$f":"part7!$I$111","v":0}]
[0,{"$f":"IF(part8!D$10=\"\",\"\",part8!D$10)","v":""},{"$f":"IF(part8!$D$7<>\"\",part8!$D$7,\"\")","v":""},null,null,null,null,null,{"$f":"part8!$J$8","v":0},null,{"$f":"part8!$K$8","v":0},null,{"$f":"part8!$I$111","v":0}]
[0,{"$f":"IF(part9!D$10=\"\",\"\",part9!D$10)","v":""},{"$f":"IF(part9!$D$7<>\"\",part9!$D$7,\"\")","v":""},null,null,null,null,null,{"$f":"part9!$J$8","v":0},null,{"$f":"part9!$K$8","v":0},null,{"$f":"part9!$I$111","v":0}]
[0,{"$f":"IF(part10!D$10=\"\",\"\",part10!D$10)","v":""},{"$f":"IF(part10!$D$7<>\"\",part10!$D$7,\"\")","v":""},null,null,null,null,null,{"$f":"part10!$J$8","v":0},null,{"$f":"part10!$K$8","v":0},null,{"$f":"part10!$I$111","v":0}]
[0,{"$f":"IF(part11!D$10=\"\",\"\",part11!D$10)","v":""},{"$f":"IF(part11!$D$7<>\"\",part11!$D$7,\"\")","v":""},null,null,null,null,null,{"$f":"part11!$J$8","v":0},null,{"$f":"part11!$K$8","v":0},null,{"$f":"part11!$I$111","v":0}]
[0,{"$f":"IF(part12!D$10=\"\",\"\",part12!D$10)","v":""},{"$f":"IF(part12!$D$7<>\"\",part12!$D$7,\"\")","v":""},null,null,null,null,null,{"$f":"part12!$J$8","v":0},null,{"$f":"part12!$K$8","v":0},null,{"$f":"part12!$I$111","v":0}]
[0,{"$f":"IF(part13!D$10=\"\",\"\",part13!D$10)","v":""},{"$f":"IF(part13!$D$7<>\"\",part13!$D$7,\"\")","v":""},null,null,null,null,null,{"$f":"part13!$J$8","v":0},null,{"$f":"part13!$K$8","v":0},null,{"$f":"part13!$I$111","v":0}]
[0,{"$f":"IF(part14!D$10=\"\",\"\",part14!D$10)","v":""},{"$f":"IF(part14!$D$7<>\"\",part14!$D$7,\"\")","v":""},null,null,null,null,null,{"$f":"part14!$J$8","v":0},null,{"$f":"part14!$K$8","v":0},null,{"$f":"part14!$I$111","v":0}]
[0,{"$f":"IF(part15!D$10=\"\",\"\",part15!D$10)","v":""},{"$f":"IF(part15!$D$7<>\"\",part15!$D$7,\"\")","v":""},null,null,null,null,null,{"$f":"part15!$J$8","v":0},null,{"$f":"part15!$K$8","v":0},null,{"$f":"part15!$I$111","v":0}]
[0,{"$f":"IF(part16!D$10=\"\",\"\",part16!D$10)","v":""},{"$f":"IF(part16!$D$7<>\"\",part16!$D$7,\"\")","v":""},null,null,null,null,null,{"$f":"part16!$J$8","v":0},null,{"$f":"part16!$K$8","v":0},null,{"$f":"part16!$I$111","v":0}]
[0,{"$f":"IF(part17!D$10=\"\",\"\",part17!D$10)","v":""},{"$f":"IF(part17!$D$7<>\"\",part17!$D$7,\"\")","v":""},null,null,null,null,null,{"$f":"part17!$J$8","v":0},null,{"$f":"part17!$K$8","v":0},null,{"$f":"part17!$I$111","v":0}]
[0,{"$f":"IF(part18!D$10=\"\",\"\",part18!D$10)","v":""},{"$f":"IF(part18!$D$7<>\"\",part18!$D$7,\"\")","v":""},null,null,null,null,null,{"$f":"part18!$J$8","v":0},null,{"$f":"part18!$K$8","v":0},null,{"$f":"part18!$I$111","v":0}]
[0,{"$f":"IF(part19!D$10=\"\",\"\",part19!D$10)","v":""},{"$f":"IF(part19!$D$7<>\"\",part19!$D$7,\"\")","v":""},null,null,null,null,null,{"$f":"part19!$J$8","v":0},null,{"$f":"part19!$K$8","v":0},null,{"$f":"part19!$I$111","v":0}]
[0,{"$f":"IF(part20!D$10=\"\",\"\",part20!D$10)","v":""},{"$f":"IF(part20!$D$7<>\"\",part20!$D$7,\"\")","v":""},null,null,null,null,null,{"$f":"part20!$J$8","v":0},null,{"$f":"part20!$K$8","v":0},null,{"$f":"part20!$I$111","v":0}]
[0,{"$f":"IF(partVide!D$10=\"\",\"\",partVide!D$10)","v":""},{"$f":"IF(partVide!$D$7<>\"\",partVide!$D$7,\"\")","v":""},null,null,null,null,null,{"$f":"partVide!$J$8","v":0},null,{"$f":"partVide!$K$8","v":0},null,{"$f":"partVide!$I$111","v":0}]
[null,"Total",null,null,null,null,null,null,{"$f":"SUM(I46:I66)","v":0},null,{"$f":"SUM(K46:K66)","v":0},null,{"$f":"SUM(M46:M66)","v":0}]
[]
[null,"Récapitulatif des demandes financières par type de partenaire"]
[]
[null,"Types de partenaires",null,null,null,null,null,null,"Coût total",null,"Aide demandée",null,"Apport"]
[null,"Publics",null,null,null,null,null,null,{"$f":"SUMIF($B46:H66,\"*Pub*\",I46:I66)","v":0},null,{"$f":"SUMIF($B46:L66,\"*Pub*\",K46:L66)","v":0},null,{"$f":"I72-K72","v":0}]
[null,"Privés",null,null,null,null,null,null,{"$f":"SUMIF($B46:H66,\"*Priv*\",I46:I66)","v":0},null,null,null,{"$f":"I73-K73","v":0}]
[null,"Total",null,null,null,null,null,null,{"$f":"SUM(I72:I73)","v":0},null,{"$f":"SUM(K72:L73)","v":0},null,{"$f":"SUM(M72:N73)","v":0}]
[]
[null,"Récapitulatif des co-finanacements"]
[]
[null,null,null,null,null,null,null,null,"Demandés",null,null,"Obtenus"]
[null,"Cofinancements",null,null,null,null,null,null,{"$f":"P107","v":0},null,null,{"$f":"Q107","v":0}]
[]
[null,"Récapitulatif des aides demandées par partenaire et par catégorie"]
[]
[null,"Type","Nom du partenaire",null,null,null,null,null,"Equipement","Personnel","Fonctionnement","Facturation interne","Frais de structure","Frais de gestion"]
[]
[]
[null,{"$f":"IF('part1-Coord'!D$10=\"\",\"\",'part1-Coord'!D$10)","v":""},{"$f":"IF('part1-Coord'!$D$7<>\"\",'part1-Coord'!$D$7,\"\")","v":""},null,null,null,null,null,{"$f":"'part1-Coord'!$K$1","v":0},{"$f":"'part1-Coord'!$K$2","v":0},{"$f":"'part1-Coord'!$K$3","v":0},{"$f":"'part1-Coord'!$K$4","v":0},{"$f":"'part1-Coord'!$K$5","v":0},{"$f":"'part1-Coord'!$K$6","v":0},{"$f":"'part1-Coord'!$K$7","v":0},{"$f":"'part1-Coord'!$J$9","v":0},{"$f":"'part1-Coord'!$K$9","v":0}]
[null,{"$f":"IF(part2!D$10=\"\",\"\",part2!D$10)","v":""},{"$f":"IF(part2!$D$7<>\"\",part2!$D$7,\"\")","v":""},null,null,null,null,null,{"$f":"part2!$K$1","v":0},{"$f":"part2!$K$2","v":0},{"$f":"part2!$K$3","v":0},{"$f":"part2!$K$4","v":0},{"$f":"part2!$K$5","v":0},{"$f":"part2!$K$6","v":0},{"$f":"part2!$K$7","v":0},{"$f":"part2!$J$9","v":0},{"$f":"part2!$K$9","v":0}]
[null,{"$f":"IF(part3!D$10=\"\",\"\",part3!D$10)","v":""},{"$f":"IF(part3!$D$7<>\"\",part3!$D$7,\"\")","v":""},null,null,null,null,null,{"$f":"part3!$K$1","v":0},{"$f":"part3!$K$2","v":0},{"$f":"part3!$K$3","v":0},{"$f":"part3!$K$4","v":0},{"$f":"part3!$K$5","v":0},{"$f":"part3!$K$6","v":0},{"$f":"part3!$K$7","v":0},{"$f":"part3!$J$9","v":0},{"$f":"part3!$K$9","v":0}]
[null,{"$f":"IF(part4!D$10=\"\",\"\",part4!D$10)","v":""},{"$f":"IF(part4!$D$7<>\"\",part4!$D$7,\"\")","v":""},null,null,null,null,null,{"$f":"part4!$K$1","v":0},{"$f":"part4!$K$2","v":0},{"$f":"part4!$K$3","v":0},{"$f":"part4!$K$4","v":0},{"$f":"part4!$K$5","v":0},{"$f":"part4!$K$6","v":0},{"$f":"part4!$K$7","v":0},{"$f":"part4!$J$9","v":0},{"$f":"part4!$K$9","v":0}]
[null,{"$f":"IF(part5!D$10=\"\",\"\",part5!D$10)","v":""},{"$f":"IF(part5!$D$7<>\"\",part5!$D$7,\"\")","v":""},null,null,null,null,null,{"$f":"part5!$K$1","v":0},{"$f":"part5!$K$2","v":0},{"$f":"part5!$K$3","v":0},{"$f":"part5!$K$4","v":0},{"$f":"part5!$K$5","v":0},{"$f":"part5!$K$6","v":0},{"$f":"part5!$K$7","v":0},{"$f":"part5!$J$9","v":0},{"$f":"part5!$K$9","v":0}]
[null,{"$f":"IF(part6!D$10=\"\",\"\",part6!D$10)","v":""},{"$f":"IF(part6!$D$7<>\"\",part6!$D$7,\"\")","v":""},null,null,null,null,null,{"$f":"part6!$K$1","v":0},{"$f":"part6!$K$2","v":0},{"$f":"part6!$K$3","v":0},{"$f":"part6!$K$4","v":0},{"$f":"part6!$K$5","v":0},{"$f":"part6!$K$6","v":0},{"$f":"part6!$K$7","v":0},{"$f":"part6!$J$9","v":0},{"$f":"part6!$K$9","v":0}]
[null,{"$f":"IF(part7!D$10=\"\",\"\",part7!D$10)","v":""},{"$f":"IF(part7!$D$7<>\"\",part7!$D$7,\"\")","v":""},null,null,null,null,null,{"$f":"part7!$K$1","v":0},{"$f":"part7!$K$2","v":0},{"$f":"part7!$K$3","v":0},{"$f":"part7!$K$4","v":0},{"$f":"part7!$K$5","v":0},{"$f":"part7!$K$6","v":0},{"$f":"part7!$K$7","v":0},{"$f":"part7!$J$9","v":0},{"$f":"part7!$K$9","v":0}]
[null,{"$f":"IF(part8!D$10=\"\",\"\",part8!D$10)","v":""},{"$f":"IF(part8!$D$7<>\"\",part8!$D$7,\"\")","v":""},null,null,null,null,null,{"$f":"part8!$K$1","v":0},{"$f":"part8!$K$2","v":0},{"$f":"part8!$K$3","v":0},{"$f":"part8!$K$4","v":0},{"$f":"part8!$K$5","v":0},{"$f":"part8!$K$6","v":0},{"$f":"part8!$K$7","v":0},{"$f":"part8!$J$9","v":0},{"$f":"part8!$K$9","v":0}]
[null,{"$f":"IF(part9!D$10=\"\",\"\",part9!D$10)","v":""},{"$f":"IF(part9!$D$7<>\"\",part9!$D$7,\"\")","v":""},null,null,null,null,null,{"$f":"part9!$K$1","v":0},{"$f":"part9!$K$2","v":0},{"$f":"part9!$K$3","v":0},{"$f":"part9!$K$4","v":0},{"$f":"part9!$K$5","v":0},{"$f":"part9!$K$6","v":0},{"$f":"part9!$K$7","v":0},{"$f":"part9!$J$9","v":0},{"$f":"part9!$K$9","v":0}]
[null,{"$f":"IF(part10!D$10=\"\",\"\",part10!D$10)","v":""},{"$f":"IF(part10!$D$7<>\"\",part10!$D$7,\"\")","v":""},null,null,null,null,null,{"$f":"part10!$K$1","v":0},{"$f":"part10!$K$2","v":0},{"$f":"part10!$K$3","v":0},{"$f":"part10!$K$4","v":0},{"$f":"part10!$K$5","v":0},{"$f":"part10!$K$6","v":0},{"$f":"part10!$K$7","v":0},{"$f":"part10!$J$9","v":0},{"$f":"part10!$K$9","v":0}]
[null,{"$f":"IF(part11!D$10=\"\",\"\",part11!D$10)","v":""},{"$f":"IF(part11!$D$7<>\"\",part11!$D$7,\"\")","v":""},null,null,null,null,null,{"$f":"part11!$K$1","v":0},{"$f":"part11!$K$2","v":0},{"$f":"part11!$K$3","v":0},{"$f":"part11!$K$4","v":0},{"$f":"part11!$K$5","v":0},{"$f":"part11!$K$6","v":0},{"$f":"part11!$K$7","v":0},{"$f":"part11!$J$9","v":0},{"$f":"part11!$K$9","v":0}]
[null,{"$f":"IF(part12!D$10=\"\",\"\",part12!D$10)","v":""},{"$f":"IF(part12!$D$7<>\"\",part12!$D$7,\"\")","v":""},null,null,null,null,null,{"$f":"part12!$K$1","v":0},{"$f":"part12!$K$2","v":0},{"$f":"part12!$K$3","v":0},{"$f":"part12!$K$4","v":0},{"$f":"part12!$K$5","v":0},{"$f":"part12!$K$6","v":0},{"$f":"part12!$K$7","v":0},{"$f":"part12!$J$9","v":0},{"$f":"part12!$K$9","v":0}]
[null,{"$f":"IF(part13!D$10=\"\",\"\",part13!D$10)","v":""},{"$f":"IF(part13!$D$7<>\"\",part13!$D$7,\"\")","v":""},null,null,null,null,null,{"$f":"part13!$K$1","v":0},{"$f":"part13!$K$2","v":0},{"$f":"part13!$K$3","v":0},{"$f":"part13!$K$4","v":0},{"$f":"part13!$K$5","v":0},{"$f":"part13!$K$6","v":0},{"$f":"part13!$K$7","v":0},{"$f":"part13!$J$9","v":0},{"$f":"part13!$K$9","v":0}]
[null,{"$f":"IF(part14!D$10=\"\",\"\",part14!D$10)","v":""},{"$f":"IF(part14!$D$7<>\"\",part14!$D$7,\"\")","v":""},null,null,null,null,null,{"$f":"part14!$K$1","v":0},{"$f":"part14!$K$2","v":0},{"$f":"part14!$K$3","v":0},{"$f":"part14!$K$4","v":0},{"$f":"part14!$K$5","v":0},{"$f":"part14!$K$6","v":0},{"$f":"part14!$K$7","v":0},{"$f":"part14!$J$9","v":0},{"$f":"part14!$K$9","v":0}]
[null,{"$f":"IF(part15!D$10=\"\",\"\",part15!D$10)","v":""},{"$f":"IF(part15!$D$7<>\"\",part15!$D$7,\"\")","v":""},null,null,null,null,null,{"$f":"part15!$K$1","v":0},{"$f":"part15!$K$2","v":0},{"$f":"part15!$K$3","v":0},{"$f":"part15!$K$4","v":0},{"$f":"part15!$K$5","v":0},{"$f":"part15!$K$6","v":0},{"$f":"part15!$K$7","v":0},{"$f":"part15!$J$9","v":0},{"$f":"part15!$K$9","v":0}]
[null,{"$f":"IF(part16!D$10=\"\",\"\",part16!D$10)","v":""},{"$f":"IF(part16!$D$7<>\"\",part16!$D$7,\"\")","v":""},null,null,null,null,null,{"$f":"part16!$K$1","v":0},{"$f":"part16!$K$2","v":0},{"$f":"part16!$K$3","v":0},{"$f":"part16!$K$4","v":0},{"$f":"part16!$K$5","v":0},{"$f":"part16!$K$6","v":0},{"$f":"part16!$K$7","v":0},{"$f":"part16!$J$9","v":0},{"$f":"part16!$K$9","v":0}]
[null,{"$f":"IF(part17!D$10=\"\",\"\",part17!D$10)","v":""},{"$f":"IF(part17!$D$7<>\"\",part17!$D$7,\"\")","v":""},null,null,null,null,null,{"$f":"part17!$K$1","v":0},{"$f":"part17!$K$2","v":0},{"$f":"part17!$K$3","v":0},{"$f":"part17!$K$4","v":0},{"$f":"part17!$K$5","v":0},{"$f":"part17!$K$6","v":0},{"$f":"part17!$K$7","v":0},{"$f":"part17!$J$9","v":0},{"$f":"part17!$K$9","v":0}]
[null,{"$f":"IF(part18!D$10=\"\",\"\",part18!D$10)","v":""},{"$f":"IF(part18!$D$7<>\"\",part18!$D$7,\"\")","v":""},null,null,null,null,null,{"$f":"part18!$K$1","v":0},{"$f":"part18!$K$2","v":0},{"$f":"part18!$K$3","v":0},{"$f":"part18!$K$4","v":0},{"$f":"part18!$K$5","v":0},{"$f":"part18!$K$6","v":0},{"$f":"part18!$K$7","v":0},{"$f":"part18!$J$9","v":0},{"$f":"part18!$K$9","v":0}]
[null,{"$f":"IF(part19!D$10=\"\",\"\",part19!D$10)","v":""},{"$f":"IF(part19!$D$7<>\"\",part19!$D$7,\"\")","v":""},null,null,null,null,null,{"$f":"part19!$K$1","v":0},{"$f":"part19!$K$2","v":0},{"$f":"part19!$K$3","v":0},{"$f":"part19!$K$4","v":0},{"$f":"part19!$K$5","v":0},{"$f":"part19!$K$6","v":0},{"$f":"part19!$K$7","v":0},{"$f":"part19!$J$9","v":0},{"$f":"part19!$K$9","v":0}]
[null,{"$f":"IF(part20!D$10=\"\",\"\",part20!D$10)","v":""},{"$f":"IF(part20!$D$7<>\"\",part20!$D$7,\"\")","v":""},null,null,null,null,null,{"$f":"part20!$K$1","v":0},{"$f":"part20!$K$2","v":0},{"$f":"part20!$K$3","v":0},{"$f":"part20!$K$4","v":0},{"$f":"part20!$K$5","v":0},{"$f":"part20!$K$6","v":0},{"$f":"part20!$K$7","v":0},{"$f":"part20!$J$9","v":0},{"$f":"part20!$K$9","v":0}]
[null,{"$f":"IF(partVide!D$10=\"\",\"\",partVide!D$10)","v":""},{"$f":"IF(partVide!$D$7<>\"\",partVide!$D$7,\"\")","v":""},null,null,null,null,null,{"$f":"partVide!$K$1","v":0},{"$f":"partVide!$K$2","v":0},{"$f":"partVide!$K$3","v":0},{"$f":"partVide!$K$4","v":0},{"$f":"partVide!$K$5","v":0},{"$f":"partVide!$K$6","v":0},{"$f":"partVide!$K$7","v":0},{"$f":"partVide!$J$9","v":0},{"$f":"partVide!$K$9","v":0}]
[null,"Total",null,null,null,null,null,null,{"$f":"SUM(I86:I106)","v":0},{"$f":"SUM(J86:J106)","v":0},0,0,0,0,{"$f":"SUM(O86:O106)","v":0},{"$f":"SUM(P86:P106)","v":0},{"$f":"SUM(Q86:Q106)","v":0}]
[]
[null,"Récapitulatif des coûts totaux par partenaire et par catégorie"]
[]
[null,"Type","Nom du partenaire",null,null,null,null,null,"Equipement","Personnel","Fonctionnement","Facturation interne","Frais de structure","Frais de gestion"]
[]
[]
[null,{"$f":"IF('part1-Coord'!D$10=\"\",\"\",'part1-Coord'!D$10)","v":""},{"$f":"IF('part1-Coord'!$D$7<>\"\",'part1-Coord'!$D$7,\"\")","v":""},null,null,null,null,null,{"$f":"'part1-Coord'!$J$1","v":0},{"$f":"'part1-Coord'!$J$2","v":0},{"$f":"'part1-Coord'!$J$3","v":0},{"$f":"'part1-Coord'!$J$4","v":0},{"$f":"'part1-Coord'!$J$5","v":0},{"$f":"'part1-Coord'!$J$6","v":0},{"$f":"'part1-Coord'!$J$7","v":0}]
[null,{"$f":"IF(part2!D$10=\"\",\"\",part2!D$10)","v":""},{"$f":"IF(part2!$D$7<>\"\",part2!$D$7,\"\")","v":""},null,null,null,null,null,{"$f":"part2!$J$1","v":0},{"$f":"part2!$J$2","v":0},{"$f":"part2!$J$3","v":0},{"$f":"part2!$J$4","v":0},{"$f":"part2!$J$5","v":0},{"$f":"part2!$J$6","v":0},{"$f":"part2!$J$7","v":0}]
[null,{"$f":"IF(part3!D$10=\"\",\"\",part3!D$10)","v":""},{"$f":"IF(part3!$D$7<>\"\",part3!$D$7,\"\")","v":""},null,null,null,null,null,{"$f":"part3!$J$1","v":0},{"$f":"part3!$J$2","v":0},{"$f":"part3!$J$3","v":0},{"$f":"part3!$J$4","v":0},{"$f":"part3!$J$5","v":0},{"$f":"part3!$J$6","v":0},{"$f":"part3!$J$7","v":0}]
[null,{"$f":"IF(part4!D$10=\"\",\"\",part4!D$10)","v":""},{"$f":"IF(part4!$D$7<>\"\",part4!$D$7,\"\")","v":""},null,null,null,null,null,{"$f":"part4!$J$1","v":0},{"$f":"part4!$J$2","v":0},{"$f":"part4!$J$3","v":0},{"$f":"part4!$J$4","v":0},{"$f":"part4!$J$5","v":0},{"$f":"part4!$J$6","v":0},{"$f":"part4!$J$7","v":0}]
[null,{"$f":"IF(part5!D$10=\"\",\"\",part5!D$10)","v":""},{"$f":"IF(part5!$D$7<>\"\",part5!$D$7,\"\")","v":""},null,null,null,null,null,{"$f":"part5!$J$1","v":0},{"$f":"part5!$J$2","v":0},{"$f":"part5!$J$3","v":0},{"$f":"part5!$J$4","v":0},{"$f":"part5!$J$5","v":0},{"$f":"part5!$J$6","v":0},{"$f":"part5!$J$7","v":0}]
[null,{"$f":"IF(part6!D$10=\"\",\"\",part6!D$10)","v":""},{"$f":"IF(part6!$D$7<>\"\",part6!$D$7,\"\")","v":""},null,null,null,null,null,{"$f":"part6!$J$1","v":0},{"$f":"part6!$J$2","v":0},{"$f":"part6!$J$3","v":0},{"$f":"part6!$J$4","v":0},{"$f":"part6!$J$5","v":0},{"$f":"part6!$J$6","v":0},{"$f":"part6!$J$7","v":0}]
[null,{"$f":"IF(part7!D$10=\"\",\"\",part7!D$10)","v":""},{"$f":"IF(part7!$D$7<>\"\",part7!$D$7,\"\")","v":""},null,null,null,null,null,{"$f":"part7!$J$1","v":0},{"$f":"part7!$J$2","v":0},{"$f":"part7!$J$3","v":0},{"$f":"part7!$J$4","v":0},{"$f":"part7!$J$5","v":0},{"$f":"part7!$J$6","v":0},{"$f":"part7!$J$7","v":0}]
[null,{"$f":"IF(part8!D$10=\"\",\"\",part8!D$10)","v":""},{"$f":"IF(part8!$D$7<>\"\",part8!$D$7,\"\")","v":""},null,null,null,null,null,{"$f":"part8!$J$1","v":0},{"$f":"part8!$J$2","v":0},{"$f":"part8!$J$3","v":0},{"$f":"part8!$J$4","v":0},{"$f":"part8!$J$5","v":0},{"$f":"part8!$J$6","v":0},{"$f":"part8!$J$7","v":0}]
[null,{"$f":"IF(part9!D$10=\"\",\"\",part9!D$10)","v":""},{"$f":"IF(part9!$D$7<>\"\",part9!$D$7,\"\")","v":""},null,null,null,null,null,{"$f":"part9!$J$1","v":0},{"$f":"part9!$J$2","v":0},{"$f":"part9!$J$3","v":0},{"$f":"part9!$J$4","v":0},{"$f":"part9!$J$5","v":0},{"$f":"part9!$J$6","v":0},{"$f":"part9!$J$7","v":0}]
[null,{"$f":"IF(part10!D$10=\"\",\"\",part10!D$10)","v":""},{"$f":"IF(part10!$D$7<>\"\",part10!$D$7,\"\")","v":""},null,null,null,null,null,{"$f":"part10!$J$1","v":0},{"$f":"part10!$J$2","v":0},{"$f":"part10!$J$3","v":0},{"$f":"part10!$J$4","v":0},{"$f":"part10!$J$5","v":0},{"$f":"part10!$J$6","v":0},{"$f":"part10!$J$7","v":0}]
[null,{"$f":"IF(part11!D$10=\"\",\"\",part11!D$10)","v":""},{"$f":"IF(part11!$D$7<>\"\",part11!$D$7,\"\")","v":""},null,null,null,null,null,{"$f":"part11!$J$1","v":0},{"$f":"part11!$J$2","v":0},{"$f":"part11!$J$3","v":0},{"$f":"part11!$J$4","v":0},{"$f":"part11!$J$5","v":0},{"$f":"part11!$J$6","v":0},{"$f":"part11!$J$7","v":0}]
[null,{"$f":"IF(part12!D$10=\"\",\"\",part12!D$10)","v":""},{"$f":"IF(part12!$D$7<>\"\",part12!$D$7,\"\")","v":""},null,null,null,null,null,{"$f":"part12!$J$1","v":0},{"$f":"part12!$J$2","v":0},{"$f":"part12!$J$3","v":0},{"$f":"part12!$J$4","v":0},{"$f":"part12!$J$5","v":0},{"$f":"part12!$J$6","v":0},{"$f":"part12!$J$7","v":0}]
[null,{"$f":"IF(part13!D$10=\"\",\"\",part13!D$10)","v":""},{"$f":"IF(part13!$D$7<>\"\",part13!$D$7,\"\")","v":""},null,null,null,null,null,{"$f":"part13!$J$1","v":0},{"$f":"part13!$J$2","v":0},{"$f":"part13!$J$3","v":0},{"$f":"part13!$J$4","v":0},{"$f":"part13!$J$5","v":0},{"$f":"part13!$J$6","v":0},{"$f":"part13!$J$7","v":0}]
[null,{"$f":"IF(part14!D$10=\"\",\"\",part14!D$10)","v":""},{"$f":"IF(part14!$D$7<>\"\",part14!$D$7,\"\")","v":""},null,null,null,null,null,{"$f":"part14!$J$1","v":0},{"$f":"part14!$J$2","v":0},{"$f":"part14!$J$3","v":0},{"$f":"part14!$J$4","v":0},{"$f":"part14!$J$5","v":0},{"$f":"part14!$J$6","v":0},{"$f":"part14!$J$7","v":0}]
[null,{"$f":"IF(part15!D$10=\"\",\"\",part15!D$10)","v":""},{"$f":"IF(part15!$D$7<>\"\",part15!$D$7,\"\")","v":""},null,null,null,null,null,{"$f":"part15!$J$1","v":0},{"$f":"part15!$J$2","v":0},{"$f":"part15!$J$3","v":0},{"$f":"part15!$J$4","v":0},{"$f":"part15!$J$5","v":0},{"$f":"part15!$J$6","v":0},{"$f":"part15!$J$7","v":0}]
[null,{"$f":"IF(part16!D$10=\"\",\"\",part16!D$10)","v":""},{"$f":"IF(part16!$D$7<>\"\",part16!$D$7,\"\")","v":""},null,null,null,null,null,{"$f":"part16!$J$1","v":0},{"$f":"part16!$J$2","v":0},{"$f":"part16!$J$3","v":0},{"$f":"part16!$J$4","v":0},{"$f":"part16!$J$5","v":0},{"$f":"part16!$J$6","v":0},{"$f":"part16!$J$7","v":0}]
[null,{"$f":"IF(part17!D$10=\"\",\"\",part17!D$10)","v":""},{"$f":"IF(part17!$D$7<>\"\",part17!$D$7,\"\")","v":""},null,null,null,null,null,{"$f":"part17!$J$1","v":0},{"$f":"part17!$J$2","v":0},{"$f":"part17!$J$3","v":0},{"$f":"part17!$J$4","v":0},{"$f":"part17!$J$5","v":0},{"$f":"part17!$J$6","v":0},{"$f":"part17!$J$7","v":0}]
[null,{"$f":"IF(part18!D$10=\"\",\"\",part18!D$10)","v":""},{"$f":"IF(part18!$D$7<>\"\",part18!$D$7,\"\")","v":""},null,null,null,null,null,{"$f":"part18!$J$1","v":0},{"$f":"part18!$J$2","v":0},{"$f":"part18!$J$3","v":0},{"$f":"part18!$J$4","v":0},{"$f":"part18!$J$5","v":0},{"$f":"part18!$J$6","v":0},{"$f":"part18!$J$7","v":0}]
[null,{"$f":"IF(part19!D$10=\"\",\"\",part19!D$10)","v":""},{"$f":"IF(part19!$D$7<>\"\",part19!$D$7,\"\")","v":""},null,null,null,null,null,{"$f":"part19!$J$1","v":0},{"$f":"part19!$J$2","v":0},{"$f":"part19!$J$3","v":0},{"$f":"part19!$J$4","v":0},{"$f":"part19!$J$5","v":0},{"$f":"part19!$J$6","v":0},{"$f":"part19!$J$7","v":0}]
[null,{"$f":"IF(part20!D$10=\"\",\"\",part20!D$10)","v":""},{"$f":"IF(part20!$D$7<>\"\",part20!$D$7,\"\")","v":""},null,null,null,null,null,{"$f":"part20!$J$1","v":0},{"$f":"part20!$J$2","v":0},{"$f":"part20!$J$3","v":0},{"$f":"part20!$J$4","v":0},{"$f":"part20!$J$5","v":0},{"$f":"part20!$J$6","v":0},{"$f":"part20!$J$7","v":0}]
[null,{"$f":"IF(partVide!D$10=\"\",\"\",partVide!D$10)","v":""},{"$f":"IF(partVide!$D$7<>\"\",partVide!$D$7,\"\")","v":""},null,null,null,null,null,{"$f":"partVide!$J$1","v":0},{"$f":"partVide!$J$2","v":0},{"$f":"partVide!$J$3","v":0},{"$f":"partVide!$J$4","v":0},{"$f":"partVide!$J$5","v":0},{"$f":"partVide!$J$6","v":0},{"$f":"partVide!$J$7","v":0}]
[null,"Total",null,null,null,null,null,null,{"$f":"SUM(I114:I134)","v":0},{"$f":"SUM(J114:J134)","v":0},0,0,0,0,{"$f":"SUM(O114:P134)","v":0}]

{"sheet":"listesDeroulantes","index":3,"n_rows":23,"n_cols":1,"rows_kept":23,"cut":false,"hidden":true,"merged":[]}
["Onglet Partenaire X"]
["Secteur d'activité du partenaire"]
["Public"]
["Privé"]
["Type de partenaire"]
["Petite entreprise"]
["Moyenne entreprise"]
["Grande entreprise"]
["EPSCP"]
["EPST"]
["EPA"]
["FCS"]
["GIP"]
["Autre"]
["Genre"]
["Madame"]
["Monsieur"]
["Personnel"]
["Statutaire"]
["NS avec fin."]
["NS sans fin."]
["oui"]
["non"]

{"sheet":"tmp","index":4,"n_rows":0,"n_cols":0,"rows_kept":0,"cut":false,"hidden":true,"merged":[]}

{"sheet":"part1-Coord","index":5,"n_rows":135,"n_cols":16384,"rows_kept":7,"cut":true,"hidden":false,"merged":[[127,1,133,8],[125,1,125,8],[122,3,122,6],[123,1,123,3],[134,1,136,8],[121,3,121,6],[112,1,112,8],[82,1,82,5],[83,1,83,5],[84,1,84,5],[85,1,85,5],[86,1,86,5],[87,1,87,5],[88,1,88,5],[89,1,89,5],[90,1,90,5],[107,1,107,5],[105,1,105,8],[106,2,106,5],[104,1,104,8],[108,1,108,3],[109,1,109,3],[95,1,95,5],[96,1,96,5],[1,7,1,8],[2,5,2,6],[0,0,2,4],[0,5,0,8],[13,1,13,8],[16,3,16,8],[20,3,20,4],[17,3,17,8],[18,3,18,8],[19,3,19,8],[11,3,11,5],[10,3,10,5],[2,7,2,8],[6,3,7,8],[9,3,9,5],[8,3,8,5],[102,1,102,3],[1,5,1,6],[93,1,93,5],[94,1,94,5],[4,1,4,8],[6,2,7,2],[22,1,22,8],[25,1,25,3],[32,1,32,3],[36,1,36,2],[41,1,41,2],[81,1,81,8],[79,1,79,3],[80,1,80,3],[54,1,54,3],[60,1,60,3],[61,1,61,3],[23,1,23,8],[24,1,24,3],[35,1,35,2],[34,1,34,8],[68,1,68,3],[65,1,65,3],[38,1,38,2],[39,1,39,2],[47,1,47,3],[48,1,48,3],[58,1,58,3],[67,1,67,3],[57,1,57,3],[59,1,59,3],[40,1,40,2],[46,1,46,8],[26,1,26,3],[27,1,27,3],[28,1,28,3],[29,1,29,3],[30,1,30,3],[45,1,45,3],[120,3,120,6],[116,3,116,6],[117,3,117,6],[118,3,118,6],[119,3,119,6],[70,1,70,3],[71,1,71,3],[72,1,72,3],[73,1,73,3],[74,1,74,3],[75,1,75,3],[76,1,76,3],[114,3,114,6],[115,3,115,6],[114,1,114,2],[92,1,92,8],[91,1,91,3],[110,1,110,5],[78,1,78,3],[97,1,97,5],[98,1,98,5],[99,1,99,5],[100,1,100,5],[101,1,101,5],[33,1,33,3],[31,1,31,3],[37,1,37,2],[69,1,69,3],[77,1,77,3],[42,1,42,2],[43,1,43,2],[49,1,49,3],[55,1,55,3],[56,1,56,3],[50,1,50,3],[51,1,51,3],[52,1,52,3],[53,1,53,3],[66,1,66,3],[62,1,62,3],[63,1,63,3],[64,1,64,3]],"bounds":{"rows_first":3,"rows_last":1,"rows_between":3,"halvings":9}}
["Identification de l'établissement coordinateur",null,null,null,null,"Réservé à l'organisme gestionnaire du programme",null,null,null,{"$f":"G34","v":0},{"$f":"H34","v":0},null,0,0,0,0,0,0,0,0,0,0,0,0,0,0,0,0,0,0,0,0,0,0,0,0,0,0,0,0,0,0,0,0,0,0,0,0,0,0,0,0,0,0,0,0,0,0,0,0,0,0,0,0,0,0,0,0,0,0,0,0,0,0,{"$f":"BT34","v":0},0,0,0,0,0,0,0,0,0,0,0,0,0,0,0,0,0,0,0,0,0,0,0,0,0,0,0,0,0,0,0,0,0,0,0,0,0,0,0,0,0,0,0,0,0,0,0,0,0,0,0,0,0,0,0,0,0,0,0,0,0,0,0,{"$f":"EF34","v":0},0,0,0,0,0,0,0,0,0,0,0,0,0,0,0,0,0,0,0,0,0,0,0,0,0,0,0,0,0,0,0,0,0,0,0,0,0,0,0,0,0,0,0,0,0,0,0,0,0,0,0,0,0,0,0,0,0,0,0,0,0,0,0,{"$f":"GR34","v":0},0,0,0,0,0,0,0,0,0,0,0,0,0,0,0,0,0,0,0,0,0,0,0,0,0,0,0,0,0,0,0,0,0,0,0,0,0,0,0,0,0,0,0,0,0,0,0,0,0,0,0,0,0,0,0,0,0,0,0,0,0,0,0,{"$f":"JD34","v":0},0,0,0,0,0,0,0,0,0,0,0,0,0,0,0,0,0,0,0,0,0,0,0,0,0,0,0,0,0,0,0,0,0,0,0,0,0,0,0,0,0,0,0,0,0,0,0,0,0,0,0,0,0,0,0,0,0,0,0,0,0,0,0,{"$f":"LP34","v":0},0,0,0,0,0,0,0,0,0,0,0,0,0,0,0,0,0,0,0,0,0,0,0,0,0,0,0,0,0,0,0,0,0,0,0,0,0,0,0,0,0,0,0,0,0,0,0,0,0,0,0,0,0,0,0,0,0,0,0,0,0,0,0,{"$f":"OB34","v":0},0,0,0,0,0,0,0,0,0,0,0,0,0,0,0,0,0,0,0,0,0,0,0,0,0,0,0,0,0,0,0,0,0,0,0,0,0,0,0,0,0,0,0,0,0,0,0,0,0,0,0,0,0,0,0,0,0,0,0,0,0,0,0,{"$f":"QN34","v":0},0,0,0,0,0,0,0,0,0,0,0,0,0,0,0,0,0,0,0,0,0,0,0,0,0,0,0,0,0,0,0,0,0,0,0,0,0,0,0,0,0,0,0,0,0,0,0,0,0,0,0,0,0,0,0,0,0,0,0,0,0,0,0,{"$f":"SZ34","v":0},0,0,0,0,0,0,0,0,0,0,0,0,0,0,0,0,0,0,0,0,0,0,0,0,0,0,0,0,0,0,0,0,0,0,0,0,0,0,0,0,0,0,0,0,0,0,0,0,0,0,0,0,0,0,0,0,0,0,0,0,0,0,0,{"$f":"VL34","v":0},0,0,0,0,0,0,0,0,0,0,0,0,0,0,0,0,0,0,0,0,0,0,0,0,0,0,0,0,0,0,0,0,0,0,0,0,0,0,0,0,0,0,0,0,0,0,0,0,0,0,0,0,0,0,0,0,0,0,0,0,0,0,0,{"$f":"XX34","v":0},0,0,0,0,0,0,0,0,0,0,0,0,0,0,0,0,0,0,0,0,0,0,0,0,0,0,0,0,0,0,0,0,0,0,0,0,0,0,0,0,0,0,0,0,0,0,0,0,0,0,0,0,0,0,0,0,0,0,0,0,0,0,0,{"$f":"AAJ34","v":0},0,0,0,0,0,0,0,0,0,0,0,0,0,0,0,0,0,0,0,0,0,0,0,0,0,0,0,0,0,0,0,0,0,0,0,0,0,0,0,0,0,0,0,0,0,0,0,0,0,0,0,0,0,0,0,0,0,0,0,0,0,0,0,{"$f":"ACV34","v":0},0,0,0,0,0,0,0,0,0,0,0,0,0,0,0,0,0,0,0,0,0,0,0,0,0,0,0,0,0,0,0,0,0,0,0,0,0,0,0,0,0,0,0,0,0,0,0,0,0,0,0,0,0,0,0,0,0,0,0,0,0,0,0,{"$f":"AFH34","v":0},0,0,0,0,0,0,0,0,0,0,0,0,0,0,0,0,0,0,0,0,0,0,0,0,0,0,0,0,0,0,0,0,0,0,0,0,0,0,0,0,0,0,0,0,0,0,0,0,0,0,0,0,0,0,0,0,0,0,0,0,0,0,0,{"$f":"AHT34","v":0},0,0,0,0,0,0,0,0,0,0,0,0,0,0,0,0,0,0,0,0,0,0,0,0,0,0,0,0,0,0,0,0,0,0,0,0,0,0,0,0,0,0,0,0,0,0,0,0,0,0,0,0,0,0,0,0,0,0,0,0,0,0,0,{"$f":"AKF34","v":0},0,0,0,0,0,0,0,0,0,0,0,0,0,0,0,0,0,0,0,0,0,0,0,0,0,0,0,0,0,0,0,0,0,0,0,0,0,0,0,0,0,0,0,0,0,0,0,0,0,0,0,0,0,0,0,0,0,0,0,0,0,0,0,{"$f":"AMR34","v":0},0,0,0,0,0,0,0,0,0,0,0,0,0,0,0,0,0,0,0,0,0,0,0,0,0,0,0,0,0,0,0,0,0,0,0,0,0,0,0,0,0,0,0,0,0,0,0,0,0,0,0,0,0,0,0,0,0,0,0,0,0,0,0,{"$f":"APD34","v":0},0,0,0,0,0,0,0,0,0,0,0,0,0,0,0,0,0,0,0,0,0,0,0,0,0,0,0,0,0,0,0,0,0,0,0,0,0,0,0,0,0,0,0,0,0,0,0,0,0,0,0,0,0,0,0,0,0,0,0,0,0,0,0,{"$f":"ARP34","v":0},0,0,0,0,0,0,0,0,0,0,0,0,0,0,0,0,0,0,0,0,0,0,0,0,0,0,0,0,0,0,0,0,0,0,0,0,0,0,0,0,0,0,0,0,0,0,0,0,0,0,0,0,0,0,0,0,0,0,0,0,0,0,0,{"$f":"AUB34","v":0},0,0,0,0,0,0,0,0,0,0,0,0,0,0,0,0,0,0,0,0,0,0,0,0,0,0,0,0,0,0,0,0,0,0,0,0,0,0,0,0,0,0,0,0,0,0,0,0,0,0,0,0,0,0,0,0,0,0,0,0,0,0,0,{"$f":"AWN34","v":0},0,0,0,0,0,0,0,0,0,0,0,0,0,0,0,0,0,0,0,0,0,0,0,0,0,0,0,0,0,0,0,0,0,0,0,0,0,0,0,0,0,0,0,0,0,0,0,0,0,0,0,0,0,0,0,0,0,0,0,0,0,0,0,{"$f":"AYZ34","v":0},0,0,0,0,0,0,0,0,0,0,0,0,0,0,0,0,0,0,0,0,0,0,0,0,0,0,0,0,0,0,0,0,0,0,0,0,0,0,0,0,0,0,0,0,0,0,0,0,0,0,0,0,0,0,0,0,0,0,0,0,0,0,0,{"$f":"BBL34","v":0},0,0,0,0,0,0,0,0,0,0,0,0,0,0,0,0,0,0,0,0,0,0,0,0,0,0,0,0,0,0,0,0,0,0,0,0,0,0,0,0,0,0,0,0,0,0,0,0,0,0,0,0,0,0,0,0,0,0,0,0,0,0,0,{"$f":"BDX34","v":0},0,0,0,0,0,0,0,0,0,0,0,0,0,0,0,0,0,0,0,0,0,0,0,0,0,0,0,0,0,0,0,0,0,0,0,0,0,0,0,0,0,0,0,0,0,0,0,0,0,0,0,0,0,0,0,0,0,0,0,0,0,0,0,{"$f":"BGJ34","v":0},0,0,0,0,0,0,0,0,0,0,0,0,0,0,0,0,0,0,0,0,0,0,0,0,0,0,0,0,0,0,0,0,0,0,0,0,0,0,0,0,0,0,0,0,0,0,0,0,0,0,0,0,0,0,0,0,0,0,0,0,0,0,0,{"$f":"BIV34","v":0},0,0,0,0,0,0,0,0,0,0,0,0,0,0,0,0,0,0,0,0,0,0,0,0,0,0,0,0,0,0,0,0,0,0,0,0,0,0,0,0,0,0,0,0,0,0,0,0,0,0,0,0,0,0,0,0,0,0,0,0,0,0,0,{"$f":"BLH34","v":0},0,0,0,0,0,0,0,0,0,0,0,0,0,0,0,0,0,0,0,0,0,0,0,0,0,0,0,0,0,0,0,0,0,0,0,0,0,0,0,0,0,0,0,0,0,0,0,0,0,0,0,0,0,0,0,0,0,0,0,0,0,0,0,{"$f":"BNT34","v":0},0,0,0,0,0,0,0,0,0,0,0,0,0,0,0,0,0,0,0,0,0,0,0,0,0,0,0,0,0,0,0,0,0,0,0,0,0,0,0,0,0,0,0,0,0,0,0,0,0,0,0,0,0,0,0,0,0,0,0,0,0,0,0,{"$f":"BQF34","v":0},0,0,0,0,0,0,0,0,0,0,0,0,0,0,0,0,0,0,0,0,0,0,0,0,0,0,0,0,0,0,0,0,0,0,0,0,0,0,0,0,0,0,0,0,0,0,0,0,0,0,0,0,0,0,0,0,0,0,0,0,0,0,0,{"$f":"BSR34","v":0},0,0,0,0,0,0,0,0,0,0,0,0,0,0,0,0,0,0,0,0,0,0,0,0,0,0,0,0,0,0,0,0,0,0,0,0,0,0,0,0,0,0,0,0,0,0,0,0,0,0,0,0,0,0,0,0,0,0,0,0,0,0,0,{"$f":"BVD34","v":0},0,0,0,0,0,0,0,0,0,0,0,0,0,0,0,0,0,0,0,0,0,0,0,0,0,0,0,0,0,0,0,0,0,0,0,0,0,0,0,0,0,0,0,0,0,0,0,0,0,0,0,0,0,0,0,0,0,0,0,0,0,0,0,{"$f":"BXP34","v":0},0,0,0,0,0,0,0,0,0,0,0,0,0,0,0,0,0,0,0,0,0,0,0,0,0,0,0,0,0,0,0,0,0,0,0,0,0,0,0,0,0,0,0,0,0,0,0,0,0,0,0,0,0,0,0,0,0,0,0,0,0,0,0,{"$f":"CAB34","v":0},0,0,0,0,0,0,0,0,0,0,0,0,0,0,0,0,0,0,0,0,0,0,0,0,0,0,0,0,0,0,0,0,0,0,0,0,0,0,0,0,0,0,0,0,0,0,0,0,0,0,0,0,0,0,0,0,0,0,0,0,0,0,0,{"$f":"CCN34","v":0},0,0,0,0,0,0,0,0,0,0,0,0,0,0,0,0,0,0,0,0,0,0,0,0,0,0,0,0,0,0,0,0,0,0,0,0,0,0,0,0,0,0,0,0,0,0,0,0,0,0,0,0,0,0,0,0,0,0,0,0,0,0,0,{"$f":"CEZ34","v":0},0,0,0,0,0,0,0,0,0,0,0,0,0,0,0,0,0,0,0,0,0,0,0,0,0,0,0,0,0,0,0,0,0,0,0,0,0,0,0,0,0,0,0,0,0,0,0,0,0,0,0,0,0,0,0,0,0,0,0,0,0,0,0,{"$f":"CHL34","v":0},0,0,0,0,0,0,0,0,0,0,0,0,0,0,0,0,0,0,0,0,0,0,0,0,0,0,0,0,0,0,0,0,0,0,0,0,0,0,0,0,0,0,0,0,0,0,0,0,0,0,0,0,0,0,0,0,0,0,0,0,0,0,0,{"$f":"CJX34","v":0},0,0,0,0,0,0,0,0,0,0,0,0,0,0,0,0,0,0,0,0,0,0,0,0,0,0,0,0,0,0,0,0,0,0,0,0,0,0,0,0,0,0,0,0,0,0,0,0,0,0,0,0,0,0,0,0,0,0,0,0,0,0,0,{"$f":"CMJ34","v":0},0,0,0,0,0,0,0,0,0,0,0,0,0,0,0,0,0,0,0,0,0,0,0,0,0,0,0,0,0,0,0,0,0,0,0,0,0,0,0,0,0,0,0,0,0,0,0,0,0,0,0,0,0,0,0,0,0,0,0,0,0,0,0,{"$f":"COV34","v":0},0,0,0,0,0,0,0,0,0,0,0,0,0,0,0,0,0,0,0,0,0,0,0,0,0,0,0,0,0,0,0,0,0,0,0,0,0,0,0,0,0,0,0,0,0,0,0,0,0,0,0,0,0,0,0,0,0,0,0,0,0,0,0,{"$f":"CRH34","v":0},0,0,0,0,0,0,0,0,0,0,0,0,0,0,0,0,0,0,0,0,0,0,0,0,0,0,0,0,0,0,0,0,0,0,0,0,0,0,0,0,0,0,0,0,0,0,0,0,0,0,0,0,0,0,0,0,0,0,0,0,0,0,0,{"$f":"CTT34","v":0},0,0,0,0,0,0,0,0,0,0,0,0,0,0,0,0,0,0,0,0,0,0,0,0,0,0,0,0,0,0,0,0,0,0,0,0,0,0,0,0,0,0,0,0,0,0,0,0,0,0,0,0,0,0,0,0,0,0,0,0,0,0,0,{"$f":"CWF34","v":0},0,0,0,0,0,0,0,0,0,0,0,0,0,0,0,0,0,0,0,0,0,0,0,0,0,0,0,0,0,0,0,0,0,0,0,0,0,0,0,0,0,0,0,0,0,0,0,0,0,0,0,0,0,0,0,0,0,0,0,0,0,0,0,{"$f":"CYR34","v":0},0,0,0,0,0,0,0,0,0,0,0,0,0,0,0,0,0,0,0,0,0,0,0,0,0,0,0,0,0,0,0,0,0,0,0,0,0,0,0,0,0,0,0,0,0,0,0,0,0,0,0,0,0,0,0,0,0,0,0,0,0,0,0,{"$f":"DBD34","v":0},0,0,0,0,0,0,0,0,0,0,0,0,0,0,0,0,0,0,0,0,0,0,0,0,0,0,0,0,0,0,0,0,0,0,0,0,0,0,0,0,0,0,0,0,0,0,0,0,0,0,0,0,0,0,0,0,0,0,0,0,0,0,0,{"$f":"DDP34","v":0},0,0,0,0,0,0,0,0,0,0,0,0,0,0,0,0,0,0,0,0,0,0,0,0,0,0,0,0,0,0,0,0,0,0,0,0,0,0,0,0,0,0,0,0,0,0,0,0,0,0,0,0,0,0,0,0,0,0,0,0,0,0,0,{"$f":"DGB34","v":0},0,0,0,0,0,0,0,0,0,0,0,0,0,0,0,0,0,0,0,0,0,0,0,0,0,0,0,0,0,0,0,0,0,0,0,0,0,0,0,0,0,0,0,0,0,0,0,0,0,0,0,0,0,0,0,0,0,0,0,0,0,0,0,{"$f":"DIN34","v":0},0,0,0,0,0,0,0,0,0,0,0,0,0,0,0,0,0,0,0,0,0,0,0,0,0,0,0,0,0,0,0,0,0,0,0,0,0,0,0,0,0,0,0,0,0,0,0,0,0,0,0,0,0,0,0,0,0,0,0,0,0,0,0,{"$f":"DKZ34","v":0},0,0,0,0,0,0,0,0,0,0,0,0,0,0,0,0,0,0,0,0,0,0,0,0,0,0,0,0,0,0,0,0,0,0,0,0,0,0,0,0,0,0,0,0,0,0,0,0,0,0,0,0,0,0,0,0,0,0,0,0,0,0,0,{"$f":"DNL34","v":0},0,0,0,0,0,0,0,0,0,0,0,0,0,0,0,0,0,0,0,0,0,0,0,0,0,0,0,0,0,0,0,0,0,0,0,0,0,0,0,0,0,0,0,0,0,0,0,0,0,0,0,0,0,0,0,0,0,0,0,0,0,0,0,{"$f":"DPX34","v":0},0,0,0,0,0,0,0,0,0,0,0,0,0,0,0,0,0,0,0,0,0,0,0,0,0,0,0,0,0,0,0,0,0,0,0,0,0,0,0,0,0,0,0,0,0,0,0,0,0,0,0,0,0,0,0,0,0,0,0,0,0,0,0,{"$f":"DSJ34","v":0},0,0,0,0,0,0,0,0,0,0,0,0,0,0,0,0,0,0,0,0,0,0,0,0,0,0,0,0,0,0,0,0,0,0,0,0,0,0,0,0,0,0,0,0,0,0,0,0,0,0,0,0,0,0,0,0,0,0,0,0,0,0,0,{"$f":"DUV34","v":0},0,0,0,0,0,0,0,0,0,0,0,0,0,0,0,0,0,0,0,0,0,0,0,0,0,0,0,0,0,0,0,0,0,0,0,0,0,0,0,0,0,0,0,0,0,0,0,0,0,0,0,0,0,0,0,0,0,0,0,0,0,0,0,{"$f":"DXH34","v":0},0,0,0,0,0,0,0,0,0,0,0,0,0,0,0,0,0,0,0,0,0,0,0,0,0,0,0,0,0,0,0,0,0,0,0,0,0,0,0,0,0,0,0,0,0,0,0,0,0,0,0,0,0,0,0,0,0,0,0,0,0,0,0,{"$f":"DZT34","v":0},0,0,0,0,0,0,0,0,0,0,0,0,0,0,0,0,0,0,0,0,0,0,0,0,0,0,0,0,0,0,0,0,0,0,0,0,0,0,0,0,0,0,0,0,0,0,0,0,0,0,0,0,0,0,0,0,0,0,0,0,0,0,0,{"$f":"ECF34","v":0},0,0,0,0,0,0,0,0,0,0,0,0,0,0,0,0,0,0,0,0,0,0,0,0,0,0,0,0,0,0,0,0,0,0,0,0,0,0,0,0,0,0,0,0,0,0,0,0,0,0,0,0,0,0,0,0,0,0,0,0,0,0,0,{"$f":"EER34","v":0},0,0,0,0,0,0,0,0,0,0,0,0,0,0,0,0,0,0,0,0,0,0,0,0,0,0,0,0,0,0,0,0,0,0,0,0,0,0,0,0,0,0,0,0,0,0,0,0,0,0,0,0,0,0,0,0,0,0,0,0,0,0,0,{"$f":"EHD34","v":0},0,0,0,0,0,0,0,0,0,0,0,0,0,0,0,0,0,0,0,0,0,0,0,0,0,0,0,0,0,0,0,0,0,0,0,0,0,0,0,0,0,0,0,0,0,0,0,0,0,0,0,0,0,0,0,0,0,0,0,0,0,0,0,{"$f":"EJP34","v":0},0,0,0,0,0,0,0,0,0,0,0,0,0,0,0,0,0,0,0,0,0,0,0,0,0,0,0,0,0,0,0,0,0,0,0,0,0,0,0,0,0,0,0,0,0,0,0,0,0,0,0,0,0,0,0,0,0,0,0,0,0,0,0,{"$f":"EMB34","v":0},0,0,0,0,0,0,0,0,0,0,0,0,0,0,0,0,0,0,0,0,0,0,0,0,0,0,0,0,0,0,0,0,0,0,0,0,0,0,0,0,0,0,0,0,0,0,0,0,0,0,0,0,0,0,0,0,0,0,0,0,0,0,0,{"$f":"EON34","v":0},0,0,0,0,0,0,0,0,0,0,0,0,0,0,0,0,0,0,0,0,0,0,0,0,0,0,0,0,0,0,0,0,0,0,0,0,0,0,0,0,0,0,0,0,0,0,0,0,0,0,0,0,0,0,0,0,0,0,0,0,0,0,0,{"$f":"EQZ34","v":0},0,0,0,0,0,0,0,0,0,0,0,0,0,0,0,0,0,0,0,0,0,0,0,0,0,0,0,0,0,0,0,0,0,0,0,0,0,0,0,0,0,0,0,0,0,0,0,0,0,0,0,0,0,0,0,0,0,0,0,0,0,0,0,{"$f":"ETL34","v":0},0,0,0,0,0,0,0,0,0,0,0,0,0,0,0,0,0,0,0,0,0,0,0,0,0,0,0,0,0,0,0,0,0,0,0,0,0,0,0,0,0,0,0,0,0,0,0,0,0,0,0,0,0,0,0,0,0,0,0,0,0,0,0,{"$f":"EVX34","v":0},0,0,0,0,0,0,0,0,0,0,0,0,0,0,0,0,0,0,0,0,0,0,0,0,0,0,0,0,0,0,0,0,0,0,0,0,0,0,0,0,0,0,0,0,0,0,0,0,0,0,0,0,0,0,0,0,0,0,0,0,0,0,0,{"$f":"EYJ34","v":0},0,0,0,0,0,0,0,0,0,0,0,0,0,0,0,0,0,0,0,0,0,0,0,0,0,0,0,0,0,0,0,0,0,0,0,0,0,0,0,0,0,0,0,0,0,0,0,0,0,0,0,0,0,0,0,0,0,0,0,0,0,0,0,{"$f":"FAV34","v":0},0,0,0,0,0,0,0,0,0,0,0,0,0,0,0,0,0,0,0,0,0,0,0,0,0,0,0,0,0,0,0,0,0,0,0,0,0,0,0,0,0,0,0,0,0,0,0,0,0,0,0,0,0,0,0,0,0,0,0,0,0,0,0,{"$f":"FDH34","v":0},0,0,0,0,0,0,0,0,0,0,0,0,0,0,0,0,0,0,0,0,0,0,0,0,0,0,0,0,0,0,0,0,0,0,0,0,0,0,0,0,0,0,0,0,0,0,0,0,0,0,0,0,0,0,0,0,0,0,0,0,0,0,0,{"$f":"FFT34","v":0},0,0,0,0,0,0,0,0,0,0,0,0,0,0,0,0,0,0,0,0,0,0,0,0,0,0,0,0,0,0,0,0,0,0,0,0,0,0,0,0,0,0,0,0,0,0,0,0,0,0,0,0,0,0,0,0,0,0,0,0,0,0,0,{"$f":"FIF34","v":0},0,0,0,0,0,0,0,0,0,0,0,0,0,0,0,0,0,0,0,0,0,0,0,0,0,0,0,0,0,0,0,0,0,0,0,0,0,0,0,0,0,0,0,0,0,0,0,0,0,0,0,0,0,0,0,0,0,0,0,0,0,0,0,{"$f":"FKR34","v":0},0,0,0,0,0,0,0,0,0,0,0,0,0,0,0,0,0,0,0,0,0,0,0,0,0,0,0,0,0,0,0,0,0,0,0,0,0,0,0,0,0,0,0,0,0,0,0,0,0,0,0,0,0,0,0,0,0,0,0,0,0,0,0,{"$f":"FND34","v":0},0,0,0,0,0,0,0,0,0,0,0,0,0,0,0,0,0,0,0,0,0,0,0,0,0,0,0,0,0,0,0,0,0,0,0,0,0,0,0,0,0,0,0,0,0,0,0,0,0,0,0,0,0,0,0,0,0,0,0,0,0,0,0,{"$f":"FPP34","v":0},0,0,0,0,0,0,0,0,0,0,0,0,0,0,0,0,0,0,0,0,0,0,0,0,0,0,0,0,0,0,0,0,0,0,0,0,0,0,0,0,0,0,0,0,0,0,0,0,0,0,0,0,0,0,0,0,0,0,0,0,0,0,0,{"$f":"FSB34","v":0},0,0,0,0,0,0,0,0,0,0,0,0,0,0,0,0,0,0,0,0,0,0,0,0,0,0,0,0,0,0,0,0,0,0,0,0,0,0,0,0,0,0,0,0,0,0,0,0,0,0,0,0,0,0,0,0,0,0,0,0,0,0,0,{"$f":"FUN34","v":0},0,0,0,0,0,0,0,0,0,0,0,0,0,0,0,0,0,0,0,0,0,0,0,0,0,0,0,0,0,0,0,0,0,0,0,0,0,0,0,0,0,0,0,0,0,0,0,0,0,0,0,0,0,0,0,0,0,0,0,0,0,0,0,{"$f":"FWZ34","v":0},0,0,0,0,0,0,0,0,0,0,0,0,0,0,0,0,0,0,0,0,0,0,0,0,0,0,0,0,0,0,0,0,0,0,0,0,0,0,0,0,0,0,0,0,0,0,0,0,0,0,0,0,0,0,0,0,0,0,0,0,0,0,0,{"$f":"FZL34","v":0},0,0,0,0,0,0,0,0,0,0,0,0,0,0,0,0,0,0,0,0,0,0,0,0,0,0,0,0,0,0,0,0,0,0,0,0,0,0,0,0,0,0,0,0,0,0,0,0,0,0,0,0,0,0,0,0,0,0,0,0,0,0,0,{"$f":"GBX34","v":0},0,0,0,0,0,0,0,0,0,0,0,0,0,0,0,0,0,0,0,0,0,0,0,0,0,0,0,0,0,0,0,0,0,0,0,0,0,0,0,0,0,0,0,0,0,0,0,0,0,0,0,0,0,0,0,0,0,0,0,0,0,0,0,{"$f":"GEJ34","v":0},0,0,0,0,0,0,0,0,0,0,0,0,0,0,0,0,0,0,0,0,0,0,0,0,0,0,0,0,0,0,0,0,0,0,0,0,0,0,0,0,0,0,0,0,0,0,0,0,0,0,0,0,0,0,0,0,0,0,0,0,0,0,0,{"$f":"GGV34","v":0},0,0,0,0,0,0,0,0,0,0,0,0,0,0,0,0,0,0,0,0,0,0,0,0,0,0,0,0,0,0,0,0,0,0,0,0,0,0,0,0,0,0,0,0,0,0,0,0,0,0,0,0,0,0,0,0,0,0,0,0,0,0,0,{"$f":"GJH34","v":0},0,0,0,0,0,0,0,0,0,0,0,0,0,0,0,0,0,0,0,0,0,0,0,0,0,0,0,0,0,0,0,0,0,0,0,0,0,0,0,0,0,0,0,0,0,0,0,0,0,0,0,0,0,0,0,0,0,0,0,0,0,0,0,{"$f":"GLT34","v":0},0,0,0,0,0,0,0,0,0,0,0,0,0,0,0,0,0,0,0,0,0,0,0,0,0,0,0,0,0,0,0,0,0,0,0,0,0,0,0,0,0,0,0,0,0,0,0,0,0,0,0,0,0,0,0,0,0,0,0,0,0,0,0,{"$f":"GOF34","v":0},0,0,0,0,0,0,0,0,0,0,0,0,0,0,0,0,0,0,0,0,0,0,0,0,0,0,0,0,0,0,0,0,0,0,0,0,0,0,0,0,0,0,0,0,0,0,0,0,0,0,0,0,0,0,0,0,0,0,0,0,0,0,0,{"$f":"GQR34","v":0},0,0,0,0,0,0,0,0,0,0,0,0,0,0,0,0,0,0,0,0,0,0,0,0,0,0,0,0,0,0,0,0,0,0,0,0,0,0,0,0,0,0,0,0,0,0,0,0,0,0,0,0,0,0,0,0,0,0,0,0,0,0,0,{"$f":"GTD34","v":0},0,0,0,0,0,0,0,0,0,0,0,0,0,0,0,0,0,0,0,0,0,0,0,0,0,0,0,0,0,0,0,0,0,0,0,0,0,0,0,0,0,0,0,0,0,0,0,0,0,0,0,0,0,0,0,0,0,0,0,0,0,0,0,{"$f":"GVP34","v":0},0,0,0,0,0,0,0,0,0,0,0,0,0,0,0,0,0,0,0,0,0,0,0,0,0,0,0,0,0,0,0,0,0,0,0,0,0,0,0,0,0,0,0,0,0,0,0,0,0,0,0,0,0,0,0,0,0,0,0,0,0,0,0,{"$f":"GYB34","v":0},0,0,0,0,0,0,0,0,0,0,0,0,0,0,0,0,0,0,0,0,0,0,0,0,0,0,0,0,0,0,0,0,0,0,0,0,0,0,0,0,0,0,0,0,0,0,0,0,0,0,0,0,0,0,0,0,0,0,0,0,0,0,0,{"$f":"HAN34","v":0},0,0,0,0,0,0,0,0,0,0,0,0,0,0,0,0,0,0,0,0,0,0,0,0,0,0,0,0,0,0,0,0,0,0,0,0,0,0,0,0,0,0,0,0,0,0,0,0,0,0,0,0,0,0,0,0,0,0,0,0,0,0,0,{"$f":"HCZ34","v":0},0,0,0,0,0,0,0,0,0,0,0,0,0,0,0,0,0,0,0,0,0,0,0,0,0,0,0,0,0,0,0,0,0,0,0,0,0,0,0,0,0,0,0,0,0,0,0,0,0,0,0,0,0,0,0,0,0,0,0,0,0,0,0,{"$f":"HFL34","v":0},0,0,0,0,0,0,0,0,0,0,0,0,0,0,0,0,0,0,0,0,0,0,0,0,0,0,0,0,0,0,0,0,0,0,0,0,0,0,0,0,0,0,0,0,0,0,0,0,0,0,0,0,0,0,0,0,0,0,0,0,0,0,0,{"$f":"HHX34","v":0},0,0,0,0,0,0,0,0,0,0,0,0,0,0,0,0,0,0,0,0,0,0,0,0,0,0,0,0,0,0,0,0,0,0,0,0,0,0,0,0,0,0,0,0,0,0,0,0,0,0,0,0,0,0,0,0,0,0,0,0,0,0,0,{"$f":"HKJ34","v":0},0,0,0,0,0,0,0,0,0,0,0,0,0,0,0,0,0,0,0,0,0,0,0,0,0,0,0,0,0,0,0,0,0,0,0,0,0,0,0,0,0,0,0,0,0,0,0,0,0,0,0,0,0,0,0,0,0,0,0,0,0,0,0,{"$f":"HMV34","v":0},0,0,0,0,0,0,0,0,0,0,0,0,0,0,0,0,0,0,0,0,0,0,0,0,0,0,0,0,0,0,0,0,0,0,0,0,0,0,0,0,0,0,0,0,0,0,0,0,0,0,0,0,0,0,0,0,0,0,0,0,0,0,0,{"$f":"HPH34","v":0},0,0,0,0,0,0,0,0,0,0,0,0,0,0,0,0,0,0,0,0,0,0,0,0,0,0,0,0,0,0,0,0,0,0,0,0,0,0,0,0,0,0,0,0,0,0,0,0,0,0,0,0,0,0,0,0,0,0,0,0,0,0,0,{"$f":"HRT34","v":0},0,0,0,0,0,0,0,0,0,0,0,0,0,0,0,0,0,0,0,0,0,0,0,0,0,0,0,0,0,0,0,0,0,0,0,0,0,0,0,0,0,0,0,0,0,0,0,0,0,0,0,0,0,0,0,0,0,0,0,0,0,0,0,{"$f":"HUF34","v":0},0,0,0,0,0,0,0,0,0,0,0,0,0,0,0,0,0,0,0,0,0,0,0,0,0,0,0,0,0,0,0,0,0,0,0,0,0,0,0,0,0,0,0,0,0,0,0,0,0,0,0,0,0,0,0,0,0,0,0,0,0,0,0,{"$f":"HWR34","v":0},0,0,0,0,0,0,0,0,0,0,0,0,0,0,0,0,0,0,0,0,0,0,0,0,0,0,0,0,0,0,0,0,0,0,0,0,0,0,0,0,0,0,0,0,0,0,0,0,0,0,0,0,0,0,0,0,0,0,0,0,0,0,0,{"$f":"HZD34","v":0},0,0,0,0,0,0,0,0,0,0,0,0,0,0,0,0,0,0,0,0,0,0,0,0,0,0,0,0,0,0,0,0,0,0,0,0,0,0,0,0,0,0,0,0,0,0,0,0,0,0,0,0,0,0,0,0,0,0,0,0,0,0,0,{"$f":"IBP34","v":0},0,0,0,0,0,0,0,0,0,0,0,0,0,0,0,0,0,0,0,0,0,0,0,0,0,0,0,0,0,0,0,0,0,0,0,0,0,0,0,0,0,0,0,0,0,0,0,0,0,0,0,0,0,0,0,0,0,0,0,0,0,0,0,{"$f":"IEB34","v":0},0,0,0,0,0,0,0,0,0,0,0,0,0,0,0,0,0,0,0,0,0,0,0,0,0,0,0,0,0,0,0,0,0,0,0,0,0,0,0,0,0,0,0,0,0,0,0,0,0,0,0,0,0,0,0,0,0,0,0,0,0,0,0,{"$f":"IGN34","v":0},0,0,0,0,0,0,0,0,0,0,0,0,0,0,0,0,0,0,0,0,0,0,0,0,0,0,0,0,0,0,0,0,0,0,0,0,0,0,0,0,0,0,0,0,0,0,0,0,0,0,0,0,0,0,0,0,0,0,0,0,0,0,0,{"$f":"IIZ34","v":0},0,0,0,0,0,0,0,0,0,0,0,0,0,0,0,0,0,0,0,0,0,0,0,0,0,0,0,0,0,0,0,0,0,0,0,0,0,0,0,0,0,0,0,0,0,0,0,0,0,0,0,0,0,0,0,0,0,0,0,0,0,0,0,{"$f":"ILL34","v":0},0,0,0,0,0,0,0,0,0,0,0,0,0,0,0,0,0,0,0,0,0,0,0,0,0,0,0,0,0,0,0,0,0,0,0,0,0,0,0,0,0,0,0,0,0,0,0,0,0,0,0,0,0,0,0,0,0,0,0,0,0,0,0,{"$f":"INX34","v":0},0,0,0,0,0,0,0,0,0,0,0,0,0,0,0,0,0,0,0,0,0,0,0,0,0,0,0,0,0,0,0,0,0,0,0,0,0,0,0,0,0,0,0,0,0,0,0,0,0,0,0,0,0,0,0,0,0,0,0,0,0,0,0,{"$f":"IQJ34","v":0},0,0,0,0,0,0,0,0,0,0,0,0,0,0,0,0,0,0,0,0,0,0,0,0,0,0,0,0,0,0,0,0,0,0,0,0,0,0,0,0,0,0,0,0,0,0,0,0,0,0,0,0,0,0,0,0,0,0,0,0,0,0,0,{"$f":"ISV34","v":0},0,0,0,0,0,0,0,0,0,0,0,0,0,0,0,0,0,0,0,0,0,0,0,0,0,0,0,0,0,0,0,0,0,0,0,0,0,0,0,0,0,0,0,0,0,0,0,0,0,0,0,0,0,0,0,0,0,0,0,0,0,0,0,{"$f":"IVH34","v":0},0,0,0,0,0,0,0,0,0,0,0,0,0,0,0,0,0,0,0,0,0,0,0,0,0,0,0,0,0,0,0,0,0,0,0,0,0,0,0,0,0,0,0,0,0,0,0,0,0,0,0,0,0,0,0,0,0,0,0,0,0,0,0,{"$f":"IXT34","v":0},0,0,0,0,0,0,0,0,0,0,0,0,0,0,0,0,0,0,0,0,0,0,0,0,0,0,0,0,0,0,0,0,0,0,0,0,0,0,0,0,0,0,0,0,0,0,0,0,0,0,0,0,0,0,0,0,0,0,0,0,0,0,0,{"$f":"JAF34","v":0},0,0,0,0,0,0,0,0,0,0,0,0,0,0,0,0,0,0,0,0,0,0,0,0,0,0,0,0,0,0,0,0,0,0,0,0,0,0,0,0,0,0,0,0,0,0,0,0,0,0,0,0,0,0,0,0,0,0,0,0,0,0,0,{"$f":"JCR34","v":0},0,0,0,0,0,0,0,0,0,0,0,0,0,0,0,0,0,0,0,0,0,0,0,0,0,0,0,0,0,0,0,0,0,0,0,0,0,0,0,0,0,0,0,0,0,0,0,0,0,0,0,0,0,0,0,0,0,0,0,0,0,0,0,{"$f":"JFD34","v":0},0,0,0,0,0,0,0,0,0,0,0,0,0,0,0,0,0,0,0,0,0,0,0,0,0,0,0,0,0,0,0,0,0,0,0,0,0,0,0,0,0,0,0,0,0,0,0,0,0,0,0,0,0,0,0,0,0,0,0,0,0,0,0,{"$f":"JHP34","v":0},0,0,0,0,0,0,0,0,0,0,0,0,0,0,0,0,0,0,0,0,0,0,0,0,0,0,0,0,0,0,0,0,0,0,0,0,0,0,0,0,0,0,0,0,0,0,0,0,0,0,0,0,0,0,0,0,0,0,0,0,0,0,0,{"$f":"JKB34","v":0},0,0,0,0,0,0,0,0,0,0,0,0,0,0,0,0,0,0,0,0,0,0,0,0,0,0,0,0,0,0,0,0,0,0,0,0,0,0,0,0,0,0,0,0,0,0,0,0,0,0,0,0,0,0,0,0,0,0,0,0,0,0,0,{"$f":"JMN34","v":0},0,0,0,0,0,0,0,0,0,0,0,0,0,0,0,0,0,0,0,0,0,0,0,0,0,0,0,0,0,0,0,0,0,0,0,0,0,0,0,0,0,0,0,0,0,0,0,0,0,0,0,0,0,0,0,0,0,0,0,0,0,0,0,{"$f":"JOZ34","v":0},0,0,0,0,0,0,0,0,0,0,0,0,0,0,0,0,0,0,0,0,0,0,0,0,0,0,0,0,0,0,0,0,0,0,0,0,0,0,0,0,0,0,0,0,0,0,0,0,0,0,0,0,0,0,0,0,0,0,0,0,0,0,0,{"$f":"JRL34","v":0},0,0,0,0,0,0,0,0,0,0,0,0,0,0,0,0,0,0,0,0,0,0,0,0,0,0,0,0,0,0,0,0,0,0,0,0,0,0,0,0,0,0,0,0,0,0,0,0,0,0,0,0,0,0,0,0,0,0,0,0,0,0,0,{"$f":"JTX34","v":0},0,0,0,0,0,0,0,0,0,0,0,0,0,0,0,0,0,0,0,0,0,0,0,0,0,0,0,0,0,0,0,0,0,0,0,0,0,0,0,0,0,0,0,0,0,0,0,0,0,0,0,0,0,0,0,0,0,0,0,0,0,0,0,{"$f":"JWJ34","v":0},0,0,0,0,0,0,0,0,0,0,0,0,0,0,0,0,0,0,0,0,0,0,0,0,0,0,0,0,0,0,0,0,0,0,0,0,0,0,0,0,0,0,0,0,0,0,0,0,0,0,0,0,0,0,0,0,0,0,0,0,0,0,0,{"$f":"JYV34","v":0},0,0,0,0,0,0,0,0,0,0,0,0,0,0,0,0,0,0,0,0,0,0,0,0,0,0,0,0,0,0,0,0,0,0,0,0,0,0,0,0,0,0,0,0,0,0,0,0,0,0,0,0,0,0,0,0,0,0,0,0,0,0,0,{"$f":"KBH34","v":0},0,0,0,0,0,0,0,0,0,0,0,0,0,0,0,0,0,0,0,0,0,0,0,0,0,0,0,0,0,0,0,0,0,0,0,0,0,0,0,0,0,0,0,0,0,0,0,0,0,0,0,0,0,0,0,0,0,0,0,0,0,0,0,{"$f":"KDT34","v":0},0,0,0,0,0,0,0,0,0,0,0,0,0,0,0,0,0,0,0,0,0,0,0,0,0,0,0,0,0,0,0,0,0,0,0,0,0,0,0,0,0,0,0,0,0,0,0,0,0,0,0,0,0,0,0,0,0,0,0,0,0,0,0,{"$f":"KGF34","v":0},0,0,0,0,0,0,0,0,0,0,0,0,0,0,0,0,0,0,0,0,0,0,0,0,0,0,0,0,0,0,0,0,0,0,0,0,0,0,0,0,0,0,0,0,0,0,0,0,0,0,0,0,0,0,0,0,0,0,0,0,0,0,0,{"$f":"KIR34","v":0},0,0,0,0,0,0,0,0,0,0,0,0,0,0,0,0,0,0,0,0,0,0,0,0,0,0,0,0,0,0,0,0,0,0,0,0,0,0,0,0,0,0,0,0,0,0,0,0,0,0,0,0,0,0,0,0,0,0,0,0,0,0,0,{"$f":"KLD34","v":0},0,0,0,0,0,0,0,0,0,0,0,0,0,0,0,0,0,0,0,0,0,0,0,0,0,0,0,0,0,0,0,0,0,0,0,0,0,0,0,0,0,0,0,0,0,0,0,0,0,0,0,0,0,0,0,0,0,0,0,0,0,0,0,{"$f":"KNP34","v":0},0,0,0,0,0,0,0,0,0,0,0,0,0,0,0,0,0,0,0,0,0,0,0,0,0,0,0,0,0,0,0,0,0,0,0,0,0,0,0,0,0,0,0,0,0,0,0,0,0,0,0,0,0,0,0,0,0,0,0,0,0,0,0,{"$f":"KQB34","v":0},0,0,0,0,0,0,0,0,0,0,0,0,0,0,0,0,0,0,0,0,0,0,0,0,0,0,0,0,0,0,0,0,0,0,0,0,0,0,0,0,0,0,0,0,0,0,0,0,0,0,0,0,0,0,0,0,0,0,0,0,0,0,0,{"$f":"KSN34","v":0},0,0,0,0,0,0,0,0,0,0,0,0,0,0,0,0,0,0,0,0,0,0,0,0,0,0,0,0,0,0,0,0,0,0,0,0,0,0,0,0,0,0,0,0,0,0,0,0,0,0,0,0,0,0,0,0,0,0,0,0,0,0,0,{"$f":"KUZ34","v":0},0,0,0,0,0,0,0,0,0,0,0,0,0,0,0,0,0,0,0,0,0,0,0,0,0,0,0,0,0,0,0,0,0,0,0,0,0,0,0,0,0,0,0,0,0,0,0,0,0,0,0,0,0,0,0,0,0,0,0,0,0,0,0,{"$f":"KXL34","v":0},0,0,0,0,0,0,0,0,0,0,0,0,0,0,0,0,0,0,0,0,0,0,0,0,0,0,0,0,0,0,0,0,0,0,0,0,0,0,0,0,0,0,0,0,0,0,0,0,0,0,0,0,0,0,0,0,0,0,0,0,0,0,0,{"$f":"KZX34","v":0},0,0,0,0,0,0,0,0,0,0,0,0,0,0,0,0,0,0,0,0,0,0,0,0,0,0,0,0,0,0,0,0,0,0,0,0,0,0,0,0,0,0,0,0,0,0,0,0,0,0,0,0,0,0,0,0,0,0,0,0,0,0,0,{"$f":"LCJ34","v":0},0,0,0,0,0,0,0,0,0,0,0,0,0,0,0,0,0,0,0,0,0,0,0,0,0,0,0,0,0,0,0,0,0,0,0,0,0,0,0,0,0,0,0,0,0,0,0,0,0,0,0,0,0,0,0,0,0,0,0,0,0,0,0,{"$f":"LEV34","v":0},0,0,0,0,0,0,0,0,0,0,0,0,0,0,0,0,0,0,0,0,0,0,0,0,0,0,0,0,0,0,0,0,0,0,0,0,0,0,0,0,0,0,0,0,0,0,0,0,0,0,0,0,0,0,0,0,0,0,0,0,0,0,0,{"$f":"LHH34","v":0},0,0,0,0,0,0,0,0,0,0,0,0,0,0,0,0,0,0,0,0,0,0,0,0,0,0,0,0,0,0,0,0,0,0,0,0,0,0,0,0,0,0,0,0,0,0,0,0,0,0,0,0,0,0,0,0,0,0,0,0,0,0,0,{"$f":"LJT34","v":0},0,0,0,0,0,0,0,0,0,0,0,0,0,0,0,0,0,0,0,0,0,0,0,0,0,0,0,0,0,0,0,0,0,0,0,0,0,0,0,0,0,0,0,0,0,0,0,0,0,0,0,0,0,0,0,0,0,0,0,0,0,0,0,{"$f":"LMF34","v":0},0,0,0,0,0,0,0,0,0,0,0,0,0,0,0,0,0,0,0,0,0,0,0,0,0,0,0,0,0,0,0,0,0,0,0,0,0,0,0,0,0,0,0,0,0,0,0,0,0,0,0,0,0,0,0,0,0,0,0,0,0,0,0,{"$f":"LOR34","v":0},0,0,0,0,0,0,0,0,0,0,0,0,0,0,0,0,0,0,0,0,0,0,0,0,0,0,0,0,0,0,0,0,0,0,0,0,0,0,0,0,0,0,0,0,0,0,0,0,0,0,0,0,0,0,0,0,0,0,0,0,0,0,0,{"$f":"LRD34","v":0},0,0,0,0,0,0,0,0,0,0,0,0,0,0,0,0,0,0,0,0,0,0,0,0,0,0,0,0,0,0,0,0,0,0,0,0,0,0,0,0,0,0,0,0,0,0,0,0,0,0,0,0,0,0,0,0,0,0,0,0,0,0,0,{"$f":"LTP34","v":0},0,0,0,0,0,0,0,0,0,0,0,0,0,0,0,0,0,0,0,0,0,0,0,0,0,0,0,0,0,0,0,0,0,0,0,0,0,0,0,0,0,0,0,0,0,0,0,0,0,0,0,0,0,0,0,0,0,0,0,0,0,0,0,{"$f":"LWB34","v":0},0,0,0,0,0,0,0,0,0,0,0,0,0,0,0,0,0,0,0,0,0,0,0,0,0,0,0,0,0,0,0,0,0,0,0,0,0,0,0,0,0,0,0,0,0,0,0,0,0,0,0,0,0,0,0,0,0,0,0,0,0,0,0,{"$f":"LYN34","v":0},0,0,0,0,0,0,0,0,0,0,0,0,0,0,0,0,0,0,0,0,0,0,0,0,0,0,0,0,0,0,0,0,0,0,0,0,0,0,0,0,0,0,0,0,0,0,0,0,0,0,0,0,0,0,0,0,0,0,0,0,0,0,0,{"$f":"MAZ34","v":0},0,0,0,0,0,0,0,0,0,0,0,0,0,0,0,0,0,0,0,0,0,0,0,0,0,0,0,0,0,0,0,0,0,0,0,0,0,0,0,0,0,0,0,0,0,0,0,0,0,0,0,0,0,0,0,0,0,0,0,0,0,0,0,{"$f":"MDL34","v":0},0,0,0,0,0,0,0,0,0,0,0,0,0,0,0,0,0,0,0,0,0,0,0,0,0,0,0,0,0,0,0,0,0,0,0,0,0,0,0,0,0,0,0,0,0,0,0,0,0,0,0,0,0,0,0,0,0,0,0,0,0,0,0,{"$f":"MFX34","v":0},0,0,0,0,0,0,0,0,0,0,0,0,0,0,0,0,0,0,0,0,0,0,0,0,0,0,0,0,0,0,0,0,0,0,0,0,0,0,0,0,0,0,0,0,0,0,0,0,0,0,0,0,0,0,0,0,0,0,0,0,0,0,0,{"$f":"MIJ34","v":0},0,0,0,0,0,0,0,0,0,0,0,0,0,0,0,0,0,0,0,0,0,0,0,0,0,0,0,0,0,0,0,0,0,0,0,0,0,0,0,0,0,0,0,0,0,0,0,0,0,0,0,0,0,0,0,0,0,0,0,0,0,0,0,{"$f":"MKV34","v":0},0,0,0,0,0,0,0,0,0,0,0,0,0,0,0,0,0,0,0,0,0,0,0,0,0,0,0,0,0,0,0,0,0,0,0,0,0,0,0,0,0,0,0,0,0,0,0,0,0,0,0,0,0,0,0,0,0,0,0,0,0,0,0,{"$f":"MNH34","v":0},0,0,0,0,0,0,0,0,0,0,0,0,0,0,0,0,0,0,0,0,0,0,0,0,0,0,0,0,0,0,0,0,0,0,0,0,0,0,0,0,0,0,0,0,0,0,0,0,0,0,0,0,0,0,0,0,0,0,0,0,0,0,0,{"$f":"MPT34","v":0},0,0,0,0,0,0,0,0,0,0,0,0,0,0,0,0,0,0,0,0,0,0,0,0,0,0,0,0,0,0,0,0,0,0,0,0,0,0,0,0,0,0,0,0,0,0,0,0,0,0,0,0,0,0,0,0,0,0,0,0,0,0,0,{"$f":"MSF34","v":0},0,0,0,0,0,0,0,0,0,0,0,0,0,0,0,0,0,0,0,0,0,0,0,0,0,0,0,0,0,0,0,0,0,0,0,0,0,0,0,0,0,0,0,0,0,0,0,0,0,0,0,0,0,0,0,0,0,0,0,0,0,0,0,{"$f":"MUR34","v":0},0,0,0,0,0,0,0,0,0,0,0,0,0,0,0,0,0,0,0,0,0,0,0,0,0,0,0,0,0,0,0,0,0,0,0,0,0,0,0,0,0,0,0,0,0,0,0,0,0,0,0,0,0,0,0,0,0,0,0,0,0,0,0,{"$f":"MXD34","v":0},0,0,0,0,0,0,0,0,0,0,0,0,0,0,0,0,0,0,0,0,0,0,0,0,0,0,0,0,0,0,0,0,0,0,0,0,0,0,0,0,0,0,0,0,0,0,0,0,0,0,0,0,0,0,0,0,0,0,0,0,0,0,0,{"$f":"MZP34","v":0},0,0,0,0,0,0,0,0,0,0,0,0,0,0,0,0,0,0,0,0,0,0,0,0,0,0,0,0,0,0,0,0,0,0,0,0,0,0,0,0,0,0,0,0,0,0,0,0,0,0,0,0,0,0,0,0,0,0,0,0,0,0,0,{"$f":"NCB34","v":0},0,0,0,0,0,0,0,0,0,0,0,0,0,0,0,0,0,0,0,0,0,0,0,0,0,0,0,0,0,0,0,0,0,0,0,0,0,0,0,0,0,0,0,0,0,0,0,0,0,0,0,0,0,0,0,0,0,0,0,0,0,0,0,{"$f":"NEN34","v":0},0,0,0,0,0,0,0,0,0,0,0,0,0,0,0,0,0,0,0,0,0,0,0,0,0,0,0,0,0,0,0,0,0,0,0,0,0,0,0,0,0,0,0,0,0,0,0,0,0,0,0,0,0,0,0,0,0,0,0,0,0,0,0,{"$f":"NGZ34","v":0},0,0,0,0,0,0,0,0,0,0,0,0,0,0,0,0,0,0,0,0,0,0,0,0,0,0,0,0,0,0,0,0,0,0,0,0,0,0,0,0,0,0,0,0,0,0,0,0,0,0,0,0,0,0,0,0,0,0,0,0,0,0,0,{"$f":"NJL34","v":0},0,0,0,0,0,0,0,0,0,0,0,0,0,0,0,0,0,0,0,0,0,0,0,0,0,0,0,0,0,0,0,0,0,0,0,0,0,0,0,0,0,0,0,0,0,0,0,0,0,0,0,0,0,0,0,0,0,0,0,0,0,0,0,{"$f":"NLX34","v":0},0,0,0,0,0,0,0,0,0,0,0,0,0,0,0,0,0,0,0,0,0,0,0,0,0,0,0,0,0,0,0,0,0,0,0,0,0,0,0,0,0,0,0,0,0,0,0,0,0,0,0,0,0,0,0,0,0,0,0,0,0,0,0,{"$f":"NOJ34","v":0},0,0,0,0,0,0,0,0,0,0,0,0,0,0,0,0,0,0,0,0,0,0,0,0,0,0,0,0,0,0,0,0,0,0,0,0,0,0,0,0,0,0,0,0,0,0,0,0,0,0,0,0,0,0,0,0,0,0,0,0,0,0,0,{"$f":"NQV34","v":0},0,0,0,0,0,0,0,0,0,0,0,0,0,0,0,0,0,0,0,0,0,0,0,0,0,0,0,0,0,0,0,0,0,0,0,0,0,0,0,0,0,0,0,0,0,0,0,0,0,0,0,0,0,0,0,0,0,0,0,0,0,0,0,{"$f":"NTH34","v":0},0,0,0,0,0,0,0,0,0,0,0,0,0,0,0,0,0,0,0,0,0,0,0,0,0,0,0,0,0,0,0,0,0,0,0,0,0,0,0,0,0,0,0,0,0,0,0,0,0,0,0,0,0,0,0,0,0,0,0,0,0,0,0,{"$f":"NVT34","v":0},0,0,0,0,0,0,0,0,0,0,0,0,0,0,0,0,0,0,0,0,0,0,0,0,0,0,0,0,0,0,0,0,0,0,0,0,0,0,0,0,0,0,0,0,0,0,0,0,0,0,0,0,0,0,0,0,0,0,0,0,0,0,0,{"$f":"NYF34","v":0},0,0,0,0,0,0,0,0,0,0,0,0,0,0,0,0,0,0,0,0,0,0,0,0,0,0,0,0,0,0,0,0,0,0,0,0,0,0,0,0,0,0,0,0,0,0,0,0,0,0,0,0,0,0,0,0,0,0,0,0,0,0,0,{"$f":"OAR34","v":0},0,0,0,0,0,0,0,0,0,0,0,0,0,0,0,0,0,0,0,0,0,0,0,0,0,0,0,0,0,0,0,0,0,0,0,0,0,0,0,0,0,0,0,0,0,0,0,0,0,0,0,0,0,0,0,0,0,0,0,0,0,0,0,{"$f":"ODD34","v":0},0,0,0,0,0,0,0,0,0,0,0,0,0,0,0,0,0,0,0,0,0,0,0,0,0,0,0,0,0,0,0,0,0,0,0,0,0,0,0,0,0,0,0,0,0,0,0,0,0,0,0,0,0,0,0,0,0,0,0,0,0,0,0,{"$f":"OFP34","v":0},0,0,0,0,0,0,0,0,0,0,0,0,0,0,0,0,0,0,0,0,0,0,0,0,0,0,0,0,0,0,0,0,0,0,0,0,0,0,0,0,0,0,0,0,0,0,0,0,0,0,0,0,0,0,0,0,0,0,0,0,0,0,0,{"$f":"OIB34","v":0},0,0,0,0,0,0,0,0,0,0,0,0,0,0,0,0,0,0,0,0,0,0,0,0,0,0,0,0,0,0,0,0,0,0,0,0,0,0,0,0,0,0,0,0,0,0,0,0,0,0,0,0,0,0,0,0,0,0,0,0,0,0,0,{"$f":"OKN34","v":0},0,0,0,0,0,0,0,0,0,0,0,0,0,0,0,0,0,0,0,0,0,0,0,0,0,0,0,0,0,0,0,0,0,0,0,0,0,0,0,0,0,0,0,0,0,0,0,0,0,0,0,0,0,0,0,0,0,0,0,0,0,0,0,{"$f":"OMZ34","v":0},0,0,0,0,0,0,0,0,0,0,0,0,0,0,0,0,0,0,0,0,0,0,0,0,0,0,0,0,0,0,0,0,0,0,0,0,0,0,0,0,0,0,0,0,0,0,0,0,0,0,0,0,0,0,0,0,0,0,0,0,0,0,0,{"$f":"OPL34","v":0},0,0,0,0,0,0,0,0,0,0,0,0,0,0,0,0,0,0,0,0,0,0,0,0,0,0,0,0,0,0,0,0,0,0,0,0,0,0,0,0,0,0,0,0,0,0,0,0,0,0,0,0,0,0,0,0,0,0,0,0,0,0,0,{"$f":"ORX34","v":0},0,0,0,0,0,0,0,0,0,0,0,0,0,0,0,0,0,0,0,0,0,0,0,0,0,0,0,0,0,0,0,0,0,0,0,0,0,0,0,0,0,0,0,0,0,0,0,0,0,0,0,0,0,0,0,0,0,0,0,0,0,0,0,{"$f":"OUJ34","v":0},0,0,0,0,0,0,0,0,0,0,0,0,0,0,0,0,0,0,0,0,0,0,0,0,0,0,0,0,0,0,0,0,0,0,0,0,0,0,0,0,0,0,0,0,0,0,0,0,0,0,0,0,0,0,0,0,0,0,0,0,0,0,0,{"$f":"OWV34","v":0},0,0,0,0,0,0,0,0,0,0,0,0,0,0,0,0,0,0,0,0,0,0,0,0,0,0,0,0,0,0,0,0,0,0,0,0,0,0,0,0,0,0,0,0,0,0,0,0,0,0,0,0,0,0,0,0,0,0,0,0,0,0,0,{"$f":"OZH34","v":0},0,0,0,0,0,0,0,0,0,0,0,0,0,0,0,0,0,0,0,0,0,0,0,0,0,0,0,0,0,0,0,0,0,0,0,0,0,0,0,0,0,0,0,0,0,0,0,0,0,0,0,0,0,0,0,0,0,0,0,0,0,0,0,{"$f":"PBT34","v":0},0,0,0,0,0,0,0,0,0,0,0,0,0,0,0,0,0,0,0,0,0,0,0,0,0,0,0,0,0,0,0,0,0,0,0,0,0,0,0,0,0,0,0,0,0,0,0,0,0,0,0,0,0,0,0,0,0,0,0,0,0,0,0,{"$f":"PEF34","v":0},0,0,0,0,0,0,0,0,0,0,0,0,0,0,0,0,0,0,0,0,0,0,0,0,0,0,0,0,0,0,0,0,0,0,0,0,0,0,0,0,0,0,0,0,0,0,0,0,0,0,0,0,0,0,0,0,0,0,0,0,0,0,0,{"$f":"PGR34","v":0},0,0,0,0,0,0,0,0,0,0,0,0,0,0,0,0,0,0,0,0,0,0,0,0,0,0,0,0,0,0,0,0,0,0,0,0,0,0,0,0,0,0,0,0,0,0,0,0,0,0,0,0,0,0,0,0,0,0,0,0,0,0,0,{"$f":"PJD34","v":0},0,0,0,0,0,0,0,0,0,0,0,0,0,0,0,0,0,0,0,0,0,0,0,0,0,0,0,0,0,0,0,0,0,0,0,0,0,0,0,0,0,0,0,0,0,0,0,0,0,0,0,0,0,0,0,0,0,0,0,0,0,0,0,{"$f":"PLP34","v":0},0,0,0,0,0,0,0,0,0,0,0,0,0,0,0,0,0,0,0,0,0,0,0,0,0,0,0,0,0,0,0,0,0,0,0,0,0,0,0,0,0,0,0,0,0,0,0,0,0,0,0,0,0,0,0,0,0,0,0,0,0,0,0,{"$f":"POB34","v":0},0,0,0,0,0,0,0,0,0,0,0,0,0,0,0,0,0,0,0,0,0,0,0,0,0,0,0,0,0,0,0,0,0,0,0,0,0,0,0,0,0,0,0,0,0,0,0,0,0,0,0,0,0,0,0,0,0,0,0,0,0,0,0,{"$f":"PQN34","v":0},0,0,0,0,0,0,0,0,0,0,0,0,0,0,0,0,0,0,0,0,0,0,0,0,0,0,0,0,0,0,0,0,0,0,0,0,0,0,0,0,0,0,0,0,0,0,0,0,0,0,0,0,0,0,0,0,0,0,0,0,0,0,0,{"$f":"PSZ34","v":0},0,0,0,0,0,0,0,0,0,0,0,0,0,0,0,0,0,0,0,0,0,0,0,0,0,0,0,0,0,0,0,0,0,0,0,0,0,0,0,0,0,0,0,0,0,0,0,0,0,0,0,0,0,0,0,0,0,0,0,0,0,0,0,{"$f":"PVL34","v":0},0,0,0,0,0,0,0,0,0,0,0,0,0,0,0,0,0,0,0,0,0,0,0,0,0,0,0,0,0,0,0,0,0,0,0,0,0,0,0,0,0,0,0,0,0,0,0,0,0,0,0,0,0,0,0,0,0,0,0,0,0,0,0,{"$f":"PXX34","v":0},0,0,0,0,0,0,0,0,0,0,0,0,0,0,0,0,0,0,0,0,0,0,0,0,0,0,0,0,0,0,0,0,0,0,0,0,0,0,0,0,0,0,0,0,0,0,0,0,0,0,0,0,0,0,0,0,0,0,0,0,0,0,0,{"$f":"QAJ34","v":0},0,0,0,0,0,0,0,0,0,0,0,0,0,0,0,0,0,0,0,0,0,0,0,0,0,0,0,0,0,0,0,0,0,0,0,0,0,0,0,0,0,0,0,0,0,0,0,0,0,0,0,0,0,0,0,0,0,0,0,0,0,0,0,{"$f":"QCV34","v":0},0,0,0,0,0,0,0,0,0,0,0,0,0,0,0,0,0,0,0,0,0,0,0,0,0,0,0,0,0,0,0,0,0,0,0,0,0,0,0,0,0,0,0,0,0,0,0,0,0,0,0,0,0,0,0,0,0,0,0,0,0,0,0,{"$f":"QFH34","v":0},0,0,0,0,0,0,0,0,0,0,0,0,0,0,0,0,0,0,0,0,0,0,0,0,0,0,0,0,0,0,0,0,0,0,0,0,0,0,0,0,0,0,0,0,0,0,0,0,0,0,0,0,0,0,0,0,0,0,0,0,0,0,0,{"$f":"QHT34","v":0},0,0,0,0,0,0,0,0,0,0,0,0,0,0,0,0,0,0,0,0,0,0,0,0,0,0,0,0,0,0,0,0,0,0,0,0,0,0,0,0,0,0,0,0,0,0,0,0,0,0,0,0,0,0,0,0,0,0,0,0,0,0,0,{"$f":"QKF34","v":0},0,0,0,0,0,0,0,0,0,0,0,0,0,0,0,0,0,0,0,0,0,0,0,0,0,0,0,0,0,0,0,0,0,0,0,0,0,0,0,0,0,0,0,0,0,0,0,0,0,0,0,0,0,0,0,0,0,0,0,0,0,0,0,{"$f":"QMR34","v":0},0,0,0,0,0,0,0,0,0,0,0,0,0,0,0,0,0,0,0,0,0,0,0,0,0,0,0,0,0,0,0,0,0,0,0,0,0,0,0,0,0,0,0,0,0,0,0,0,0,0,0,0,0,0,0,0,0,0,0,0,0,0,0,{"$f":"QPD34","v":0},0,0,0,0,0,0,0,0,0,0,0,0,0,0,0,0,0,0,0,0,0,0,0,0,0,0,0,0,0,0,0,0,0,0,0,0,0,0,0,0,0,0,0,0,0,0,0,0,0,0,0,0,0,0,0,0,0,0,0,0,0,0,0,{"$f":"QRP34","v":0},0,0,0,0,0,0,0,0,0,0,0,0,0,0,0,0,0,0,0,0,0,0,0,0,0,0,0,0,0,0,0,0,0,0,0,0,0,0,0,0,0,0,0,0,0,0,0,0,0,0,0,0,0,0,0,0,0,0,0,0,0,0,0,{"$f":"QUB34","v":0},0,0,0,0,0,0,0,0,0,0,0,0,0,0,0,0,0,0,0,0,0,0,0,0,0,0,0,0,0,0,0,0,0,0,0,0,0,0,0,0,0,0,0,0,0,0,0,0,0,0,0,0,0,0,0,0,0,0,0,0,0,0,0,{"$f":"QWN34","v":0},0,0,0,0,0,0,0,0,0,0,0,0,0,0,0,0,0,0,0,0,0,0,0,0,0,0,0,0,0,0,0,0,0,0,0,0,0,0,0,0,0,0,0,0,0,0,0,0,0,0,0,0,0,0,0,0,0,0,0,0,0,0,0,{"$f":"QYZ34","v":0},0,0,0,0,0,0,0,0,0,0,0,0,0,0,0,0,0,0,0,0,0,0,0,0,0,0,0,0,0,0,0,0,0,0,0,0,0,0,0,0,0,0,0,0,0,0,0,0,0,0,0,0,0,0,0,0,0,0,0,0,0,0,0,{"$f":"RBL34","v":0},0,0,0,0,0,0,0,0,0,0,0,0,0,0,0,0,0,0,0,0,0,0,0,0,0,0,0,0,0,0,0,0,0,0,0,0,0,0,0,0,0,0,0,0,0,0,0,0,0,0,0,0,0,0,0,0,0,0,0,0,0,0,0,{"$f":"RDX34","v":0},0,0,0,0,0,0,0,0,0,0,0,0,0,0,0,0,0,0,0,0,0,0,0,0,0,0,0,0,0,0,0,0,0,0,0,0,0,0,0,0,0,0,0,0,0,0,0,0,0,0,0,0,0,0,0,0,0,0,0,0,0,0,0,{"$f":"RGJ34","v":0},0,0,0,0,0,0,0,0,0,0,0,0,0,0,0,0,0,0,0,0,0,0,0,0,0,0,0,0,0,0,0,0,0,0,0,0,0,0,0,0,0,0,0,0,0,0,0,0,0,0,0,0,0,0,0,0,0,0,0,0,0,0,0,{"$f":"RIV34","v":0},0,0,0,0,0,0,0,0,0,0,0,0,0,0,0,0,0,0,0,0,0,0,0,0,0,0,0,0,0,0,0,0,0,0,0,0,0,0,0,0,0,0,0,0,0,0,0,0,0,0,0,0,0,0,0,0,0,0,0,0,0,0,0,{"$f":"RLH34","v":0},0,0,0,0,0,0,0,0,0,0,0,0,0,0,0,0,0,0,0,0,0,0,0,0,0,0,0,0,0,0,0,0,0,0,0,0,0,0,0,0,0,0,0,0,0,0,0,0,0,0,0,0,0,0,0,0,0,0,0,0,0,0,0,{"$f":"RNT34","v":0},0,0,0,0,0,0,0,0,0,0,0,0,0,0,0,0,0,0,0,0,0,0,0,0,0,0,0,0,0,0,0,0,0,0,0,0,0,0,0,0,0,0,0,0,0,0,0,0,0,0,0,0,0,0,0,0,0,0,0,0,0,0,0,{"$f":"RQF34","v":0},0,0,0,0,0,0,0,0,0,0,0,0,0,0,0,0,0,0,0,0,0,0,0,0,0,0,0,0,0,0,0,0,0,0,0,0,0,0,0,0,0,0,0,0,0,0,0,0,0,0,0,0,0,0,0,0,0,0,0,0,0,0,0,{"$f":"RSR34","v":0},0,0,0,0,0,0,0,0,0,0,0,0,0,0,0,0,0,0,0,0,0,0,0,0,0,0,0,0,0,0,0,0,0,0,0,0,0,0,0,0,0,0,0,0,0,0,0,0,0,0,0,0,0,0,0,0,0,0,0,0,0,0,0,{"$f":"RVD34","v":0},0,0,0,0,0,0,0,0,0,0,0,0,0,0,0,0,0,0,0,0,0,0,0,0,0,0,0,0,0,0,0,0,0,0,0,0,0,0,0,0,0,0,0,0,0,0,0,0,0,0,0,0,0,0,0,0,0,0,0,0,0,0,0,{"$f":"RXP34","v":0},0,0,0,0,0,0,0,0,0,0,0,0,0,0,0,0,0,0,0,0,0,0,0,0,0,0,0,0,0,0,0,0,0,0,0,0,0,0,0,0,0,0,0,0,0,0,0,0,0,0,0,0,0,0,0,0,0,0,0,0,0,0,0,{"$f":"SAB34","v":0},0,0,0,0,0,0,0,0,0,0,0,0,0,0,0,0,0,0,0,0,0,0,0,0,0,0,0,0,0,0,0,0,0,0,0,0,0,0,0,0,0,0,0,0,0,0,0,0,0,0,0,0,0,0,0,0,0,0,0,0,0,0,0,{"$f":"SCN34","v":0},0,0,0,0,0,0,0,0,0,0,0,0,0,0,0,0,0,0,0,0,0,0,0,0,0,0,0,0,0,0,0,0,0,0,0,0,0,0,0,0,0,0,0,0,0,0,0,0,0,0,0,0,0,0,0,0,0,0,0,0,0,0,0,{"$f":"SEZ34","v":0},0,0,0,0,0,0,0,0,0,0,0,0,0,0,0,0,0,0,0,0,0,0,0,0,0,0,0,0,0,0,0,0,0,0,0,0,0,0,0,0,0,0,0,0,0,0,0,0,0,0,0,0,0,0,0,0,0,0,0,0,0,0,0,{"$f":"SHL34","v":0},0,0,0,0,0,0,0,0,0,0,0,0,0,0,0,0,0,0,0,0,0,0,0,0,0,0,0,0,0,0,0,0,0,0,0,0,0,0,0,0,0,0,0,0,0,0,0,0,0,0,0,0,0,0,0,0,0,0,0,0,0,0,0,{"$f":"SJX34","v":0},0,0,0,0,0,0,0,0,0,0,0,0,0,0,0,0,0,0,0,0,0,0,0,0,0,0,0,0,0,0,0,0,0,0,0,0,0,0,0,0,0,0,0,0,0,0,0,0,0,0,0,0,0,0,0,0,0,0,0,0,0,0,0,{"$f":"SMJ34","v":0},0,0,0,0,0,0,0,0,0,0,0,0,0,0,0,0,0,0,0,0,0,0,0,0,0,0,0,0,0,0,0,0,0,0,0,0,0,0,0,0,0,0,0,0,0,0,0,0,0,0,0,0,0,0,0,0,0,0,0,0,0,0,0,{"$f":"SOV34","v":0},0,0,0,0,0,0,0,0,0,0,0,0,0,0,0,0,0,0,0,0,0,0,0,0,0,0,0,0,0,0,0,0,0,0,0,0,0,0,0,0,0,0,0,0,0,0,0,0,0,0,0,0,0,0,0,0,0,0,0,0,0,0,0,{"$f":"SRH34","v":0},0,0,0,0,0,0,0,0,0,0,0,0,0,0,0,0,0,0,0,0,0,0,0,0,0,0,0,0,0,0,0,0,0,0,0,0,0,0,0,0,0,0,0,0,0,0,0,0,0,0,0,0,0,0,0,0,0,0,0,0,0,0,0,{"$f":"STT34","v":0},0,0,0,0,0,0,0,0,0,0,0,0,0,0,0,0,0,0,0,0,0,0,0,0,0,0,0,0,0,0,0,0,0,0,0,0,0,0,0,0,0,0,0,0,0,0,0,0,0,0,0,0,0,0,0,0,0,0,0,0,0,0,0,{"$f":"SWF34","v":0},0,0,0,0,0,0,0,0,0,0,0,0,0,0,0,0,0,0,0,0,0,0,0,0,0,0,0,0,0,0,0,0,0,0,0,0,0,0,0,0,0,0,0,0,0,0,0,0,0,0,0,0,0,0,0,0,0,0,0,0,0,0,0,{"$f":"SYR34","v":0},0,0,0,0,0,0,0,0,0,0,0,0,0,0,0,0,0,0,0,0,0,0,0,0,0,0,0,0,0,0,0,0,0,0,0,0,0,0,0,0,0,0,0,0,0,0,0,0,0,0,0,0,0,0,0,0,0,0,0,0,0,0,0,{"$f":"TBD34","v":0},0,0,0,0,0,0,0,0,0,0,0,0,0,0,0,0,0,0,0,0,0,0,0,0,0,0,0,0,0,0,0,0,0,0,0,0,0,0,0,0,0,0,0,0,0,0,0,0,0,0,0,0,0,0,0,0,0,0,0,0,0,0,0,{"$f":"TDP34","v":0},0,0,0,0,0,0,0,0,0,0,0,0,0,0,0,0,0,0,0,0,0,0,0,0,0,0,0,0,0,0,0,0,0,0,0,0,0,0,0,0,0,0,0,0,0,0,0,0,0,0,0,0,0,0,0,0,0,0,0,0,0,0,0,{"$f":"TGB34","v":0},0,0,0,0,0,0,0,0,0,0,0,0,0,0,0,0,0,0,0,0,0,0,0,0,0,0,0,0,0,0,0,0,0,0,0,0,0,0,0,0,0,0,0,0,0,0,0,0,0,0,0,0,0,0,0,0,0,0,0,0,0,0,0,{"$f":"TIN34","v":0},0,0,0,0,0,0,0,0,0,0,0,0,0,0,0,0,0,0,0,0,0,0,0,0,0,0,0,0,0,0,0,0,0,0,0,0,0,0,0,0,0,0,0,0,0,0,0,0,0,0,0,0,0,0,0,0,0,0,0,0,0,0,0,{"$f":"TKZ34","v":0},0,0,0,0,0,0,0,0,0,0,0,0,0,0,0,0,0,0,0,0,0,0,0,0,0,0,0,0,0,0,0,0,0,0,0,0,0,0,0,0,0,0,0,0,0,0,0,0,0,0,0,0,0,0,0,0,0,0,0,0,0,0,0,{"$f":"TNL34","v":0},0,0,0,0,0,0,0,0,0,0,0,0,0,0,0,0,0,0,0,0,0,0,0,0,0,0,0,0,0,0,0,0,0,0,0,0,0,0,0,0,0,0,0,0,0,0,0,0,0,0,0,0,0,0,0,0,0,0,0,0,0,0,0,{"$f":"TPX34","v":0},0,0,0,0,0,0,0,0,0,0,0,0,0,0,0,0,0,0,0,0,0,0,0,0,0,0,0,0,0,0,0,0,0,0,0,0,0,0,0,0,0,0,0,0,0,0,0,0,0,0,0,0,0,0,0,0,0,0,0,0,0,0,0,{"$f":"TSJ34","v":0},0,0,0,0,0,0,0,0,0,0,0,0,0,0,0,0,0,0,0,0,0,0,0,0,0,0,0,0,0,0,0,0,0,0,0,0,0,0,0,0,0,0,0,0,0,0,0,0,0,0,0,0,0,0,0,0,0,0,0,0,0,0,0,{"$f":"TUV34","v":0},0,0,0,0,0,0,0,0,0,0,0,0,0,0,0,0,0,0,0,0,0,0,0,0,0,0,0,0,0,0,0,0,0,0,0,0,0,0,0,0,0,0,0,0,0,0,0,0,0,0,0,0,0,0,0,0,0,0,0,0,0,0,0,{"$f":"TXH34","v":0},0,0,0,0,0,0,0,0,0,0,0,0,0,0,0,0,0,0,0,0,0,0,0,0,0,0,0,0,0,0,0,0,0,0,0,0,0,0,0,0,0,0,0,0,0,0,0,0,0,0,0,0,0,0,0,0,0,0,0,0,0,0,0,{"$f":"TZT34","v":0},0,0,0,0,0,0,0,0,0,0,0,0,0,0,0,0,0,0,0,0,0,0,0,0,0,0,0,0,0,0,0,0,0,0,0,0,0,0,0,0,0,0,0,0,0,0,0,0,0,0,0,0,0,0,0,0,0,0,0,0,0,0,0,{"$f":"UCF34","v":0},0,0,0,0,0,0,0,0,0,0,0,0,0,0,0,0,0,0,0,0,0,0,0,0,0,0,0,0,0,0,0,0,0,0,0,0,0,0,0,0,0,0,0,0,0,0,0,0,0,0,0,0,0,0,0,0,0,0,0,0,0,0,0,{"$f":"UER34","v":0},0,0,0,0,0,0,0,0,0,0,0,0,0,0,0,0,0,0,0,0,0,0,0,0,0,0,0,0,0,0,0,0,0,0,0,0,0,0,0,0,0,0,0,0,0,0,0,0,0,0,0,0,0,0,0,0,0,0,0,0,0,0,0,{"$f":"UHD34","v":0},0,0,0,0,0,0,0,0,0,0,0,0,0,0,0,0,0,0,0,0,0,0,0,0,0,0,0,0,0,0,0,0,0,0,0,0,0,0,0,0,0,0,0,0,0,0,0,0,0,0,0,0,0,0,0,0,0,0,0,0,0,0,0,{"$f":"UJP34","v":0},0,0,0,0,0,0,0,0,0,0,0,0,0,0,0,0,0,0,0,0,0,0,0,0,0,0,0,0,0,0,0,0,0,0,0,0,0,0,0,0,0,0,0,0,0,0,0,0,0,0,0,0,0,0,0,0,0,0,0,0,0,0,0,{"$f":"UMB34","v":0},0,0,0,0,0,0,0,0,0,0,0,0,0,0,0,0,0,0,0,0,0,0,0,0,0,0,0,0,0,0,0,0,0,0,0,0,0,0,0,0,0,0,0,0,0,0,0,0,0,0,0,0,0,0,0,0,0,0,0,0,0,0,0,{"$f":"UON34","v":0},0,0,0,0,0,0,0,0,0,0,0,0,0,0,0,0,0,0,0,0,0,0,0,0,0,0,0,0,0,0,0,0,0,0,0,0,0,0,0,0,0,0,0,0,0,0,0,0,0,0,0,0,0,0,0,0,0,0,0,0,0,0,0,{"$f":"UQZ34","v":0},0,0,0,0,0,0,0,0,0,0,0,0,0,0,0,0,0,0,0,0,0,0,0,0,0,0,0,0,0,0,0,0,0,0,0,0,0,0,0,0,0,0,0,0,0,0,0,0,0,0,0,0,0,0,0,0,0,0,0,0,0,0,0,{"$f":"UTL34","v":0},0,0,0,0,0,0,0,0,0,0,0,0,0,0,0,0,0,0,0,0,0,0,0,0,0,0,0,0,0,0,0,0,0,0,0,0,0,0,0,0,0,0,0,0,0,0,0,0,0,0,0,0,0,0,0,0,0,0,0,0,0,0,0,{"$f":"UVX34","v":0},0,0,0,0,0,0,0,0,0,0,0,0,0,0,0,0,0,0,0,0,0,0,0,0,0,0,0,0,0,0,0,0,0,0,0,0,0,0,0,0,0,0,0,0,0,0,0,0,0,0,0,0,0,0,0,0,0,0,0,0,0,0,0,{"$f":"UYJ34","v":0},0,0,0,0,0,0,0,0,0,0,0,0,0,0,0,0,0,0,0,0,0,0,0,0,0,0,0,0,0,0,0,0,0,0,0,0,0,0,0,0,0,0,0,0,0,0,0,0,0,0,0,0,0,0,0,0,0,0,0,0,0,0,0,{"$f":"VAV34","v":0},0,0,0,0,0,0,0,0,0,0,0,0,0,0,0,0,0,0,0,0,0,0,0,0,0,0,0,0,0,0,0,0,0,0,0,0,0,0,0,0,0,0,0,0,0,0,0,0,0,0,0,0,0,0,0,0,0,0,0,0,0,0,0,{"$f":"VDH34","v":0},0,0,0,0,0,0,0,0,0,0,0,0,0,0,0,0,0,0,0,0,0,0,0,0,0,0,0,0,0,0,0,0,0,0,0,0,0,0,0,0,0,0,0,0,0,0,0,0,0,0,0,0,0,0,0,0,0,0,0,0,0,0,0,{"$f":"VFT34","v":0},0,0,0,0,0,0,0,0,0,0,0,0,0,0,0,0,0,0,0,0,0,0,0,0,0,0,0,0,0,0,0,0,0,0,0,0,0,0,0,0,0,0,0,0,0,0,0,0,0,0,0,0,0,0,0,0,0,0,0,0,0,0,0,{"$f":"VIF34","v":0},0,0,0,0,0,0,0,0,0,0,0,0,0,0,0,0,0,0,0,0,0,0,0,0,0,0,0,0,0,0,0,0,0,0,0,0,0,0,0,0,0,0,0,0,0,0,0,0,0,0,0,0,0,0,0,0,0,0,0,0,0,0,0,{"$f":"VKR34","v":0},0,0,0,0,0,0,0,0,0,0,0,0,0,0,0,0,0,0,0,0,0,0,0,0,0,0,0,0,0,0,0,0,0,0,0,0,0,0,0,0,0,0,0,0,0,0,0,0,0,0,0,0,0,0,0,0,0,0,0,0,0,0,0,{"$f":"VND34","v":0},0,0,0,0,0,0,0,0,0,0,0,0,0,0,0,0,0,0,0,0,0,0,0,0,0,0,0,0,0,0,0,0,0,0,0,0,0,0,0,0,0,0,0,0,0,0,0,0,0,0,0,0,0,0,0,0,0,0,0,0,0,0,0,{"$f":"VPP34","v":0},0,0,0,0,0,0,0,0,0,0,0,0,0,0,0,0,0,0,0,0,0,0,0,0,0,0,0,0,0,0,0,0,0,0,0,0,0,0,0,0,0,0,0,0,0,0,0,0,0,0,0,0,0,0,0,0,0,0,0,0,0,0,0,{"$f":"VSB34","v":0},0,0,0,0,0,0,0,0,0,0,0,0,0,0,0,0,0,0,0,0,0,0,0,0,0,0,0,0,0,0,0,0,0,0,0,0,0,0,0,0,0,0,0,0,0,0,0,0,0,0,0,0,0,0,0,0,0,0,0,0,0,0,0,{"$f":"VUN34","v":0},0,0,0,0,0,0,0,0,0,0,0,0,0,0,0,0,0,0,0,0,0,0,0,0,0,0,0,0,0,0,0,0,0,0,0,0,0,0,0,0,0,0,0,0,0,0,0,0,0,0,0,0,0,0,0,0,0,0,0,0,0,0,0,{"$f":"VWZ34","v":0},0,0,0,0,0,0,0,0,0,0,0,0,0,0,0,0,0,0,0,0,0,0,0,0,0,0,0,0,0,0,0,0,0,0,0,0,0,0,0,0,0,0,0,0,0,0,0,0,0,0,0,0,0,0,0,0,0,0,0,0,0,0,0,{"$f":"VZL34","v":0},0,0,0,0,0,0,0,0,0,0,0,0,0,0,0,0,0,0,0,0,0,0,0,0,0,0,0,0,0,0,0,0,0,0,0,0,0,0,0,0,0,0,0,0,0,0,0,0,0,0,0,0,0,0,0,0,0,0,0,0,0,0,0,{"$f":"WBX34","v":0},0,0,0,0,0,0,0,0,0,0,0,0,0,0,0,0,0,0,0,0,0,0,0,0,0,0,0,0,0,0,0,0,0,0,0,0,0,0,0,0,0,0,0,0,0,0,0,0,0,0,0,0,0,0,0,0,0,0,0,0,0,0,0,{"$f":"WEJ34","v":0},0,0,0,0,0,0,0,0,0,0,0,0,0,0,0,0,0,0,0,0,0,0,0,0,0,0,0,0,0,0,0,0,0,0,0,0,0,0,0,0,0,0,0,0,0,0,0,0,0,0,0,0,0,0,0,0,0,0,0,0,0,0,0,{"$f":"WGV34","v":0},0,0,0,0,0,0,0,0,0,0,0,0,0,0,0,0,0,0,0,0,0,0,0,0,0,0,0,0,0,0,0,0,0,0,0,0,0,0,0,0,0,0,0,0,0,0,0,0,0,0,0,0,0,0,0,0,0,0,0,0,0,0,0,{"$f":"WJH34","v":0},0,0,0,0,0,0,0,0,0,0,0,0,0,0,0,0,0,0,0,0,0,0,0,0,0,0,0,0,0,0,0,0,0,0,0,0,0,0,0,0,0,0,0,0,0,0,0,0,0,0,0,0,0,0,0,0,0,0,0,0,0,0,0,{"$f":"WLT34","v":0},0,0,0,0,0,0,0,0,0,0,0,0,0,0,0,0,0,0,0,0,0,0,0,0,0,0,0,0,0,0,0,0,0,0,0,0,0,0,0,0,0,0,0,0,0,0,0,0,0,0,0,0,0,0,0,0,0,0,0,0,0,0,0,{"$f":"WOF34","v":0},0,0,0,0,0,0,0,0,0,0,0,0,0,0,0,0,0,0,0,0,0,0,0,0,0,0,0,0,0,0,0,0,0,0,0,0,0,0,0,0,0,0,0,0,0,0,0,0,0,0,0,0,0,0,0,0,0,0,0,0,0,0,0,{"$f":"WQR34","v":0},0,0,0,0,0,0,0,0,0,0,0,0,0,0,0,0,0,0,0,0,0,0,0,0,0,0,0,0,0,0,0,0,0,0,0,0,0,0,0,0,0,0,0,0,0,0,0,0,0,0,0,0,0,0,0,0,0,0,0,0,0,0,0,{"$f":"WTD34","v":0},0,0,0,0,0,0,0,0,0,0,0,0,0,0,0,0,0,0,0,0,0,0,0,0,0,0,0,0,0,0,0,0,0,0,0,0,0,0,0,0,0,0,0,0,0,0,0,0,0,0,0,0,0,0,0,0,0,0,0,0,0,0,0,{"$f":"WVP34","v":0},0,0,0,0,0,0,0,0,0,0,0,0,0,0,0,0,0,0,0,0,0,0,0,0,0,0,0,0,0,0,0,0,0,0,0,0,0,0,0,0,0,0,0,0,0,0,0,0,0,0,0,0,0,0,0,0,0,0,0,0,0,0,0,{"$f":"WYB34","v":0},0,0,0,0,0,0,0,0,0,0,0,0,0,0,0,0,0,0,0,0,0,0,0,0,0,0,0,0,0,0,0,0,0,0,0,0,0,0,0,0,0,0,0,0,0,0,0,0,0,0,0,0,0,0,0,0,0,0,0,0,0,0,0,{"$f":"XAN34","v":0},0,0,0,0,0,0,0,0,0,0,0,0,0,0,0,0,0,0,0,0,0,0,0,0,0,0,0,0,0,0,0,0,0,0,0,0,0,0,0,0,0,0,0,0,0,0,0,0,0,0,0,0,0,0,0,0,0,0,0,0,0,0,0,{"$f":"XCZ34","v":0},0,0,0,0,0,0,0,0,0,0,0,0,0,0,0,0,0,0,0,0,0,0,0,0,0,0,0,0,0,0,0,0,0,0,0,0,0,0,0,0,0,0,0,0,0,0,0,0,0,0,0,0,0]
[null,null,null,null,null,"N° de dossier",null,{"$f":"voletGeneral!$M$2&\"-01\"","v":"ANR-17-EUR-XXXX-01"},null,{"$f":"G46","v":0},{"$f":"H46","v":0},"Public",0,0,0,0,0,0,0,0,0,0,0,0,0,0,0,0,0,0,0,0,0,0,0,0,0,0,0,0,0,0,0,0,0,0,0,0,0,0,0,0,0,0,0,0,0,0,0,0,0,0,0,0,0,0,0,0,0,0,0,0,0,0,{"$f":"BT46","v":0},0,0,0,0,0,0,0,0,0,0,0,0,0,0,0,0,0,0,0,0,0,0,0,0,0,0,0,0,0,0,0,0,0,0,0,0,0,0,0,0,0,0,0,0,0,0,0,0,0,0,0,0,0,0,0,0,0,0,0,0,0,0,0,{"$f":"EF46","v":0},0,0,0,0,0,0,0,0,0,0,0,0,0,0,0,0,0,0,0,0,0,0,0,0,0,0,0,0,0,0,0,0,0,0,0,0,0,0,0,0,0,0,0,0,0,0,0,0,0,0,0,0,0,0,0,0,0,0,0,0,0,0,0,{"$f":"GR46","v":0},0,0,0,0,0,0,0,0,0,0,0,0,0,0,0,0,0,0,0,0,0,0,0,0,0,0,0,0,0,0,0,0,0,0,0,0,0,0,0,0,0,0,0,0,0,0,0,0,0,0,0,0,0,0,0,0,0,0,0,0,0,0,0,{"$f":"JD46","v":0},0,0,0,0,0,0,0,0,0,0,0,0,0,0,0,0,0,0,0,0,0,0,0,0,0,0,0,0,0,0,0,0,0,0,0,0,0,0,0,0,0,0,0,0,0,0,0,0,0,0,0,0,0,0,0,0,0,0,0,0,0,0,0,{"$f":"LP46","v":0},0,0,0,0,0,0,0,0,0,0,0,0,0,0,0,0,0,0,0,0,0,0,0,0,0,0,0,0,0,0,0,0,0,0,0,0,0,0,0,0,0,0,0,0,0,0,0,0,0,0,0,0,0,0,0,0,0,0,0,0,0,0,0,{"$f":"OB46","v":0},0,0,0,0,0,0,0,0,0,0,0,0,0,0,0,0,0,0,0,0,0,0,0,0,0,0,0,0,0,0,0,0,0,0,0,0,0,0,0,0,0,0,0,0,0,0,0,0,0,0,0,0,0,0,0,0,0,0,0,0,0,0,0,{"$f":"QN46","v":0},0,0,0,0,0,0,0,0,0,0,0,0,0,0,0,0,0,0,0,0,0,0,0,0,0,0,0,0,0,0,0,0,0,0,0,0,0,0,0,0,0,0,0,0,0,0,0,0,0,0,0,0,0,0,0,0,0,0,0,0,0,0,0,{"$f":"SZ46","v":0},0,0,0,0,0,0,0,0,0,0,0,0,0,0,0,0,0,0,0,0,0,0,0,0,0,0,0,0,0,0,0,0,0,0,0,0,0,0,0,0,0,0,0,0,0,0,0,0,0,0,0,0,0,0,0,0,0,0,0,0,0,0,0,{"$f":"VL46","v":0},0,0,0,0,0,0,0,0,0,0,0,0,0,0,0,0,0,0,0,0,0,0,0,0,0,0,0,0,0,0,0,0,0,0,0,0,0,0,0,0,0,0,0,0,0,0,0,0,0,0,0,0,0,0,0,0,0,0,0,0,0,0,0,{"$f":"XX46","v":0},0,0,0,0,0,0,0,0,0,0,0,0,0,0,0,0,0,0,0,0,0,0,0,0,0,0,0,0,0,0,0,0,0,0,0,0,0,0,0,0,0,0,0,0,0,0,0,0,0,0,0,0,0,0,0,0,0,0,0,0,0,0,0,{"$f":"AAJ46","v":0},0,0,0,0,0,0,0,0,0,0,0,0,0,0,0,0,0,0,0,0,0,0,0,0,0,0,0,0,0,0,0,0,0,0,0,0,0,0,0,0,0,0,0,0,0,0,0,0,0,0,0,0,0,0,0,0,0,0,0,0,0,0,0,{"$f":"ACV46","v":0},0,0,0,0,0,0,0,0,0,0,0,0,0,0,0,0,0,0,0,0,0,0,0,0,0,0,0,0,0,0,0,0,0,0,0,0,0,0,0,0,0,0,0,0,0,0,0,0,0,0,0,0,0,0,0,0,0,0,0,0,0,0,0,{"$f":"AFH46","v":0},0,0,0,0,0,0,0,0,0,0,0,0,0,0,0,0,0,0,0,0,0,0,0,0,0,0,0,0,0,0,0,0,0,0,0,0,0,0,0,0,0,0,0,0,0,0,0,0,0,0,0,0,0,0,0,0,0,0,0,0,0,0,0,{"$f":"AHT46","v":0},0,0,0,0,0,0,0,0,0,0,0,0,0,0,0,0,0,0,0,0,0,0,0,0,0,0,0,0,0,0,0,0,0,0,0,0,0,0,0,0,0,0,0,0,0,0,0,0,0,0,0,0,0,0,0,0,0,0,0,0,0,0,0,{"$f":"AKF46","v":0},0,0,0,0,0,0,0,0,0,0,0,0,0,0,0,0,0,0,0,0,0,0,0,0,0,0,0,0,0,0,0,0,0,0,0,0,0,0,0,0,0,0,0,0,0,0,0,0,0,0,0,0,0,0,0,0,0,0,0,0,0,0,0,{"$f":"AMR46","v":0},0,0,0,0,0,0,0,0,0,0,0,0,0,0,0,0,0,0,0,0,0,0,0,0,0,0,0,0,0,0,0,0,0,0,0,0,0,0,0,0,0,0,0,0,0,0,0,0,0,0,0,0,0,0,0,0,0,0,0,0,0,0,0,{"$f":"APD46","v":0},0,0,0,0,0,0,0,0,0,0,0,0,0,0,0,0,0,0,0,0,0,0,0,0,0,0,0,0,0,0,0,0,0,0,0,0,0,0,0,0,0,0,0,0,0,0,0,0,0,0,0,0,0,0,0,0,0,0,0,0,0,0,0,{"$f":"ARP46","v":0},0,0,0,0,0,0,0,0,0,0,0,0,0,0,0,0,0,0,0,0,0,0,0,0,0,0,0,0,0,0,0,0,0,0,0,0,0,0,0,0,0,0,0,0,0,0,0,0,0,0,0,0,0,0,0,0,0,0,0,0,0,0,0,{"$f":"AUB46","v":0},0,0,0,0,0,0,0,0,0,0,0,0,0,0,0,0,0,0,0,0,0,0,0,0,0,0,0,0,0,0,0,0,0,0,0,0,0,0,0,0,0,0,0,0,0,0,0,0,0,0,0,0,0,0,0,0,0,0,0,0,0,0,0,{"$f":"AWN46","v":0},0,0,0,0,0,0,0,0,0,0,0,0,0,0,0,0,0,0,0,0,0,0,0,0,0,0,0,0,0,0,0,0,0,0,0,0,0,0,0,0,0,0,0,0,0,0,0,0,0,0,0,0,0,0,0,0,0,0,0,0,0,0,0,{"$f":"AYZ46","v":0},0,0,0,0,0,0,0,0,0,0,0,0,0,0,0,0,0,0,0,0,0,0,0,0,0,0,0,0,0,0,0,0,0,0,0,0,0,0,0,0,0,0,0,0,0,0,0,0,0,0,0,0,0,0,0,0,0,0,0,0,0,0,0,{"$f":"BBL46","v":0},0,0,0,0,0,0,0,0,0,0,0,0,0,0,0,0,0,0,0,0,0,0,0,0,0,0,0,0,0,0,0,0,0,0,0,0,0,0,0,0,0,0,0,0,0,0,0,0,0,0,0,0,0,0,0,0,0,0,0,0,0,0,0,{"$f":"BDX46","v":0},0,0,0,0,0,0,0,0,0,0,0,0,0,0,0,0,0,0,0,0,0,0,0,0,0,0,0,0,0,0,0,0,0,0,0,0,0,0,0,0,0,0,0,0,0,0,0,0,0,0,0,0,0,0,0,0,0,0,0,0,0,0,0,{"$f":"BGJ46","v":0},0,0,0,0,0,0,0,0,0,0,0,0,0,0,0,0,0,0,0,0,0,0,0,0,0,0,0,0,0,0,0,0,0,0,0,0,0,0,0,0,0,0,0,0,0,0,0,0,0,0,0,0,0,0,0,0,0,0,0,0,0,0,0,{"$f":"BIV46","v":0},0,0,0,0,0,0,0,0,0,0,0,0,0,0,0,0,0,0,0,0,0,0,0,0,0,0,0,0,0,0,0,0,0,0,0,0,0,0,0,0,0,0,0,0,0,0,0,0,0,0,0,0,0,0,0,0,0,0,0,0,0,0,0,{"$f":"BLH46","v":0},0,0,0,0,0,0,0,0,0,0,0,0,0,0,0,0,0,0,0,0,0,0,0,0,0,0,0,0,0,0,0,0,0,0,0,0,0,0,0,0,0,0,0,0,0,0,0,0,0,0,0,0,0,0,0,0,0,0,0,0,0,0,0,{"$f":"BNT46","v":0},0,0,0,0,0,0,0,0,0,0,0,0,0,0,0,0,0,0,0,0,0,0,0,0,0,0,0,0,0,0,0,0,0,0,0,0,0,0,0,0,0,0,0,0,0,0,0,0,0,0,0,0,0,0,0,0,0,0,0,0,0,0,0,{"$f":"BQF46","v":0},0,0,0,0,0,0,0,0,0,0,0,0,0,0,0,0,0,0,0,0,0,0,0,0,0,0,0,0,0,0,0,0,0,0,0,0,0,0,0,0,0,0,0,0,0,0,0,0,0,0,0,0,0,0,0,0,0,0,0,0,0,0,0,{"$f":"BSR46","v":0},0,0,0,0,0,0,0,0,0,0,0,0,0,0,0,0,0,0,0,0,0,0,0,0,0,0,0,0,0,0,0,0,0,0,0,0,0,0,0,0,0,0,0,0,0,0,0,0,0,0,0,0,0,0,0,0,0,0,0,0,0,0,0,{"$f":"BVD46","v":0},0,0,0,0,0,0,0,0,0,0,0,0,0,0,0,0,0,0,0,0,0,0,0,0,0,0,0,0,0,0,0,0,0,0,0,0,0,0,0,0,0,0,0,0,0,0,0,0,0,0,0,0,0,0,0,0,0,0,0,0,0,0,0,{"$f":"BXP46","v":0},0,0,0,0,0,0,0,0,0,0,0,0,0,0,0,0,0,0,0,0,0,0,0,0,0,0,0,0,0,0,0,0,0,0,0,0,0,0,0,0,0,0,0,0,0,0,0,0,0,0,0,0,0,0,0,0,0,0,0,0,0,0,0,{"$f":"CAB46","v":0},0,0,0,0,0,0,0,0,0,0,0,0,0,0,0,0,0,0,0,0,0,0,0,0,0,0,0,0,0,0,0,0,0,0,0,0,0,0,0,0,0,0,0,0,0,0,0,0,0,0,0,0,0,0,0,0,0,0,0,0,0,0,0,{"$f":"CCN46","v":0},0,0,0,0,0,0,0,0,0,0,0,0,0,0,0,0,0,0,0,0,0,0,0,0,0,0,0,0,0,0,0,0,0,0,0,0,0,0,0,0,0,0,0,0,0,0,0,0,0,0,0,0,0,0,0,0,0,0,0,0,0,0,0,{"$f":"CEZ46","v":0},0,0,0,0,0,0,0,0,0,0,0,0,0,0,0,0,0,0,0,0,0,0,0,0,0,0,0,0,0,0,0,0,0,0,0,0,0,0,0,0,0,0,0,0,0,0,0,0,0,0,0,0,0,0,0,0,0,0,0,0,0,0,0,{"$f":"CHL46","v":0},0,0,0,0,0,0,0,0,0,0,0,0,0,0,0,0,0,0,0,0,0,0,0,0,0,0,0,0,0,0,0,0,0,0,0,0,0,0,0,0,0,0,0,0,0,0,0,0,0,0,0,0,0,0,0,0,0,0,0,0,0,0,0,{"$f":"CJX46","v":0},0,0,0,0,0,0,0,0,0,0,0,0,0,0,0,0,0,0,0,0,0,0,0,0,0,0,0,0,0,0,0,0,0,0,0,0,0,0,0,0,0,0,0,0,0,0,0,0,0,0,0,0,0,0,0,0,0,0,0,0,0,0,0,{"$f":"CMJ46","v":0},0,0,0,0,0,0,0,0,0,0,0,0,0,0,0,0,0,0,0,0,0,0,0,0,0,0,0,0,0,0,0,0,0,0,0,0,0,0,0,0,0,0,0,0,0,0,0,0,0,0,0,0,0,0,0,0,0,0,0,0,0,0,0,{"$f":"COV46","v":0},0,0,0,0,0,0,0,0,0,0,0,0,0,0,0,0,0,0,0,0,0,0,0,0,0,0,0,0,0,0,0,0,0,0,0,0,0,0,0,0,0,0,0,0,0,0,0,0,0,0,0,0,0,0,0,0,0,0,0,0,0,0,0,{"$f":"CRH46","v":0},0,0,0,0,0,0,0,0,0,0,0,0,0,0,0,0,0,0,0,0,0,0,0,0,0,0,0,0,0,0,0,0,0,0,0,0,0,0,0,0,0,0,0,0,0,0,0,0,0,0,0,0,0,0,0,0,0,0,0,0,0,0,0,{"$f":"CTT46","v":0},0,0,0,0,0,0,0,0,0,0,0,0,0,0,0,0,0,0,0,0,0,0,0,0,0,0,0,0,0,0,0,0,0,0,0,0,0,0,0,0,0,0,0,0,0,0,0,0,0,0,0,0,0,0,0,0,0,0,0,0,0,0,0,{"$f":"CWF46","v":0},0,0,0,0,0,0,0,0,0,0,0,0,0,0,0,0,0,0,0,0,0,0,0,0,0,0,0,0,0,0,0,0,0,0,0,0,0,0,0,0,0,0,0,0,0,0,0,0,0,0,0,0,0,0,0,0,0,0,0,0,0,0,0,{"$f":"CYR46","v":0},0,0,0,0,0,0,0,0,0,0,0,0,0,0,0,0,0,0,0,0,0,0,0,0,0,0,0,0,0,0,0,0,0,0,0,0,0,0,0,0,0,0,0,0,0,0,0,0,0,0,0,0,0,0,0,0,0,0,0,0,0,0,0,{"$f":"DBD46","v":0},0,0,0,0,0,0,0,0,0,0,0,0,0,0,0,0,0,0,0,0,0,0,0,0,0,0,0,0,0,0,0,0,0,0,0,0,0,0,0,0,0,0,0,0,0,0,0,0,0,0,0,0,0,0,0,0,0,0,0,0,0,0,0,{"$f":"DDP46","v":0},0,0,0,0,0,0,0,0,0,0,0,0,0,0,0,0,0,0,0,0,0,0,0,0,0,0,0,0,0,0,0,0,0,0,0,0,0,0,0,0,0,0,0,0,0,0,0,0,0,0,0,0,0,0,0,0,0,0,0,0,0,0,0,{"$f":"DGB46","v":0},0,0,0,0,0,0,0,0,0,0,0,0,0,0,0,0,0,0,0,0,0,0,0,0,0,0,0,0,0,0,0,0,0,0,0,0,0,0,0,0,0,0,0,0,0,0,0,0,0,0,0,0,0,0,0,0,0,0,0,0,0,0,0,{"$f":"DIN46","v":0},0,0,0,0,0,0,0,0,0,0,0,0,0,0,0,0,0,0,0,0,0,0,0,0,0,0,0,0,0,0,0,0,0,0,0,0,0,0,0,0,0,0,0,0,0,0,0,0,0,0,0,0,0,0,0,0,0,0,0,0,0,0,0,{"$f":"DKZ46","v":0},0,0,0,0,0,0,0,0,0,0,0,0,0,0,0,0,0,0,0,0,0,0,0,0,0,0,0,0,0,0,0,0,0,0,0,0,0,0,0,0,0,0,0,0,0,0,0,0,0,0,0,0,0,0,0,0,0,0,0,0,0,0,0,{"$f":"DNL46","v":0},0,0,0,0,0,0,0,0,0,0,0,0,0,0,0,0,0,0,0,0,0,0,0,0,0,0,0,0,0,0,0,0,0,0,0,0,0,0,0,0,0,0,0,0,0,0,0,0,0,0,0,0,0,0,0,0,0,0,0,0,0,0,0,{"$f":"DPX46","v":0},0,0,0,0,0,0,0,0,0,0,0,0,0,0,0,0,0,0,0,0,0,0,0,0,0,0,0,0,0,0,0,0,0,0,0,0,0,0,0,0,0,0,0,0,0,0,0,0,0,0,0,0,0,0,0,0,0,0,0,0,0,0,0,{"$f":"DSJ46","v":0},0,0,0,0,0,0,0,0,0,0,0,0,0,0,0,0,0,0,0,0,0,0,0,0,0,0,0,0,0,0,0,0,0,0,0,0,0,0,0,0,0,0,0,0,0,0,0,0,0,0,0,0,0,0,0,0,0,0,0,0,0,0,0,{"$f":"DUV46","v":0},0,0,0,0,0,0,0,0,0,0,0,0,0,0,0,0,0,0,0,0,0,0,0,0,0,0,0,0,0,0,0,0,0,0,0,0,0,0,0,0,0,0,0,0,0,0,0,0,0,0,0,0,0,0,0,0,0,0,0,0,0,0,0,{"$f":"DXH46","v":0},0,0,0,0,0,0,0,0,0,0,0,0,0,0,0,0,0,0,0,0,0,0,0,0,0,0,0,0,0,0,0,0,0,0,0,0,0,0,0,0,0,0,0,0,0,0,0,0,0,0,0,0,0,0,0,0,0,0,0,0,0,0,0,{"$f":"DZT46","v":0},0,0,0,0,0,0,0,0,0,0,0,0,0,0,0,0,0,0,0,0,0,0,0,0,0,0,0,0,0,0,0,0,0,0,0,0,0,0,0,0,0,0,0,0,0,0,0,0,0,0,0,0,0,0,0,0,0,0,0,0,0,0,0,{"$f":"ECF46","v":0},0,0,0,0,0,0,0,0,0,0,0,0,0,0,0,0,0,0,0,0,0,0,0,0,0,0,0,0,0,0,0,0,0,0,0,0,0,0,0,0,0,0,0,0,0,0,0,0,0,0,0,0,0,0,0,0,0,0,0,0,0,0,0,{"$f":"EER46","v":0},0,0,0,0,0,0,0,0,0,0,0,0,0,0,0,0,0,0,0,0,0,0,0,0,0,0,0,0,0,0,0,0,0,0,0,0,0,0,0,0,0,0,0,0,0,0,0,0,0,0,0,0,0,0,0,0,0,0,0,0,0,0,0,{"$f":"EHD46","v":0},0,0,0,0,0,0,0,0,0,0,0,0,0,0,0,0,0,0,0,0,0,0,0,0,0,0,0,0,0,0,0,0,0,0,0,0,0,0,0,0,0,0,0,0,0,0,0,0,0,0,0,0,0,0,0,0,0,0,0,0,0,0,0,{"$f":"EJP46","v":0},0,0,0,0,0,0,0,0,0,0,0,0,0,0,0,0,0,0,0,0,0,0,0,0,0,0,0,0,0,0,0,0,0,0,0,0,0,0,0,0,0,0,0,0,0,0,0,0,0,0,0,0,0,0,0,0,0,0,0,0,0,0,0,{"$f":"EMB46","v":0},0,0,0,0,0,0,0,0,0,0,0,0,0,0,0,0,0,0,0,0,0,0,0,0,0,0,0,0,0,0,0,0,0,0,0,0,0,0,0,0,0,0,0,0,0,0,0,0,0,0,0,0,0,0,0,0,0,0,0,0,0,0,0,{"$f":"EON46","v":0},0,0,0,0,0,0,0,0,0,0,0,0,0,0,0,0,0,0,0,0,0,0,0,0,0,0,0,0,0,0,0,0,0,0,0,0,0,0,0,0,0,0,0,0,0,0,0,0,0,0,0,0,0,0,0,0,0,0,0,0,0,0,0,{"$f":"EQZ46","v":0},0,0,0,0,0,0,0,0,0,0,0,0,0,0,0,0,0,0,0,0,0,0,0,0,0,0,0,0,0,0,0,0,0,0,0,0,0,0,0,0,0,0,0,0,0,0,0,0,0,0,0,0,0,0,0,0,0,0,0,0,0,0,0,{"$f":"ETL46","v":0},0,0,0,0,0,0,0,0,0,0,0,0,0,0,0,0,0,0,0,0,0,0,0,0,0,0,0,0,0,0,0,0,0,0,0,0,0,0,0,0,0,0,0,0,0,0,0,0,0,0,0,0,0,0,0,0,0,0,0,0,0,0,0,{"$f":"EVX46","v":0},0,0,0,0,0,0,0,0,0,0,0,0,0,0,0,0,0,0,0,0,0,0,0,0,0,0,0,0,0,0,0,0,0,0,0,0,0,0,0,0,0,0,0,0,0,0,0,0,0,0,0,0,0,0,0,0,0,0,0,0,0,0,0,{"$f":"EYJ46","v":0},0,0,0,0,0,0,0,0,0,0,0,0,0,0,0,0,0,0,0,0,0,0,0,0,0,0,0,0,0,0,0,0,0,0,0,0,0,0,0,0,0,0,0,0,0,0,0,0,0,0,0,0,0,0,0,0,0,0,0,0,0,0,0,{"$f":"FAV46","v":0},0,0,0,0,0,0,0,0,0,0,0,0,0,0,0,0,0,0,0,0,0,0,0,0,0,0,0,0,0,0,0,0,0,0,0,0,0,0,0,0,0,0,0,0,0,0,0,0,0,0,0,0,0,0,0,0,0,0,0,0,0,0,0,{"$f":"FDH46","v":0},0,0,0,0,0,0,0,0,0,0,0,0,0,0,0,0,0,0,0,0,0,0,0,0,0,0,0,0,0,0,0,0,0,0,0,0,0,0,0,0,0,0,0,0,0,0,0,0,0,0,0,0,0,0,0,0,0,0,0,0,0,0,0,{"$f":"FFT46","v":0},0,0,0,0,0,0,0,0,0,0,0,0,0,0,0,0,0,0,0,0,0,0,0,0,0,0,0,0,0,0,0,0,0,0,0,0,0,0,0,0,0,0,0,0,0,0,0,0,0,0,0,0,0,0,0,0,0,0,0,0,0,0,0,{"$f":"FIF46","v":0},0,0,0,0,0,0,0,0,0,0,0,0,0,0,0,0,0,0,0,0,0,0,0,0,0,0,0,0,0,0,0,0,0,0,0,0,0,0,0,0,0,0,0,0,0,0,0,0,0,0,0,0,0,0,0,0,0,0,0,0,0,0,0,{"$f":"FKR46","v":0},0,0,0,0,0,0,0,0,0,0,0,0,0,0,0,0,0,0,0,0,0,0,0,0,0,0,0,0,0,0,0,0,0,0,0,0,0,0,0,0,0,0,0,0,0,0,0,0,0,0,0,0,0,0,0,0,0,0,0,0,0,0,0,{"$f":"FND46","v":0},0,0,0,0,0,0,0,0,0,0,0,0,0,0,0,0,0,0,0,0,0,0,0,0,0,0,0,0,0,0,0,0,0,0,0,0,0,0,0,0,0,0,0,0,0,0,0,0,0,0,0,0,0,0,0,0,0,0,0,0,0,0,0,{"$f":"FPP46","v":0},0,0,0,0,0,0,0,0,0,0,0,0,0,0,0,0,0,0,0,0,0,0,0,0,0,0,0,0,0,0,0,0,0,0,0,0,0,0,0,0,0,0,0,0,0,0,0,0,0,0,0,0,0,0,0,0,0,0,0,0,0,0,0,{"$f":"FSB46","v":0},0,0,0,0,0,0,0,0,0,0,0,0,0,0,0,0,0,0,0,0,0,0,0,0,0,0,0,0,0,0,0,0,0,0,0,0,0,0,0,0,0,0,0,0,0,0,0,0,0,0,0,0,0,0,0,0,0,0,0,0,0,0,0,{"$f":"FUN46","v":0},0,0,0,0,0,0,0,0,0,0,0,0,0,0,0,0,0,0,0,0,0,0,0,0,0,0,0,0,0,0,0,0,0,0,0,0,0,0,0,0,0,0,0,0,0,0,0,0,0,0,0,0,0,0,0,0,0,0,0,0,0,0,0,{"$f":"FWZ46","v":0},0,0,0,0,0,0,0,0,0,0,0,0,0,0,0,0,0,0,0,0,0,0,0,0,0,0,0,0,0,0,0,0,0,0,0,0,0,0,0,0,0,0,0,0,0,0,0,0,0,0,0,0,0,0,0,0,0,0,0,0,0,0,0,{"$f":"FZL46","v":0},0,0,0,0,0,0,0,0,0,0,0,0,0,0,0,0,0,0,0,0,0,0,0,0,0,0,0,0,0,0,0,0,0,0,0,0,0,0,0,0,0,0,0,0,0,0,0,0,0,0,0,0,0,0,0,0,0,0,0,0,0,0,0,{"$f":"GBX46","v":0},0,0,0,0,0,0,0,0,0,0,0,0,0,0,0,0,0,0,0,0,0,0,0,0,0,0,0,0,0,0,0,0,0,0,0,0,0,0,0,0,0,0,0,0,0,0,0,0,0,0,0,0,0,0,0,0,0,0,0,0,0,0,0,{"$f":"GEJ46","v":0},0,0,0,0,0,0,0,0,0,0,0,0,0,0,0,0,0,0,0,0,0,0,0,0,0,0,0,0,0,0,0,0,0,0,0,0,0,0,0,0,0,0,0,0,0,0,0,0,0,0,0,0,0,0,0,0,0,0,0,0,0,0,0,{"$f":"GGV46","v":0},0,0,0,0,0,0,0,0,0,0,0,0,0,0,0,0,0,0,0,0,0,0,0,0,0,0,0,0,0,0,0,0,0,0,0,0,0,0,0,0,0,0,0,0,0,0,0,0,0,0,0,0,0,0,0,0,0,0,0,0,0,0,0,{"$f":"GJH46","v":0},0,0,0,0,0,0,0,0,0,0,0,0,0,0,0,0,0,0,0,0,0,0,0,0,0,0,0,0,0,0,0,0,0,0,0,0,0,0,0,0,0,0,0,0,0,0,0,0,0,0,0,0,0,0,0,0,0,0,0,0,0,0,0,{"$f":"GLT46","v":0},0,0,0,0,0,0,0,0,0,0,0,0,0,0,0,0,0,0,0,0,0,0,0,0,0,0,0,0,0,0,0,0,0,0,0,0,0,0,0,0,0,0,0,0,0,0,0,0,0,0,0,0,0,0,0,0,0,0,0,0,0,0,0,{"$f":"GOF46","v":0},0,0,0,0,0,0,0,0,0,0,0,0,0,0,0,0,0,0,0,0,0,0,0,0,0,0,0,0,0,0,0,0,0,0,0,0,0,0,0,0,0,0,0,0,0,0,0,0,0,0,0,0,0,0,0,0,0,0,0,0,0,0,0,{"$f":"GQR46","v":0},0,0,0,0,0,0,0,0,0,0,0,0,0,0,0,0,0,0,0,0,0,0,0,0,0,0,0,0,0,0,0,0,0,0,0,0,0,0,0,0,0,0,0,0,0,0,0,0,0,0,0,0,0,0,0,0,0,0,0,0,0,0,0,{"$f":"GTD46","v":0},0,0,0,0,0,0,0,0,0,0,0,0,0,0,0,0,0,0,0,0,0,0,0,0,0,0,0,0,0,0,0,0,0,0,0,0,0,0,0,0,0,0,0,0,0,0,0,0,0,0,0,0,0,0,0,0,0,0,0,0,0,0,0,{"$f":"GVP46","v":0},0,0,0,0,0,0,0,0,0,0,0,0,0,0,0,0,0,0,0,0,0,0,0,0,0,0,0,0,0,0,0,0,0,0,0,0,0,0,0,0,0,0,0,0,0,0,0,0,0,0,0,0,0,0,0,0,0,0,0,0,0,0,0,{"$f":"GYB46","v":0},0,0,0,0,0,0,0,0,0,0,0,0,0,0,0,0,0,0,0,0,0,0,0,0,0,0,0,0,0,0,0,0,0,0,0,0,0,0,0,0,0,0,0,0,0,0,0,0,0,0,0,0,0,0,0,0,0,0,0,0,0,0,0,{"$f":"HAN46","v":0},0,0,0,0,0,0,0,0,0,0,0,0,0,0,0,0,0,0,0,0,0,0,0,0,0,0,0,0,0,0,0,0,0,0,0,0,0,0,0,0,0,0,0,0,0,0,0,0,0,0,0,0,0,0,0,0,0,0,0,0,0,0,0,{"$f":"HCZ46","v":0},0,0,0,0,0,0,0,0,0,0,0,0,0,0,0,0,0,0,0,0,0,0,0,0,0,0,0,0,0,0,0,0,0,0,0,0,0,0,0,0,0,0,0,0,0,0,0,0,0,0,0,0,0,0,0,0,0,0,0,0,0,0,0,{"$f":"HFL46","v":0},0,0,0,0,0,0,0,0,0,0,0,0,0,0,0,0,0,0,0,0,0,0,0,0,0,0,0,0,0,0,0,0,0,0,0,0,0,0,0,0,0,0,0,0,0,0,0,0,0,0,0,0,0,0,0,0,0,0,0,0,0,0,0,{"$f":"HHX46","v":0},0,0,0,0,0,0,0,0,0,0,0,0,0,0,0,0,0,0,0,0,0,0,0,0,0,0,0,0,0,0,0,0,0,0,0,0,0,0,0,0,0,0,0,0,0,0,0,0,0,0,0,0,0,0,0,0,0,0,0,0,0,0,0,{"$f":"HKJ46","v":0},0,0,0,0,0,0,0,0,0,0,0,0,0,0,0,0,0,0,0,0,0,0,0,0,0,0,0,0,0,0,0,0,0,0,0,0,0,0,0,0,0,0,0,0,0,0,0,0,0,0,0,0,0,0,0,0,0,0,0,0,0,0,0,{"$f":"HMV46","v":0},0,0,0,0,0,0,0,0,0,0,0,0,0,0,0,0,0,0,0,0,0,0,0,0,0,0,0,0,0,0,0,0,0,0,0,0,0,0,0,0,0,0,0,0,0,0,0,0,0,0,0,0,0,0,0,0,0,0,0,0,0,0,0,{"$f":"HPH46","v":0},0,0,0,0,0,0,0,0,0,0,0,0,0,0,0,0,0,0,0,0,0,0,0,0,0,0,0,0,0,0,0,0,0,0,0,0,0,0,0,0,0,0,0,0,0,0,0,0,0,0,0,0,0,0,0,0,0,0,0,0,0,0,0,{"$f":"HRT46","v":0},0,0,0,0,0,0,0,0,0,0,0,0,0,0,0,0,0,0,0,0,0,0,0,0,0,0,0,0,0,0,0,0,0,0,0,0,0,0,0,0,0,0,0,0,0,0,0,0,0,0,0,0,0,0,0,0,0,0,0,0,0,0,0,{"$f":"HUF46","v":0},0,0,0,0,0,0,0,0,0,0,0,0,0,0,0,0,0,0,0,0,0,0,0,0,0,0,0,0,0,0,0,0,0,0,0,0,0,0,0,0,0,0,0,0,0,0,0,0,0,0,0,0,0,0,0,0,0,0,0,0,0,0,0,{"$f":"HWR46","v":0},0,0,0,0,0,0,0,0,0,0,0,0,0,0,0,0,0,0,0,0,0,0,0,0,0,0,0,0,0,0,0,0,0,0,0,0,0,0,0,0,0,0,0,0,0,0,0,0,0,0,0,0,0,0,0,0,0,0,0,0,0,0,0,{"$f":"HZD46","v":0},0,0,0,0,0,0,0,0,0,0,0,0,0,0,0,0,0,0,0,0,0,0,0,0,0,0,0,0,0,0,0,0,0,0,0,0,0,0,0,0,0,0,0,0,0,0,0,0,0,0,0,0,0,0,0,0,0,0,0,0,0,0,0,{"$f":"IBP46","v":0},0,0,0,0,0,0,0,0,0,0,0,0,0,0,0,0,0,0,0,0,0,0,0,0,0,0,0,0,0,0,0,0,0,0,0,0,0,0,0,0,0,0,0,0,0,0,0,0,0,0,0,0,0,0,0,0,0,0,0,0,0,0,0,{"$f":"IEB46","v":0},0,0,0,0,0,0,0,0,0,0,0,0,0,0,0,0,0,0,0,0,0,0,0,0,0,0,0,0,0,0,0,0,0,0,0,0,0,0,0,0,0,0,0,0,0,0,0,0,0,0,0,0,0,0,0,0,0,0,0,0,0,0,0,{"$f":"IGN46","v":0},0,0,0,0,0,0,0,0,0,0,0,0,0,0,0,0,0,0,0,0,0,0,0,0,0,0,0,0,0,0,0,0,0,0,0,0,0,0,0,0,0,0,0,0,0,0,0,0,0,0,0,0,0,0,0,0,0,0,0,0,0,0,0,{"$f":"IIZ46","v":0},0,0,0,0,0,0,0,0,0,0,0,0,0,0,0,0,0,0,0,0,0,0,0,0,0,0,0,0,0,0,0,0,0,0,0,0,0,0,0,0,0,0,0,0,0,0,0,0,0,0,0,0,0,0,0,0,0,0,0,0,0,0,0,{"$f":"ILL46","v":0},0,0,0,0,0,0,0,0,0,0,0,0,0,0,0,0,0,0,0,0,0,0,0,0,0,0,0,0,0,0,0,0,0,0,0,0,0,0,0,0,0,0,0,0,0,0,0,0,0,0,0,0,0,0,0,0,0,0,0,0,0,0,0,{"$f":"INX46","v":0},0,0,0,0,0,0,0,0,0,0,0,0,0,0,0,0,0,0,0,0,0,0,0,0,0,0,0,0,0,0,0,0,0,0,0,0,0,0,0,0,0,0,0,0,0,0,0,0,0,0,0,0,0,0,0,0,0,0,0,0,0,0,0,{"$f":"IQJ46","v":0},0,0,0,0,0,0,0,0,0,0,0,0,0,0,0,0,0,0,0,0,0,0,0,0,0,0,0,0,0,0,0,0,0,0,0,0,0,0,0,0,0,0,0,0,0,0,0,0,0,0,0,0,0,0,0,0,0,0,0,0,0,0,0,{"$f":"ISV46","v":0},0,0,0,0,0,0,0,0,0,0,0,0,0,0,0,0,0,0,0,0,0,0,0,0,0,0,0,0,0,0,0,0,0,0,0,0,0,0,0,0,0,0,0,0,0,0,0,0,0,0,0,0,0,0,0,0,0,0,0,0,0,0,0,{"$f":"IVH46","v":0},0,0,0,0,0,0,0,0,0,0,0,0,0,0,0,0,0,0,0,0,0,0,0,0,0,0,0,0,0,0,0,0,0,0,0,0,0,0,0,0,0,0,0,0,0,0,0,0,0,0,0,0,0,0,0,0,0,0,0,0,0,0,0,{"$f":"IXT46","v":0},0,0,0,0,0,0,0,0,0,0,0,0,0,0,0,0,0,0,0,0,0,0,0,0,0,0,0,0,0,0,0,0,0,0,0,0,0,0,0,0,0,0,0,0,0,0,0,0,0,0,0,0,0,0,0,0,0,0,0,0,0,0,0,{"$f":"JAF46","v":0},0,0,0,0,0,0,0,0,0,0,0,0,0,0,0,0,0,0,0,0,0,0,0,0,0,0,0,0,0,0,0,0,0,0,0,0,0,0,0,0,0,0,0,0,0,0,0,0,0,0,0,0,0,0,0,0,0,0,0,0,0,0,0,{"$f":"JCR46","v":0},0,0,0,0,0,0,0,0,0,0,0,0,0,0,0,0,0,0,0,0,0,0,0,0,0,0,0,0,0,0,0,0,0,0,0,0,0,0,0,0,0,0,0,0,0,0,0,0,0,0,0,0,0,0,0,0,0,0,0,0,0,0,0,{"$f":"JFD46","v":0},0,0,0,0,0,0,0,0,0,0,0,0,0,0,0,0,0,0,0,0,0,0,0,0,0,0,0,0,0,0,0,0,0,0,0,0,0,0,0,0,0,0,0,0,0,0,0,0,0,0,0,0,0,0,0,0,0,0,0,0,0,0,0,{"$f":"JHP46","v":0},0,0,0,0,0,0,0,0,0,0,0,0,0,0,0,0,0,0,0,0,0,0,0,0,0,0,0,0,0,0,0,0,0,0,0,0,0,0,0,0,0,0,0,0,0,0,0,0,0,0,0,0,0,0,0,0,0,0,0,0,0,0,0,{"$f":"JKB46","v":0},0,0,0,0,0,0,0,0,0,0,0,0,0,0,0,0,0,0,0,0,0,0,0,0,0,0,0,0,0,0,0,0,0,0,0,0,0,0,0,0,0,0,0,0,0,0,0,0,0,0,0,0,0,0,0,0,0,0,0,0,0,0,0,{"$f":"JMN46","v":0},0,0,0,0,0,0,0,0,0,0,0,0,0,0,0,0,0,0,0,0,0,0,0,0,0,0,0,0,0,0,0,0,0,0,0,0,0,0,0,0,0,0,0,0,0,0,0,0,0,0,0,0,0,0,0,0,0,0,0,0,0,0,0,{"$f":"JOZ46","v":0},0,0,0,0,0,0,0,0,0,0,0,0,0,0,0,0,0,0,0,0,0,0,0,0,0,0,0,0,0,0,0,0,0,0,0,0,0,0,0,0,0,0,0,0,0,0,0,0,0,0,0,0,0,0,0,0,0,0,0,0,0,0,0,{"$f":"JRL46","v":0},0,0,0,0,0,0,0,0,0,0,0,0,0,0,0,0,0,0,0,0,0,0,0,0,0,0,0,0,0,0,0,0,0,0,0,0,0,0,0,0,0,0,0,0,0,0,0,0,0,0,0,0,0,0,0,0,0,0,0,0,0,0,0,{"$f":"JTX46","v":0},0,0,0,0,0,0,0,0,0,0,0,0,0,0,0,0,0,0,0,0,0,0,0,0,0,0,0,0,0,0,0,0,0,0,0,0,0,0,0,0,0,0,0,0,0,0,0,0,0,0,0,0,0,0,0,0,0,0,0,0,0,0,0,{"$f":"JWJ46","v":0},0,0,0,0,0,0,0,0,0,0,0,0,0,0,0,0,0,0,0,0,0,0,0,0,0,0,0,0,0,0,0,0,0,0,0,0,0,0,0,0,0,0,0,0,0,0,0,0,0,0,0,0,0,0,0,0,0,0,0,0,0,0,0,{"$f":"JYV46","v":0},0,0,0,0,0,0,0,0,0,0,0,0,0,0,0,0,0,0,0,0,0,0,0,0,0,0,0,0,0,0,0,0,0,0,0,0,0,0,0,0,0,0,0,0,0,0,0,0,0,0,0,0,0,0,0,0,0,0,0,0,0,0,0,{"$f":"KBH46","v":0},0,0,0,0,0,0,0,0,0,0,0,0,0,0,0,0,0,0,0,0,0,0,0,0,0,0,0,0,0,0,0,0,0,0,0,0,0,0,0,0,0,0,0,0,0,0,0,0,0,0,0,0,0,0,0,0,0,0,0,0,0,0,0,{"$f":"KDT46","v":0},0,0,0,0,0,0,0,0,0,0,0,0,0,0,0,0,0,0,0,0,0,0,0,0,0,0,0,0,0,0,0,0,0,0,0,0,0,0,0,0,0,0,0,0,0,0,0,0,0,0,0,0,0,0,0,0,0,0,0,0,0,0,0,{"$f":"KGF46","v":0},0,0,0,0,0,0,0,0,0,0,0,0,0,0,0,0,0,0,0,0,0,0,0,0,0,0,0,0,0,0,0,0,0,0,0,0,0,0,0,0,0,0,0,0,0,0,0,0,0,0,0,0,0,0,0,0,0,0,0,0,0,0,0,{"$f":"KIR46","v":0},0,0,0,0,0,0,0,0,0,0,0,0,0,0,0,0,0,0,0,0,0,0,0,0,0,0,0,0,0,0,0,0,0,0,0,0,0,0,0,0,0,0,0,0,0,0,0,0,0,0,0,0,0,0,0,0,0,0,0,0,0,0,0,{"$f":"KLD46","v":0},0,0,0,0,0,0,0,0,0,0,0,0,0,0,0,0,0,0,0,0,0,0,0,0,0,0,0,0,0,0,0,0,0,0,0,0,0,0,0,0,0,0,0,0,0,0,0,0,0,0,0,0,0,0,0,0,0,0,0,0,0,0,0,{"$f":"KNP46","v":0},0,0,0,0,0,0,0,0,0,0,0,0,0,0,0,0,0,0,0,0,0,0,0,0,0,0,0,0,0,0,0,0,0,0,0,0,0,0,0,0,0,0,0,0,0,0,0,0,0,0,0,0,0,0,0,0,0,0,0,0,0,0,0,{"$f":"KQB46","v":0},0,0,0,0,0,0,0,0,0,0,0,0,0,0,0,0,0,0,0,0,0,0,0,0,0,0,0,0,0,0,0,0,0,0,0,0,0,0,0,0,0,0,0,0,0,0,0,0,0,0,0,0,0,0,0,0,0,0,0,0,0,0,0,{"$f":"KSN46","v":0},0,0,0,0,0,0,0,0,0,0,0,0,0,0,0,0,0,0,0,0,0,0,0,0,0,0,0,0,0,0,0,0,0,0,0,0,0,0,0,0,0,0,0,0,0,0,0,0,0,0,0,0,0,0,0,0,0,0,0,0,0,0,0,{"$f":"KUZ46","v":0},0,0,0,0,0,0,0,0,0,0,0,0,0,0,0,0,0,0,0,0,0,0,0,0,0,0,0,0,0,0,0,0,0,0,0,0,0,0,0,0,0,0,0,0,0,0,0,0,0,0,0,0,0,0,0,0,0,0,0,0,0,0,0,{"$f":"KXL46","v":0},0,0,0,0,0,0,0,0,0,0,0,0,0,0,0,0,0,0,0,0,0,0,0,0,0,0,0,0,0,0,0,0,0,0,0,0,0,0,0,0,0,0,0,0,0,0,0,0,0,0,0,0,0,0,0,0,0,0,0,0,0,0,0,{"$f":"KZX46","v":0},0,0,0,0,0,0,0,0,0,0,0,0,0,0,0,0,0,0,0,0,0,0,0,0,0,0,0,0,0,0,0,0,0,0,0,0,0,0,0,0,0,0,0,0,0,0,0,0,0,0,0,0,0,0,0,0,0,0,0,0,0,0,0,{"$f":"LCJ46","v":0},0,0,0,0,0,0,0,0,0,0,0,0,0,0,0,0,0,0,0,0,0,0,0,0,0,0,0,0,0,0,0,0,0,0,0,0,0,0,0,0,0,0,0,0,0,0,0,0,0,0,0,0,0,0,0,0,0,0,0,0,0,0,0,{"$f":"LEV46","v":0},0,0,0,0,0,0,0,0,0,0,0,0,0,0,0,0,0,0,0,0,0,0,0,0,0,0,0,0,0,0,0,0,0,0,0,0,0,0,0,0,0,0,0,0,0,0,0,0,0,0,0,0,0,0,0,0,0,0,0,0,0,0,0,{"$f":"LHH46","v":0},0,0,0,0,0,0,0,0,0,0,0,0,0,0,0,0,0,0,0,0,0,0,0,0,0,0,0,0,0,0,0,0,0,0,0,0,0,0,0,0,0,0,0,0,0,0,0,0,0,0,0,0,0,0,0,0,0,0,0,0,0,0,0,{"$f":"LJT46","v":0},0,0,0,0,0,0,0,0,0,0,0,0,0,0,0,0,0,0,0,0,0,0,0,0,0,0,0,0,0,0,0,0,0,0,0,0,0,0,0,0,0,0,0,0,0,0,0,0,0,0,0,0,0,0,0,0,0,0,0,0,0,0,0,{"$f":"LMF46","v":0},0,0,0,0,0,0,0,0,0,0,0,0,0,0,0,0,0,0,0,0,0,0,0,0,0,0,0,0,0,0,0,0,0,0,0,0,0,0,0,0,0,0,0,0,0,0,0,0,0,0,0,0,0,0,0,0,0,0,0,0,0,0,0,{"$f":"LOR46","v":0},0,0,0,0,0,0,0,0,0,0,0,0,0,0,0,0,0,0,0,0,0,0,0,0,0,0,0,0,0,0,0,0,0,0,0,0,0,0,0,0,0,0,0,0,0,0,0,0,0,0,0,0,0,0,0,0,0,0,0,0,0,0,0,{"$f":"LRD46","v":0},0,0,0,0,0,0,0,0,0,0,0,0,0,0,0,0,0,0,0,0,0,0,0,0,0,0,0,0,0,0,0,0,0,0,0,0,0,0,0,0,0,0,0,0,0,0,0,0,0,0,0,0,0,0,0,0,0,0,0,0,0,0,0,{"$f":"LTP46","v":0},0,0,0,0,0,0,0,0,0,0,0,0,0,0,0,0,0,0,0,0,0,0,0,0,0,0,0,0,0,0,0,0,0,0,0,0,0,0,0,0,0,0,0,0,0,0,0,0,0,0,0,0,0,0,0,0,0,0,0,0,0,0,0,{"$f":"LWB46","v":0},0,0,0,0,0,0,0,0,0,0,0,0,0,0,0,0,0,0,0,0,0,0,0,0,0,0,0,0,0,0,0,0,0,0,0,0,0,0,0,0,0,0,0,0,0,0,0,0,0,0,0,0,0,0,0,0,0,0,0,0,0,0,0,{"$f":"LYN46","v":0},0,0,0,0,0,0,0,0,0,0,0,0,0,0,0,0,0,0,0,0,0,0,0,0,0,0,0,0,0,0,0,0,0,0,0,0,0,0,0,0,0,0,0,0,0,0,0,0,0,0,0,0,0,0,0,0,0,0,0,0,0,0,0,{"$f":"MAZ46","v":0},0,0,0,0,0,0,0,0,0,0,0,0,0,0,0,0,0,0,0,0,0,0,0,0,0,0,0,0,0,0,0,0,0,0,0,0,0,0,0,0,0,0,0,0,0,0,0,0,0,0,0,0,0,0,0,0,0,0,0,0,0,0,0,{"$f":"MDL46","v":0},0,0,0,0,0,0,0,0,0,0,0,0,0,0,0,0,0,0,0,0,0,0,0,0,0,0,0,0,0,0,0,0,0,0,0,0,0,0,0,0,0,0,0,0,0,0,0,0,0,0,0,0,0,0,0,0,0,0,0,0,0,0,0,{"$f":"MFX46","v":0},0,0,0,0,0,0,0,0,0,0,0,0,0,0,0,0,0,0,0,0,0,0,0,0,0,0,0,0,0,0,0,0,0,0,0,0,0,0,0,0,0,0,0,0,0,0,0,0,0,0,0,0,0,0,0,0,0,0,0,0,0,0,0,{"$f":"MIJ46","v":0},0,0,0,0,0,0,0,0,0,0,0,0,0,0,0,0,0,0,0,0,0,0,0,0,0,0,0,0,0,0,0,0,0,0,0,0,0,0,0,0,0,0,0,0,0,0,0,0,0,0,0,0,0,0,0,0,0,0,0,0,0,0,0,{"$f":"MKV46","v":0},0,0,0,0,0,0,0,0,0,0,0,0,0,0,0,0,0,0,0,0,0,0,0,0,0,0,0,0,0,0,0,0,0,0,0,0,0,0,0,0,0,0,0,0,0,0,0,0,0,0,0,0,0,0,0,0,0,0,0,0,0,0,0,{"$f":"MNH46","v":0},0,0,0,0,0,0,0,0,0,0,0,0,0,0,0,0,0,0,0,0,0,0,0,0,0,0,0,0,0,0,0,0,0,0,0,0,0,0,0,0,0,0,0,0,0,0,0,0,0,0,0,0,0,0,0,0,0,0,0,0,0,0,0,{"$f":"MPT46","v":0},0,0,0,0,0,0,0,0,0,0,0,0,0,0,0,0,0,0,0,0,0,0,0,0,0,0,0,0,0,0,0,0,0,0,0,0,0,0,0,0,0,0,0,0,0,0,0,0,0,0,0,0,0,0,0,0,0,0,0,0,0,0,0,{"$f":"MSF46","v":0},0,0,0,0,0,0,0,0,0,0,0,0,0,0,0,0,0,0,0,0,0,0,0,0,0,0,0,0,0,0,0,0,0,0,0,0,0,0,0,0,0,0,0,0,0,0,0,0,0,0,0,0,0,0,0,0,0,0,0,0,0,0,0,{"$f":"MUR46","v":0},0,0,0,0,0,0,0,0,0,0,0,0,0,0,0,0,0,0,0,0,0,0,0,0,0,0,0,0,0,0,0,0,0,0,0,0,0,0,0,0,0,0,0,0,0,0,0,0,0,0,0,0,0,0,0,0,0,0,0,0,0,0,0,{"$f":"MXD46","v":0},0,0,0,0,0,0,0,0,0,0,0,0,0,0,0,0,0,0,0,0,0,0,0,0,0,0,0,0,0,0,0,0,0,0,0,0,0,0,0,0,0,0,0,0,0,0,0,0,0,0,0,0,0,0,0,0,0,0,0,0,0,0,0,{"$f":"MZP46","v":0},0,0,0,0,0,0,0,0,0,0,0,0,0,0,0,0,0,0,0,0,0,0,0,0,0,0,0,0,0,0,0,0,0,0,0,0,0,0,0,0,0,0,0,0,0,0,0,0,0,0,0,0,0,0,0,0,0,0,0,0,0,0,0,{"$f":"NCB46","v":0},0,0,0,0,0,0,0,0,0,0,0,0,0,0,0,0,0,0,0,0,0,0,0,0,0,0,0,0,0,0,0,0,0,0,0,0,0,0,0,0,0,0,0,0,0,0,0,0,0,0,0,0,0,0,0,0,0,0,0,0,0,0,0,{"$f":"NEN46","v":0},0,0,0,0,0,0,0,0,0,0,0,0,0,0,0,0,0,0,0,0,0,0,0,0,0,0,0,0,0,0,0,0,0,0,0,0,0,0,0,0,0,0,0,0,0,0,0,0,0,0,0,0,0,0,0,0,0,0,0,0,0,0,0,{"$f":"NGZ46","v":0},0,0,0,0,0,0,0,0,0,0,0,0,0,0,0,0,0,0,0,0,0,0,0,0,0,0,0,0,0,0,0,0,0,0,0,0,0,0,0,0,0,0,0,0,0,0,0,0,0,0,0,0,0,0,0,0,0,0,0,0,0,0,0,{"$f":"NJL46","v":0},0,0,0,0,0,0,0,0,0,0,0,0,0,0,0,0,0,0,0,0,0,0,0,0,0,0,0,0,0,0,0,0,0,0,0,0,0,0,0,0,0,0,0,0,0,0,0,0,0,0,0,0,0,0,0,0,0,0,0,0,0,0,0,{"$f":"NLX46","v":0},0,0,0,0,0,0,0,0,0,0,0,0,0,0,0,0,0,0,0,0,0,0,0,0,0,0,0,0,0,0,0,0,0,0,0,0,0,0,0,0,0,0,0,0,0,0,0,0,0,0,0,0,0,0,0,0,0,0,0,0,0,0,0,{"$f":"NOJ46","v":0},0,0,0,0,0,0,0,0,0,0,0,0,0,0,0,0,0,0,0,0,0,0,0,0,0,0,0,0,0,0,0,0,0,0,0,0,0,0,0,0,0,0,0,0,0,0,0,0,0,0,0,0,0,0,0,0,0,0,0,0,0,0,0,{"$f":"NQV46","v":0},0,0,0,0,0,0,0,0,0,0,0,0,0,0,0,0,0,0,0,0,0,0,0,0,0,0,0,0,0,0,0,0,0,0,0,0,0,0,0,0,0,0,0,0,0,0,0,0,0,0,0,0,0,0,0,0,0,0,0,0,0,0,0,{"$f":"NTH46","v":0},0,0,0,0,0,0,0,0,0,0,0,0,0,0,0,0,0,0,0,0,0,0,0,0,0,0,0,0,0,0,0,0,0,0,0,0,0,0,0,0,0,0,0,0,0,0,0,0,0,0,0,0,0,0,0,0,0,0,0,0,0,0,0,{"$f":"NVT46","v":0},0,0,0,0,0,0,0,0,0,0,0,0,0,0,0,0,0,0,0,0,0,0,0,0,0,0,0,0,0,0,0,0,0,0,0,0,0,0,0,0,0,0,0,0,0,0,0,0,0,0,0,0,0,0,0,0,0,0,0,0,0,0,0,{"$f":"NYF46","v":0},0,0,0,0,0,0,0,0,0,0,0,0,0,0,0,0,0,0,0,0,0,0,0,0,0,0,0,0,0,0,0,0,0,0,0,0,0,0,0,0,0,0,0,0,0,0,0,0,0,0,0,0,0,0,0,0,0,0,0,0,0,0,0,{"$f":"OAR46","v":0},0,0,0,0,0,0,0,0,0,0,0,0,0,0,0,0,0,0,0,0,0,0,0,0,0,0,0,0,0,0,0,0,0,0,0,0,0,0,0,0,0,0,0,0,0,0,0,0,0,0,0,0,0,0,0,0,0,0,0,0,0,0,0,{"$f":"ODD46","v":0},0,0,0,0,0,0,0,0,0,0,0,0,0,0,0,0,0,0,0,0,0,0,0,0,0,0,0,0,0,0,0,0,0,0,0,0,0,0,0,0,0,0,0,0,0,0,0,0,0,0,0,0,0,0,0,0,0,0,0,0,0,0,0,{"$f":"OFP46","v":0},0,0,0,0,0,0,0,0,0,0,0,0,0,0,0,0,0,0,0,0,0,0,0,0,0,0,0,0,0,0,0,0,0,0,0,0,0,0,0,0,0,0,0,0,0,0,0,0,0,0,0,0,0,0,0,0,0,0,0,0,0,0,0,{"$f":"OIB46","v":0},0,0,0,0,0,0,0,0,0,0,0,0,0,0,0,0,0,0,0,0,0,0,0,0,0,0,0,0,0,0,0,0,0,0,0,0,0,0,0,0,0,0,0,0,0,0,0,0,0,0,0,0,0,0,0,0,0,0,0,0,0,0,0,{"$f":"OKN46","v":0},0,0,0,0,0,0,0,0,0,0,0,0,0,0,0,0,0,0,0,0,0,0,0,0,0,0,0,0,0,0,0,0,0,0,0,0,0,0,0,0,0,0,0,0,0,0,0,0,0,0,0,0,0,0,0,0,0,0,0,0,0,0,0,{"$f":"OMZ46","v":0},0,0,0,0,0,0,0,0,0,0,0,0,0,0,0,0,0,0,0,0,0,0,0,0,0,0,0,0,0,0,0,0,0,0,0,0,0,0,0,0,0,0,0,0,0,0,0,0,0,0,0,0,0,0,0,0,0,0,0,0,0,0,0,{"$f":"OPL46","v":0},0,0,0,0,0,0,0,0,0,0,0,0,0,0,0,0,0,0,0,0,0,0,0,0,0,0,0,0,0,0,0,0,0,0,0,0,0,0,0,0,0,0,0,0,0,0,0,0,0,0,0,0,0,0,0,0,0,0,0,0,0,0,0,{"$f":"ORX46","v":0},0,0,0,0,0,0,0,0,0,0,0,0,0,0,0,0,0,0,0,0,0,0,0,0,0,0,0,0,0,0,0,0,0,0,0,0,0,0,0,0,0,0,0,0,0,0,0,0,0,0,0,0,0,0,0,0,0,0,0,0,0,0,0,{"$f":"OUJ46","v":0},0,0,0,0,0,0,0,0,0,0,0,0,0,0,0,0,0,0,0,0,0,0,0,0,0,0,0,0,0,0,0,0,0,0,0,0,0,0,0,0,0,0,0,0,0,0,0,0,0,0,0,0,0,0,0,0,0,0,0,0,0,0,0,{"$f":"OWV46","v":0},0,0,0,0,0,0,0,0,0,0,0,0,0,0,0,0,0,0,0,0,0,0,0,0,0,0,0,0,0,0,0,0,0,0,0,0,0,0,0,0,0,0,0,0,0,0,0,0,0,0,0,0,0,0,0,0,0,0,0,0,0,0,0,{"$f":"OZH46","v":0},0,0,0,0,0,0,0,0,0,0,0,0,0,0,0,0,0,0,0,0,0,0,0,0,0,0,0,0,0,0,0,0,0,0,0,0,0,0,0,0,0,0,0,0,0,0,0,0,0,0,0,0,0,0,0,0,0,0,0,0,0,0,0,{"$f":"PBT46","v":0},0,0,0,0,0,0,0,0,0,0,0,0,0,0,0,0,0,0,0,0,0,0,0,0,0,0,0,0,0,0,0,0,0,0,0,0,0,0,0,0,0,0,0,0,0,0,0,0,0,0,0,0,0,0,0,0,0,0,0,0,0,0,0,{"$f":"PEF46","v":0},0,0,0,0,0,0,0,0,0,0,0,0,0,0,0,0,0,0,0,0,0,0,0,0,0,0,0,0,0,0,0,0,0,0,0,0,0,0,0,0,0,0,0,0,0,0,0,0,0,0,0,0,0,0,0,0,0,0,0,0,0,0,0,{"$f":"PGR46","v":0},0,0,0,0,0,0,0,0,0,0,0,0,0,0,0,0,0,0,0,0,0,0,0,0,0,0,0,0,0,0,0,0,0,0,0,0,0,0,0,0,0,0,0,0,0,0,0,0,0,0,0,0,0,0,0,0,0,0,0,0,0,0,0,{"$f":"PJD46","v":0},0,0,0,0,0,0,0,0,0,0,0,0,0,0,0,0,0,0,0,0,0,0,0,0,0,0,0,0,0,0,0,0,0,0,0,0,0,0,0,0,0,0,0,0,0,0,0,0,0,0,0,0,0,0,0,0,0,0,0,0,0,0,0,{"$f":"PLP46","v":0},0,0,0,0,0,0,0,0,0,0,0,0,0,0,0,0,0,0,0,0,0,0,0,0,0,0,0,0,0,0,0,0,0,0,0,0,0,0,0,0,0,0,0,0,0,0,0,0,0,0,0,0,0,0,0,0,0,0,0,0,0,0,0,{"$f":"POB46","v":0},0,0,0,0,0,0,0,0,0,0,0,0,0,0,0,0,0,0,0,0,0,0,0,0,0,0,0,0,0,0,0,0,0,0,0,0,0,0,0,0,0,0,0,0,0,0,0,0,0,0,0,0,0,0,0,0,0,0,0,0,0,0,0,{"$f":"PQN46","v":0},0,0,0,0,0,0,0,0,0,0,0,0,0,0,0,0,0,0,0,0,0,0,0,0,0,0,0,0,0,0,0,0,0,0,0,0,0,0,0,0,0,0,0,0,0,0,0,0,0,0,0,0,0,0,0,0,0,0,0,0,0,0,0,{"$f":"PSZ46","v":0},0,0,0,0,0,0,0,0,0,0,0,0,0,0,0,0,0,0,0,0,0,0,0,0,0,0,0,0,0,0,0,0,0,0,0,0,0,0,0,0,0,0,0,0,0,0,0,0,0,0,0,0,0,0,0,0,0,0,0,0,0,0,0,{"$f":"PVL46","v":0},0,0,0,0,0,0,0,0,0,0,0,0,0,0,0,0,0,0,0,0,0,0,0,0,0,0,0,0,0,0,0,0,0,0,0,0,0,0,0,0,0,0,0,0,0,0,0,0,0,0,0,0,0,0,0,0,0,0,0,0,0,0,0,{"$f":"PXX46","v":0},0,0,0,0,0,0,0,0,0,0,0,0,0,0,0,0,0,0,0,0,0,0,0,0,0,0,0,0,0,0,0,0,0,0,0,0,0,0,0,0,0,0,0,0,0,0,0,0,0,0,0,0,0,0,0,0,0,0,0,0,0,0,0,{"$f":"QAJ46","v":0},0,0,0,0,0,0,0,0,0,0,0,0,0,0,0,0,0,0,0,0,0,0,0,0,0,0,0,0,0,0,0,0,0,0,0,0,0,0,0,0,0,0,0,0,0,0,0,0,0,0,0,0,0,0,0,0,0,0,0,0,0,0,0,{"$f":"QCV46","v":0},0,0,0,0,0,0,0,0,0,0,0,0,0,0,0,0,0,0,0,0,0,0,0,0,0,0,0,0,0,0,0,0,0,0,0,0,0,0,0,0,0,0,0,0,0,0,0,0,0,0,0,0,0,0,0,0,0,0,0,0,0,0,0,{"$f":"QFH46","v":0},0,0,0,0,0,0,0,0,0,0,0,0,0,0,0,0,0,0,0,0,0,0,0,0,0,0,0,0,0,0,0,0,0,0,0,0,0,0,0,0,0,0,0,0,0,0,0,0,0,0,0,0,0,0,0,0,0,0,0,0,0,0,0,{"$f":"QHT46","v":0},0,0,0,0,0,0,0,0,0,0,0,0,0,0,0,0,0,0,0,0,0,0,0,0,0,0,0,0,0,0,0,0,0,0,0,0,0,0,0,0,0,0,0,0,0,0,0,0,0,0,0,0,0,0,0,0,0,0,0,0,0,0,0,{"$f":"QKF46","v":0},0,0,0,0,0,0,0,0,0,0,0,0,0,0,0,0,0,0,0,0,0,0,0,0,0,0,0,0,0,0,0,0,0,0,0,0,0,0,0,0,0,0,0,0,0,0,0,0,0,0,0,0,0,0,0,0,0,0,0,0,0,0,0,{"$f":"QMR46","v":0},0,0,0,0,0,0,0,0,0,0,0,0,0,0,0,0,0,0,0,0,0,0,0,0,0,0,0,0,0,0,0,0,0,0,0,0,0,0,0,0,0,0,0,0,0,0,0,0,0,0,0,0,0,0,0,0,0,0,0,0,0,0,0,{"$f":"QPD46","v":0},0,0,0,0,0,0,0,0,0,0,0,0,0,0,0,0,0,0,0,0,0,0,0,0,0,0,0,0,0,0,0,0,0,0,0,0,0,0,0,0,0,0,0,0,0,0,0,0,0,0,0,0,0,0,0,0,0,0,0,0,0,0,0,{"$f":"QRP46","v":0},0,0,0,0,0,0,0,0,0,0,0,0,0,0,0,0,0,0,0,0,0,0,0,0,0,0,0,0,0,0,0,0,0,0,0,0,0,0,0,0,0,0,0,0,0,0,0,0,0,0,0,0,0,0,0,0,0,0,0,0,0,0,0,{"$f":"QUB46","v":0},0,0,0,0,0,0,0,0,0,0,0,0,0,0,0,0,0,0,0,0,0,0,0,0,0,0,0,0,0,0,0,0,0,0,0,0,0,0,0,0,0,0,0,0,0,0,0,0,0,0,0,0,0,0,0,0,0,0,0,0,0,0,0,{"$f":"QWN46","v":0},0,0,0,0,0,0,0,0,0,0,0,0,0,0,0,0,0,0,0,0,0,0,0,0,0,0,0,0,0,0,0,0,0,0,0,0,0,0,0,0,0,0,0,0,0,0,0,0,0,0,0,0,0,0,0,0,0,0,0,0,0,0,0,{"$f":"QYZ46","v":0},0,0,0,0,0,0,0,0,0,0,0,0,0,0,0,0,0,0,0,0,0,0,0,0,0,0,0,0,0,0,0,0,0,0,0,0,0,0,0,0,0,0,0,0,0,0,0,0,0,0,0,0,0,0,0,0,0,0,0,0,0,0,0,{"$f":"RBL46","v":0},0,0,0,0,0,0,0,0,0,0,0,0,0,0,0,0,0,0,0,0,0,0,0,0,0,0,0,0,0,0,0,0,0,0,0,0,0,0,0,0,0,0,0,0,0,0,0,0,0,0,0,0,0,0,0,0,0,0,0,0,0,0,0,{"$f":"RDX46","v":0},0,0,0,0,0,0,0,0,0,0,0,0,0,0,0,0,0,0,0,0,0,0,0,0,0,0,0,0,0,0,0,0,0,0,0,0,0,0,0,0,0,0,0,0,0,0,0,0,0,0,0,0,0,0,0,0,0,0,0,0,0,0,0,{"$f":"RGJ46","v":0},0,0,0,0,0,0,0,0,0,0,0,0,0,0,0,0,0,0,0,0,0,0,0,0,0,0,0,0,0,0,0,0,0,0,0,0,0,0,0,0,0,0,0,0,0,0,0,0,0,0,0,0,0,0,0,0,0,0,0,0,0,0,0,{"$f":"RIV46","v":0},0,0,0,0,0,0,0,0,0,0,0,0,0,0,0,0,0,0,0,0,0,0,0,0,0,0,0,0,0,0,0,0,0,0,0,0,0,0,0,0,0,0,0,0,0,0,0,0,0,0,0,0,0,0,0,0,0,0,0,0,0,0,0,{"$f":"RLH46","v":0},0,0,0,0,0,0,0,0,0,0,0,0,0,0,0,0,0,0,0,0,0,0,0,0,0,0,0,0,0,0,0,0,0,0,0,0,0,0,0,0,0,0,0,0,0,0,0,0,0,0,0,0,0,0,0,0,0,0,0,0,0,0,0,{"$f":"RNT46","v":0},0,0,0,0,0,0,0,0,0,0,0,0,0,0,0,0,0,0,0,0,0,0,0,0,0,0,0,0,0,0,0,0,0,0,0,0,0,0,0,0,0,0,0,0,0,0,0,0,0,0,0,0,0,0,0,0,0,0,0,0,0,0,0,{"$f":"RQF46","v":0},0,0,0,0,0,0,0,0,0,0,0,0,0,0,0,0,0,0,0,0,0,0,0,0,0,0,0,0,0,0,0,0,0,0,0,0,0,0,0,0,0,0,0,0,0,0,0,0,0,0,0,0,0,0,0,0,0,0,0,0,0,0,0,{"$f":"RSR46","v":0},0,0,0,0,0,0,0,0,0,0,0,0,0,0,0,0,0,0,0,0,0,0,0,0,0,0,0,0,0,0,0,0,0,0,0,0,0,0,0,0,0,0,0,0,0,0,0,0,0,0,0,0,0,0,0,0,0,0,0,0,0,0,0,{"$f":"RVD46","v":0},0,0,0,0,0,0,0,0,0,0,0,0,0,0,0,0,0,0,0,0,0,0,0,0,0,0,0,0,0,0,0,0,0,0,0,0,0,0,0,0,0,0,0,0,0,0,0,0,0,0,0,0,0,0,0,0,0,0,0,0,0,0,0,{"$f":"RXP46","v":0},0,0,0,0,0,0,0,0,0,0,0,0,0,0,0,0,0,0,0,0,0,0,0,0,0,0,0,0,0,0,0,0,0,0,0,0,0,0,0,0,0,0,0,0,0,0,0,0,0,0,0,0,0,0,0,0,0,0,0,0,0,0,0,{"$f":"SAB46","v":0},0,0,0,0,0,0,0,0,0,0,0,0,0,0,0,0,0,0,0,0,0,0,0,0,0,0,0,0,0,0,0,0,0,0,0,0,0,0,0,0,0,0,0,0,0,0,0,0,0,0,0,0,0,0,0,0,0,0,0,0,0,0,0,{"$f":"SCN46","v":0},0,0,0,0,0,0,0,0,0,0,0,0,0,0,0,0,0,0,0,0,0,0,0,0,0,0,0,0,0,0,0,0,0,0,0,0,0,0,0,0,0,0,0,0,0,0,0,0,0,0,0,0,0,0,0,0,0,0,0,0,0,0,0,{"$f":"SEZ46","v":0},0,0,0,0,0,0,0,0,0,0,0,0,0,0,0,0,0,0,0,0,0,0,0,0,0,0,0,0,0,0,0,0,0,0,0,0,0,0,0,0,0,0,0,0,0,0,0,0,0,0,0,0,0,0,0,0,0,0,0,0,0,0,0,{"$f":"SHL46","v":0},0,0,0,0,0,0,0,0,0,0,0,0,0,0,0,0,0,0,0,0,0,0,0,0,0,0,0,0,0,0,0,0,0,0,0,0,0,0,0,0,0,0,0,0,0,0,0,0,0,0,0,0,0,0,0,0,0,0,0,0,0,0,0,{"$f":"SJX46","v":0},0,0,0,0,0,0,0,0,0,0,0,0,0,0,0,0,0,0,0,0,0,0,0,0,0,0,0,0,0,0,0,0,0,0,0,0,0,0,0,0,0,0,0,0,0,0,0,0,0,0,0,0,0,0,0,0,0,0,0,0,0,0,0,{"$f":"SMJ46","v":0},0,0,0,0,0,0,0,0,0,0,0,0,0,0,0,0,0,0,0,0,0,0,0,0,0,0,0,0,0,0,0,0,0,0,0,0,0,0,0,0,0,0,0,0,0,0,0,0,0,0,0,0,0,0,0,0,0,0,0,0,0,0,0,{"$f":"SOV46","v":0},0,0,0,0,0,0,0,0,0,0,0,0,0,0,0,0,0,0,0,0,0,0,0,0,0,0,0,0,0,0,0,0,0,0,0,0,0,0,0,0,0,0,0,0,0,0,0,0,0,0,0,0,0,0,0,0,0,0,0,0,0,0,0,{"$f":"SRH46","v":0},0,0,0,0,0,0,0,0,0,0,0,0,0,0,0,0,0,0,0,0,0,0,0,0,0,0,0,0,0,0,0,0,0,0,0,0,0,0,0,0,0,0,0,0,0,0,0,0,0,0,0,0,0,0,0,0,0,0,0,0,0,0,0,{"$f":"STT46","v":0},0,0,0,0,0,0,0,0,0,0,0,0,0,0,0,0,0,0,0,0,0,0,0,0,0,0,0,0,0,0,0,0,0,0,0,0,0,0,0,0,0,0,0,0,0,0,0,0,0,0,0,0,0,0,0,0,0,0,0,0,0,0,0,{"$f":"SWF46","v":0},0,0,0,0,0,0,0,0,0,0,0,0,0,0,0,0,0,0,0,0,0,0,0,0,0,0,0,0,0,0,0,0,0,0,0,0,0,0,0,0,0,0,0,0,0,0,0,0,0,0,0,0,0,0,0,0,0,0,0,0,0,0,0,{"$f":"SYR46","v":0},0,0,0,0,0,0,0,0,0,0,0,0,0,0,0,0,0,0,0,0,0,0,0,0,0,0,0,0,0,0,0,0,0,0,0,0,0,0,0,0,0,0,0,0,0,0,0,0,0,0,0,0,0,0,0,0,0,0,0,0,0,0,0,{"$f":"TBD46","v":0},0,0,0,0,0,0,0,0,0,0,0,0,0,0,0,0,0,0,0,0,0,0,0,0,0,0,0,0,0,0,0,0,0,0,0,0,0,0,0,0,0,0,0,0,0,0,0,0,0,0,0,0,0,0,0,0,0,0,0,0,0,0,0,{"$f":"TDP46","v":0},0,0,0,0,0,0,0,0,0,0,0,0,0,0,0,0,0,0,0,0,0,0,0,0,0,0,0,0,0,0,0,0,0,0,0,0,0,0,0,0,0,0,0,0,0,0,0,0,0,0,0,0,0,0,0,0,0,0,0,0,0,0,0,{"$f":"TGB46","v":0},0,0,0,0,0,0,0,0,0,0,0,0,0,0,0,0,0,0,0,0,0,0,0,0,0,0,0,0,0,0,0,0,0,0,0,0,0,0,0,0,0,0,0,0,0,0,0,0,0,0,0,0,0,0,0,0,0,0,0,0,0,0,0,{"$f":"TIN46","v":0},0,0,0,0,0,0,0,0,0,0,0,0,0,0,0,0,0,0,0,0,0,0,0,0,0,0,0,0,0,0,0,0,0,0,0,0,0,0,0,0,0,0,0,0,0,0,0,0,0,0,0,0,0,0,0,0,0,0,0,0,0,0,0,{"$f":"TKZ46","v":0},0,0,0,0,0,0,0,0,0,0,0,0,0,0,0,0,0,0,0,0,0,0,0,0,0,0,0,0,0,0,0,0,0,0,0,0,0,0,0,0,0,0,0,0,0,0,0,0,0,0,0,0,0,0,0,0,0,0,0,0,0,0,0,{"$f":"TNL46","v":0},0,0,0,0,0,0,0,0,0,0,0,0,0,0,0,0,0,0,0,0,0,0,0,0,0,0,0,0,0,0,0,0,0,0,0,0,0,0,0,0,0,0,0,0,0,0,0,0,0,0,0,0,0,0,0,0,0,0,0,0,0,0,0,{"$f":"TPX46","v":0},0,0,0,0,0,0,0,0,0,0,0,0,0,0,0,0,0,0,0,0,0,0,0,0,0,0,0,0,0,0,0,0,0,0,0,0,0,0,0,0,0,0,0,0,0,0,0,0,0,0,0,0,0,0,0,0,0,0,0,0,0,0,0,{"$f":"TSJ46","v":0},0,0,0,0,0,0,0,0,0,0,0,0,0,0,0,0,0,0,0,0,0,0,0,0,0,0,0,0,0,0,0,0,0,0,0,0,0,0,0,0,0,0,0,0,0,0,0,0,0,0,0,0,0,0,0,0,0,0,0,0,0,0,0,{"$f":"TUV46","v":0},0,0,0,0,0,0,0,0,0,0,0,0,0,0,0,0,0,0,0,0,0,0,0,0,0,0,0,0,0,0,0,0,0,0,0,0,0,0,0,0,0,0,0,0,0,0,0,0,0,0,0,0,0,0,0,0,0,0,0,0,0,0,0,{"$f":"TXH46","v":0},0,0,0,0,0,0,0,0,0,0,0,0,0,0,0,0,0,0,0,0,0,0,0,0,0,0,0,0,0,0,0,0,0,0,0,0,0,0,0,0,0,0,0,0,0,0,0,0,0,0,0,0,0,0,0,0,0,0,0,0,0,0,0,{"$f":"TZT46","v":0},0,0,0,0,0,0,0,0,0,0,0,0,0,0,0,0,0,0,0,0,0,0,0,0,0,0,0,0,0,0,0,0,0,0,0,0,0,0,0,0,0,0,0,0,0,0,0,0,0,0,0,0,0,0,0,0,0,0,0,0,0,0,0,{"$f":"UCF46","v":0},0,0,0,0,0,0,0,0,0,0,0,0,0,0,0,0,0,0,0,0,0,0,0,0,0,0,0,0,0,0,0,0,0,0,0,0,0,0,0,0,0,0,0,0,0,0,0,0,0,0,0,0,0,0,0,0,0,0,0,0,0,0,0,{"$f":"UER46","v":0},0,0,0,0,0,0,0,0,0,0,0,0,0,0,0,0,0,0,0,0,0,0,0,0,0,0,0,0,0,0,0,0,0,0,0,0,0,0,0,0,0,0,0,0,0,0,0,0,0,0,0,0,0,0,0,0,0,0,0,0,0,0,0,{"$f":"UHD46","v":0},0,0,0,0,0,0,0,0,0,0,0,0,0,0,0,0,0,0,0,0,0,0,0,0,0,0,0,0,0,0,0,0,0,0,0,0,0,0,0,0,0,0,0,0,0,0,0,0,0,0,0,0,0,0,0,0,0,0,0,0,0,0,0,{"$f":"UJP46","v":0},0,0,0,0,0,0,0,0,0,0,0,0,0,0,0,0,0,0,0,0,0,0,0,0,0,0,0,0,0,0,0,0,0,0,0,0,0,0,0,0,0,0,0,0,0,0,0,0,0,0,0,0,0,0,0,0,0,0,0,0,0,0,0,{"$f":"UMB46","v":0},0,0,0,0,0,0,0,0,0,0,0,0,0,0,0,0,0,0,0,0,0,0,0,0,0,0,0,0,0,0,0,0,0,0,0,0,0,0,0,0,0,0,0,0,0,0,0,0,0,0,0,0,0,0,0,0,0,0,0,0,0,0,0,{"$f":"UON46","v":0},0,0,0,0,0,0,0,0,0,0,0,0,0,0,0,0,0,0,0,0,0,0,0,0,0,0,0,0,0,0,0,0,0,0,0,0,0,0,0,0,0,0,0,0,0,0,0,0,0,0,0,0,0,0,0,0,0,0,0,0,0,0,0,{"$f":"UQZ46","v":0},0,0,0,0,0,0,0,0,0,0,0,0,0,0,0,0,0,0,0,0,0,0,0,0,0,0,0,0,0,0,0,0,0,0,0,0,0,0,0,0,0,0,0,0,0,0,0,0,0,0,0,0,0,0,0,0,0,0,0,0,0,0,0,{"$f":"UTL46","v":0},0,0,0,0,0,0,0,0,0,0,0,0,0,0,0,0,0,0,0,0,0,0,0,0,0,0,0,0,0,0,0,0,0,0,0,0,0,0,0,0,0,0,0,0,0,0,0,0,0,0,0,0,0,0,0,0,0,0,0,0,0,0,0,{"$f":"UVX46","v":0},0,0,0,0,0,0,0,0,0,0,0,0,0,0,0,0,0,0,0,0,0,0,0,0,0,0,0,0,0,0,0,0,0,0,0,0,0,0,0,0,0,0,0,0,0,0,0,0,0,0,0,0,0,0,0,0,0,0,0,0,0,0,0,{"$f":"UYJ46","v":0},0,0,0,0,0,0,0,0,0,0,0,0,0,0,0,0,0,0,0,0,0,0,0,0,0,0,0,0,0,0,0,0,0,0,0,0,0,0,0,0,0,0,0,0,0,0,0,0,0,0,0,0,0,0,0,0,0,0,0,0,0,0,0,{"$f":"VAV46","v":0},0,0,0,0,0,0,0,0,0,0,0,0,0,0,0,0,0,0,0,0,0,0,0,0,0,0,0,0,0,0,0,0,0,0,0,0,0,0,0,0,0,0,0,0,0,0,0,0,0,0,0,0,0,0,0,0,0,0,0,0,0,0,0,{"$f":"VDH46","v":0},0,0,0,0,0,0,0,0,0,0,0,0,0,0,0,0,0,0,0,0,0,0,0,0,0,0,0,0,0,0,0,0,0,0,0,0,0,0,0,0,0,0,0,0,0,0,0,0,0,0,0,0,0,0,0,0,0,0,0,0,0,0,0,{"$f":"VFT46","v":0},0,0,0,0,0,0,0,0,0,0,0,0,0,0,0,0,0,0,0,0,0,0,0,0,0,0,0,0,0,0,0,0,0,0,0,0,0,0,0,0,0,0,0,0,0,0,0,0,0,0,0,0,0,0,0,0,0,0,0,0,0,0,0,{"$f":"VIF46","v":0},0,0,0,0,0,0,0,0,0,0,0,0,0,0,0,0,0,0,0,0,0,0,0,0,0,0,0,0,0,0,0,0,0,0,0,0,0,0,0,0,0,0,0,0,0,0,0,0,0,0,0,0,0,0,0,0,0,0,0,0,0,0,0,{"$f":"VKR46","v":0},0,0,0,0,0,0,0,0,0,0,0,0,0,0,0,0,0,0,0,0,0,0,0,0,0,0,0,0,0,0,0,0,0,0,0,0,0,0,0,0,0,0,0,0,0,0,0,0,0,0,0,0,0,0,0,0,0,0,0,0,0,0,0,{"$f":"VND46","v":0},0,0,0,0,0,0,0,0,0,0,0,0,0,0,0,0,0,0,0,0,0,0,0,0,0,0,0,0,0,0,0,0,0,0,0,0,0,0,0,0,0,0,0,0,0,0,0,0,0,0,0,0,0,0,0,0,0,0,0,0,0,0,0,{"$f":"VPP46","v":0},0,0,0,0,0,0,0,0,0,0,0,0,0,0,0,0,0,0,0,0,0,0,0,0,0,0,0,0,0,0,0,0,0,0,0,0,0,0,0,0,0,0,0,0,0,0,0,0,0,0,0,0,0,0,0,0,0,0,0,0,0,0,0,{"$f":"VSB46","v":0},0,0,0,0,0,0,0,0,0,0,0,0,0,0,0,0,0,0,0,0,0,0,0,0,0,0,0,0,0,0,0,0,0,0,0,0,0,0,0,0,0,0,0,0,0,0,0,0,0,0,0,0,0,0,0,0,0,0,0,0,0,0,0,{"$f":"VUN46","v":0},0,0,0,0,0,0,0,0,0,0,0,0,0,0,0,0,0,0,0,0,0,0,0,0,0,0,0,0,0,0,0,0,0,0,0,0,0,0,0,0,0,0,0,0,0,0,0,0,0,0,0,0,0,0,0,0,0,0,0,0,0,0,0,{"$f":"VWZ46","v":0},0,0,0,0,0,0,0,0,0,0,0,0,0,0,0,0,0,0,0,0,0,0,0,0,0,0,0,0,0,0,0,0,0,0,0,0,0,0,0,0,0,0,0,0,0,0,0,0,0,0,0,0,0,0,0,0,0,0,0,0,0,0,0,{"$f":"VZL46","v":0},0,0,0,0,0,0,0,0,0,0,0,0,0,0,0,0,0,0,0,0,0,0,0,0,0,0,0,0,0,0,0,0,0,0,0,0,0,0,0,0,0,0,0,0,0,0,0,0,0,0,0,0,0,0,0,0,0,0,0,0,0,0,0,{"$f":"WBX46","v":0},0,0,0,0,0,0,0,0,0,0,0,0,0,0,0,0,0,0,0,0,0,0,0,0,0,0,0,0,0,0,0,0,0,0,0,0,0,0,0,0,0,0,0,0,0,0,0,0,0,0,0,0,0,0,0,0,0,0,0,0,0,0,0,{"$f":"WEJ46","v":0},0,0,0,0,0,0,0,0,0,0,0,0,0,0,0,0,0,0,0,0,0,0,0,0,0,0,0,0,0,0,0,0,0,0,0,0,0,0,0,0,0,0,0,0,0,0,0,0,0,0,0,0,0,0,0,0,0,0,0,0,0,0,0,{"$f":"WGV46","v":0},0,0,0,0,0,0,0,0,0,0,0,0,0,0,0,0,0,0,0,0,0,0,0,0,0,0,0,0,0,0,0,0,0,0,0,0,0,0,0,0,0,0,0,0,0,0,0,0,0,0,0,0,0,0,0,0,0,0,0,0,0,0,0,{"$f":"WJH46","v":0},0,0,0,0,0,0,0,0,0,0,0,0,0,0,0,0,0,0,0,0,0,0,0,0,0,0,0,0,0,0,0,0,0,0,0,0,0,0,0,0,0,0,0,0,0,0,0,0,0,0,0,0,0,0,0,0,0,0,0,0,0,0,0,{"$f":"WLT46","v":0},0,0,0,0,0,0,0,0,0,0,0,0,0,0,0,0,0,0,0,0,0,0,0,0,0,0,0,0,0,0,0,0,0,0,0,0,0,0,0,0,0,0,0,0,0,0,0,0,0,0,0,0,0,0,0,0,0,0,0,0,0,0,0,{"$f":"WOF46","v":0},0,0,0,0,0,0,0,0,0,0,0,0,0,0,0,0,0,0,0,0,0,0,0,0,0,0,0,0,0,0,0,0,0,0,0,0,0,0,0,0,0,0,0,0,0,0,0,0,0,0,0,0,0,0,0,0,0,0,0,0,0,0,0,{"$f":"WQR46","v":0},0,0,0,0,0,0,0,0,0,0,0,0,0,0,0,0,0,0,0,0,0,0,0,0,0,0,0,0,0,0,0,0,0,0,0,0,0,0,0,0,0,0,0,0,0,0,0,0,0,0,0,0,0,0,0,0,0,0,0,0,0,0,0,{"$f":"WTD46","v":0},0,0,0,0,0,0,0,0,0,0,0,0,0,0,0,0,0,0,0,0,0,0,0,0,0,0,0,0,0,0,0,0,0,0,0,0,0,0,0,0,0,0,0,0,0,0,0,0,0,0,0,0,0,0,0,0,0,0,0,0,0,0,0,{"$f":"WVP46","v":0},0,0,0,0,0,0,0,0,0,0,0,0,0,0,0,0,0,0,0,0,0,0,0,0,0,0,0,0,0,0,0,0,0,0,0,0,0,0,0,0,0,0,0,0,0,0,0,0,0,0,0,0,0,0,0,0,0,0,0,0,0,0,0,{"$f":"WYB46","v":0},0,0,0,0,0,0,0,0,0,0,0,0,0,0,0,0,0,0,0,0,0,0,0,0,0,0,0,0,0,0,0,0,0,0,0,0,0,0,0,0,0,0,0,0,0,0,0,0,0,0,0,0,0,0,0,0,0,0,0,0,0,0,0,{"$f":"XAN46","v":0},0,0,0,0,0,0,0,0,0,0,0,0,0,0,0,0,0,0,0,0,0,0,0,0,0,0,0,0,0,0,0,0,0,0,0,0,0,0,0,0,0,0,0,0,0,0,0,0,0,0,0,0,0,0,0,0,0,0,0,0,0,0,0,{"$f":"XCZ46","v":0},0,0,0,0,0,0,0,0,0,0,0,0,0,0,0,0,0,0,0,0,0,0,0,0,0,0,0,0,0,0,0,0,0,0,0,0,0,0,0,0,0,0,0,0,0,0,0,0,0,0,0,0,0]
[null,null,null,null,null,"Acronyme",null,{"$f":"IF(voletGeneral!H10<>\"\",voletGeneral!H10,\"\")","v":""},null,{"$f":"G81","v":0},{"$f":"H81","v":0},"Privé",0,0,0,0,0,0,0,0,0,0,0,0,0,0,0,0,0,0,0,0,0,0,0,0,0,0,0,0,0,0,0,0,0,0,0,0,0,0,0,0,0,0,0,0,0,0,0,0,0,0,0,0,0,0,0,0,0,0,0,0,0,0,{"$f":"BT81","v":0},0,0,0,0,0,0,0,0,0,0,0,0,0,0,0,0,0,0,0,0,0,0,0,0,0,0,0,0,0,0,0,0,0,0,0,0,0,0,0,0,0,0,0,0,0,0,0,0,0,0,0,0,0,0,0,0,0,0,0,0,0,0,0,{"$f":"EF81","v":0},0,0,0,0,0,0,0,0,0,0,0,0,0,0,0,0,0,0,0,0,0,0,0,0,0,0,0,0,0,0,0,0,0,0,0,0,0,0,0,0,0,0,0,0,0,0,0,0,0,0,0,0,0,0,0,0,0,0,0,0,0,0,0,{"$f":"GR81","v":0},0,0,0,0,0,0,0,0,0,0,0,0,0,0,0,0,0,0,0,0,0,0,0,0,0,0,0,0,0,0,0,0,0,0,0,0,0,0,0,0,0,0,0,0,0,0,0,0,0,0,0,0,0,0,0,0,0,0,0,0,0,0,0,{"$f":"JD81","v":0},0,0,0,0,0,0,0,0,0,0,0,0,0,0,0,0,0,0,0,0,0,0,0,0,0,0,0,0,0,0,0,0,0,0,0,0,0,0,0,0,0,0,0,0,0,0,0,0,0,0,0,0,0,0,0,0,0,0,0,0,0,0,0,{"$f":"LP81","v":0},0,0,0,0,0,0,0,0,0,0,0,0,0,0,0,0,0,0,0,0,0,0,0,0,0,0,0,0,0,0,0,0,0,0,0,0,0,0,0,0,0,0,0,0,0,0,0,0,0,0,0,0,0,0,0,0,0,0,0,0,0,0,0,{"$f":"OB81","v":0},0,0,0,0,0,0,0,0,0,0,0,0,0,0,0,0,0,0,0,0,0,0,0,0,0,0,0,0,0,0,0,0,0,0,0,0,0,0,0,0,0,0,0,0,0,0,0,0,0,0,0,0,0,0,0,0,0,0,0,0,0,0,0,{"$f":"QN81","v":0},0,0,0,0,0,0,0,0,0,0,0,0,0,0,0,0,0,0,0,0,0,0,0,0,0,0,0,0,0,0,0,0,0,0,0,0,0,0,0,0,0,0,0,0,0,0,0,0,0,0,0,0,0,0,0,0,0,0,0,0,0,0,0,{"$f":"SZ81","v":0},0,0,0,0,0,0,0,0,0,0,0,0,0,0,0,0,0,0,0,0,0,0,0,0,0,0,0,0,0,0,0,0,0,0,0,0,0,0,0,0,0,0,0,0,0,0,0,0,0,0,0,0,0,0,0,0,0,0,0,0,0,0,0,{"$f":"VL81","v":0},0,0,0,0,0,0,0,0,0,0,0,0,0,0,0,0,0,0,0,0,0,0,0,0,0,0,0,0,0,0,0,0,0,0,0,0,0,0,0,0,0,0,0,0,0,0,0,0,0,0,0,0,0,0,0,0,0,0,0,0,0,0,0,{"$f":"XX81","v":0},0,0,0,0,0,0,0,0,0,0,0,0,0,0,0,0,0,0,0,0,0,0,0,0,0,0,0,0,0,0,0,0,0,0,0,0,0,0,0,0,0,0,0,0,0,0,0,0,0,0,0,0,0,0,0,0,0,0,0,0,0,0,0,{"$f":"AAJ81","v":0},0,0,0,0,0,0,0,0,0,0,0,0,0,0,0,0,0,0,0,0,0,0,0,0,0,0,0,0,0,0,0,0,0,0,0,0,0,0,0,0,0,0,0,0,0,0,0,0,0,0,0,0,0,0,0,0,0,0,0,0,0,0,0,{"$f":"ACV81","v":0},0,0,0,0,0,0,0,0,0,0,0,0,0,0,0,0,0,0,0,0,0,0,0,0,0,0,0,0,0,0,0,0,0,0,0,0,0,0,0,0,0,0,0,0,0,0,0,0,0,0,0,0,0,0,0,0,0,0,0,0,0,0,0,{"$f":"AFH81","v":0},0,0,0,0,0,0,0,0,0,0,0,0,0,0,0,0,0,0,0,0,0,0,0,0,0,0,0,0,0,0,0,0,0,0,0,0,0,0,0,0,0,0,0,0,0,0,0,0,0,0,0,0,0,0,0,0,0,0,0,0,0,0,0,{"$f":"AHT81","v":0},0,0,0,0,0,0,0,0,0,0,0,0,0,0,0,0,0,0,0,0,0,0,0,0,0,0,0,0,0,0,0,0,0,0,0,0,0,0,0,0,0,0,0,0,0,0,0,0,0,0,0,0,0,0,0,0,0,0,0,0,0,0,0,{"$f":"AKF81","v":0},0,0,0,0,0,0,0,0,0,0,0,0,0,0,0,0,0,0,0,0,0,0,0,0,0,0,0,0,0,0,0,0,0,0,0,0,0,0,0,0,0,0,0,0,0,0,0,0,0,0,0,0,0,0,0,0,0,0,0,0,0,0,0,{"$f":"AMR81","v":0},0,0,0,0,0,0,0,0,0,0,0,0,0,0,0,0,0,0,0,0,0,0,0,0,0,0,0,0,0,0,0,0,0,0,0,0,0,0,0,0,0,0,0,0,0,0,0,0,0,0,0,0,0,0,0,0,0,0,0,0,0,0,0,{"$f":"APD81","v":0},0,0,0,0,0,0,0,0,0,0,0,0,0,0,0,0,0,0,0,0,0,0,0,0,0,0,0,0,0,0,0,0,0,0,0,0,0,0,0,0,0,0,0,0,0,0,0,0,0,0,0,0,0,0,0,0,0,0,0,0,0,0,0,{"$f":"ARP81","v":0},0,0,0,0,0,0,0,0,0,0,0,0,0,0,0,0,0,0,0,0,0,0,0,0,0,0,0,0,0,0,0,0,0,0,0,0,0,0,0,0,0,0,0,0,0,0,0,0,0,0,0,0,0,0,0,0,0,0,0,0,0,0,0,{"$f":"AUB81","v":0},0,0,0,0,0,0,0,0,0,0,0,0,0,0,0,0,0,0,0,0,0,0,0,0,0,0,0,0,0,0,0,0,0,0,0,0,0,0,0,0,0,0,0,0,0,0,0,0,0,0,0,0,0,0,0,0,0,0,0,0,0,0,0,{"$f":"AWN81","v":0},0,0,0,0,0,0,0,0,0,0,0,0,0,0,0,0,0,0,0,0,0,0,0,0,0,0,0,0,0,0,0,0,0,0,0,0,0,0,0,0,0,0,0,0,0,0,0,0,0,0,0,0,0,0,0,0,0,0,0,0,0,0,0,{"$f":"AYZ81","v":0},0,0,0,0,0,0,0,0,0,0,0,0,0,0,0,0,0,0,0,0,0,0,0,0,0,0,0,0,0,0,0,0,0,0,0,0,0,0,0,0,0,0,0,0,0,0,0,0,0,0,0,0,0,0,0,0,0,0,0,0,0,0,0,{"$f":"BBL81","v":0},0,0,0,0,0,0,0,0,0,0,0,0,0,0,0,0,0,0,0,0,0,0,0,0,0,0,0,0,0,0,0,0,0,0,0,0,0,0,0,0,0,0,0,0,0,0,0,0,0,0,0,0,0,0,0,0,0,0,0,0,0,0,0,{"$f":"BDX81","v":0},0,0,0,0,0,0,0,0,0,0,0,0,0,0,0,0,0,0,0,0,0,0,0,0,0,0,0,0,0,0,0,0,0,0,0,0,0,0,0,0,0,0,0,0,0,0,0,0,0,0,0,0,0,0,0,0,0,0,0,0,0,0,0,{"$f":"BGJ81","v":0},0,0,0,0,0,0,0,0,0,0,0,0,0,0,0,0,0,0,0,0,0,0,0,0,0,0,0,0,0,0,0,0,0,0,0,0,0,0,0,0,0,0,0,0,0,0,0,0,0,0,0,0,0,0,0,0,0,0,0,0,0,0,0,{"$f":"BIV81","v":0},0,0,0,0,0,0,0,0,0,0,0,0,0,0,0,0,0,0,0,0,0,0,0,0,0,0,0,0,0,0,0,0,0,0,0,0,0,0,0,0,0,0,0,0,0,0,0,0,0,0,0,0,0,0,0,0,0,0,0,0,0,0,0,{"$f":"BLH81","v":0},0,0,0,0,0,0,0,0,0,0,0,0,0,0,0,0,0,0,0,0,0,0,0,0,0,0,0,0,0,0,0,0,0,0,0,0,0,0,0,0,0,0,0,0,0,0,0,0,0,0,0,0,0,0,0,0,0,0,0,0,0,0,0,{"$f":"BNT81","v":0},0,0,0,0,0,0,0,0,0,0,0,0,0,0,0,0,0,0,0,0,0,0,0,0,0,0,0,0,0,0,0,0,0,0,0,0,0,0,0,0,0,0,0,0,0,0,0,0,0,0,0,0,0,0,0,0,0,0,0,0,0,0,0,{"$f":"BQF81","v":0},0,0,0,0,0,0,0,0,0,0,0,0,0,0,0,0,0,0,0,0,0,0,0,0,0,0,0,0,0,0,0,0,0,0,0,0,0,0,0,0,0,0,0,0,0,0,0,0,0,0,0,0,0,0,0,0,0,0,0,0,0,0,0,{"$f":"BSR81","v":0},0,0,0,0,0,0,0,0,0,0,0,0,0,0,0,0,0,0,0,0,0,0,0,0,0,0,0,0,0,0,0,0,0,0,0,0,0,0,0,0,0,0,0,0,0,0,0,0,0,0,0,0,0,0,0,0,0,0,0,0,0,0,0,{"$f":"BVD81","v":0},0,0,0,0,0,0,0,0,0,0,0,0,0,0,0,0,0,0,0,0,0,0,0,0,0,0,0,0,0,0,0,0,0,0,0,0,0,0,0,0,0,0,0,0,0,0,0,0,0,0,0,0,0,0,0,0,0,0,0,0,0,0,0,{"$f":"BXP81","v":0},0,0,0,0,0,0,0,0,0,0,0,0,0,0,0,0,0,0,0,0,0,0,0,0,0,0,0,0,0,0,0,0,0,0,0,0,0,0,0,0,0,0,0,0,0,0,0,0,0,0,0,0,0,0,0,0,0,0,0,0,0,0,0,{"$f":"CAB81","v":0},0,0,0,0,0,0,0,0,0,0,0,0,0,0,0,0,0,0,0,0,0,0,0,0,0,0,0,0,0,0,0,0,0,0,0,0,0,0,0,0,0,0,0,0,0,0,0,0,0,0,0,0,0,0,0,0,0,0,0,0,0,0,0,{"$f":"CCN81","v":0},0,0,0,0,0,0,0,0,0,0,0,0,0,0,0,0,0,0,0,0,0,0,0,0,0,0,0,0,0,0,0,0,0,0,0,0,0,0,0,0,0,0,0,0,0,0,0,0,0,0,0,0,0,0,0,0,0,0,0,0,0,0,0,{"$f":"CEZ81","v":0},0,0,0,0,0,0,0,0,0,0,0,0,0,0,0,0,0,0,0,0,0,0,0,0,0,0,0,0,0,0,0,0,0,0,0,0,0,0,0,0,0,0,0,0,0,0,0,0,0,0,0,0,0,0,0,0,0,0,0,0,0,0,0,{"$f":"CHL81","v":0},0,0,0,0,0,0,0,0,0,0,0,0,0,0,0,0,0,0,0,0,0,0,0,0,0,0,0,0,0,0,0,0,0,0,0,0,0,0,0,0,0,0,0,0,0,0,0,0,0,0,0,0,0,0,0,0,0,0,0,0,0,0,0,{"$f":"CJX81","v":0},0,0,0,0,0,0,0,0,0,0,0,0,0,0,0,0,0,0,0,0,0,0,0,0,0,0,0,0,0,0,0,0,0,0,0,0,0,0,0,0,0,0,0,0,0,0,0,0,0,0,0,0,0,0,0,0,0,0,0,0,0,0,0,{"$f":"CMJ81","v":0},0,0,0,0,0,0,0,0,0,0,0,0,0,0,0,0,0,0,0,0,0,0,0,0,0,0,0,0,0,0,0,0,0,0,0,0,0,0,0,0,0,0,0,0,0,0,0,0,0,0,0,0,0,0,0,0,0,0,0,0,0,0,0,{"$f":"COV81","v":0},0,0,0,0,0,0,0,0,0,0,0,0,0,0,0,0,0,0,0,0,0,0,0,0,0,0,0,0,0,0,0,0,0,0,0,0,0,0,0,0,0,0,0,0,0,0,0,0,0,0,0,0,0,0,0,0,0,0,0,0,0,0,0,{"$f":"CRH81","v":0},0,0,0,0,0,0,0,0,0,0,0,0,0,0,0,0,0,0,0,0,0,0,0,0,0,0,0,0,0,0,0,0,0,0,0,0,0,0,0,0,0,0,0,0,0,0,0,0,0,0,0,0,0,0,0,0,0,0,0,0,0,0,0,{"$f":"CTT81","v":0},0,0,0,0,0,0,0,0,0,0,0,0,0,0,0,0,0,0,0,0,0,0,0,0,0,0,0,0,0,0,0,0,0,0,0,0,0,0,0,0,0,0,0,0,0,0,0,0,0,0,0,0,0,0,0,0,0,0,0,0,0,0,0,{"$f":"CWF81","v":0},0,0,0,0,0,0,0,0,0,0,0,0,0,0,0,0,0,0,0,0,0,0,0,0,0,0,0,0,0,0,0,0,0,0,0,0,0,0,0,0,0,0,0,0,0,0,0,0,0,0,0,0,0,0,0,0,0,0,0,0,0,0,0,{"$f":"CYR81","v":0},0,0,0,0,0,0,0,0,0,0,0,0,0,0,0,0,0,0,0,0,0,0,0,0,0,0,0,0,0,0,0,0,0,0,0,0,0,0,0,0,0,0,0,0,0,0,0,0,0,0,0,0,0,0,0,0,0,0,0,0,0,0,0,{"$f":"DBD81","v":0},0,0,0,0,0,0,0,0,0,0,0,0,0,0,0,0,0,0,0,0,0,0,0,0,0,0,0,0,0,0,0,0,0,0,0,0,0,0,0,0,0,0,0,0,0,0,0,0,0,0,0,0,0,0,0,0,0,0,0,0,0,0,0,{"$f":"DDP81","v":0},0,0,0,0,0,0,0,0,0,0,0,0,0,0,0,0,0,0,0,0,0,0,0,0,0,0,0,0,0,0,0,0,0,0,0,0,0,0,0,0,0,0,0,0,0,0,0,0,0,0,0,0,0,0,0,0,0,0,0,0,0,0,0,{"$f":"DGB81","v":0},0,0,0,0,0,0,0,0,0,0,0,0,0,0,0,0,0,0,0,0,0,0,0,0,0,0,0,0,0,0,0,0,0,0,0,0,0,0,0,0,0,0,0,0,0,0,0,0,0,0,0,0,0,0,0,0,0,0,0,0,0,0,0,{"$f":"DIN81","v":0},0,0,0,0,0,0,0,0,0,0,0,0,0,0,0,0,0,0,0,0,0,0,0,0,0,0,0,0,0,0,0,0,0,0,0,0,0,0,0,0,0,0,0,0,0,0,0,0,0,0,0,0,0,0,0,0,0,0,0,0,0,0,0,{"$f":"DKZ81","v":0},0,0,0,0,0,0,0,0,0,0,0,0,0,0,0,0,0,0,0,0,0,0,0,0,0,0,0,0,0,0,0,0,0,0,0,0,0,0,0,0,0,0,0,0,0,0,0,0,0,0,0,0,0,0,0,0,0,0,0,0,0,0,0,{"$f":"DNL81","v":0},0,0,0,0,0,0,0,0,0,0,0,0,0,0,0,0,0,0,0,0,0,0,0,0,0,0,0,0,0,0,0,0,0,0,0,0,0,0,0,0,0,0,0,0,0,0,0,0,0,0,0,0,0,0,0,0,0,0,0,0,0,0,0,{"$f":"DPX81","v":0},0,0,0,0,0,0,0,0,0,0,0,0,0,0,0,0,0,0,0,0,0,0,0,0,0,0,0,0,0,0,0,0,0,0,0,0,0,0,0,0,0,0,0,0,0,0,0,0,0,0,0,0,0,0,0,0,0,0,0,0,0,0,0,{"$f":"DSJ81","v":0},0,0,0,0,0,0,0,0,0,0,0,0,0,0,0,0,0,0,0,0,0,0,0,0,0,0,0,0,0,0,0,0,0,0,0,0,0,0,0,0,0,0,0,0,0,0,0,0,0,0,0,0,0,0,0,0,0,0,0,0,0,0,0,{"$f":"DUV81","v":0},0,0,0,0,0,0,0,0,0,0,0,0,0,0,0,0,0,0,0,0,0,0,0,0,0,0,0,0,0,0,0,0,0,0,0,0,0,0,0,0,0,0,0,0,0,0,0,0,0,0,0,0,0,0,0,0,0,0,0,0,0,0,0,{"$f":"DXH81","v":0},0,0,0,0,0,0,0,0,0,0,0,0,0,0,0,0,0,0,0,0,0,0,0,0,0,0,0,0,0,0,0,0,0,0,0,0,0,0,0,0,0,0,0,0,0,0,0,0,0,0,0,0,0,0,0,0,0,0,0,0,0,0,0,{"$f":"DZT81","v":0},0,0,0,0,0,0,0,0,0,0,0,0,0,0,0,0,0,0,0,0,0,0,0,0,0,0,0,0,0,0,0,0,0,0,0,0,0,0,0,0,0,0,0,0,0,0,0,0,0,0,0,0,0,0,0,0,0,0,0,0,0,0,0,{"$f":"ECF81","v":0},0,0,0,0,0,0,0,0,0,0,0,0,0,0,0,0,0,0,0,0,0,0,0,0,0,0,0,0,0,0,0,0,0,0,0,0,0,0,0,0,0,0,0,0,0,0,0,0,0,0,0,0,0,0,0,0,0,0,0,0,0,0,0,{"$f":"EER81","v":0},0,0,0,0,0,0,0,0,0,0,0,0,0,0,0,0,0,0,0,0,0,0,0,0,0,0,0,0,0,0,0,0,0,0,0,0,0,0,0,0,0,0,0,0,0,0,0,0,0,0,0,0,0,0,0,0,0,0,0,0,0,0,0,{"$f":"EHD81","v":0},0,0,0,0,0,0,0,0,0,0,0,0,0,0,0,0,0,0,0,0,0,0,0,0,0,0,0,0,0,0,0,0,0,0,0,0,0,0,0,0,0,0,0,0,0,0,0,0,0,0,0,0,0,0,0,0,0,0,0,0,0,0,0,{"$f":"EJP81","v":0},0,0,0,0,0,0,0,0,0,0,0,0,0,0,0,0,0,0,0,0,0,0,0,0,0,0,0,0,0,0,0,0,0,0,0,0,0,0,0,0,0,0,0,0,0,0,0,0,0,0,0,0,0,0,0,0,0,0,0,0,0,0,0,{"$f":"EMB81","v":0},0,0,0,0,0,0,0,0,0,0,0,0,0,0,0,0,0,0,0,0,0,0,0,0,0,0,0,0,0,0,0,0,0,0,0,0,0,0,0,0,0,0,0,0,0,0,0,0,0,0,0,0,0,0,0,0,0,0,0,0,0,0,0,{"$f":"EON81","v":0},0,0,0,0,0,0,0,0,0,0,0,0,0,0,0,0,0,0,0,0,0,0,0,0,0,0,0,0,0,0,0,0,0,0,0,0,0,0,0,0,0,0,0,0,0,0,0,0,0,0,0,0,0,0,0,0,0,0,0,0,0,0,0,{"$f":"EQZ81","v":0},0,0,0,0,0,0,0,0,0,0,0,0,0,0,0,0,0,0,0,0,0,0,0,0,0,0,0,0,0,0,0,0,0,0,0,0,0,0,0,0,0,0,0,0,0,0,0,0,0,0,0,0,0,0,0,0,0,0,0,0,0,0,0,{"$f":"ETL81","v":0},0,0,0,0,0,0,0,0,0,0,0,0,0,0,0,0,0,0,0,0,0,0,0,0,0,0,0,0,0,0,0,0,0,0,0,0,0,0,0,0,0,0,0,0,0,0,0,0,0,0,0,0,0,0,0,0,0,0,0,0,0,0,0,{"$f":"EVX81","v":0},0,0,0,0,0,0,0,0,0,0,0,0,0,0,0,0,0,0,0,0,0,0,0,0,0,0,0,0,0,0,0,0,0,0,0,0,0,0,0,0,0,0,0,0,0,0,0,0,0,0,0,0,0,0,0,0,0,0,0,0,0,0,0,{"$f":"EYJ81","v":0},0,0,0,0,0,0,0,0,0,0,0,0,0,0,0,0,0,0,0,0,0,0,0,0,0,0,0,0,0,0,0,0,0,0,0,0,0,0,0,0,0,0,0,0,0,0,0,0,0,0,0,0,0,0,0,0,0,0,0,0,0,0,0,{"$f":"FAV81","v":0},0,0,0,0,0,0,0,0,0,0,0,0,0,0,0,0,0,0,0,0,0,0,0,0,0,0,0,0,0,0,0,0,0,0,0,0,0,0,0,0,0,0,0,0,0,0,0,0,0,0,0,0,0,0,0,0,0,0,0,0,0,0,0,{"$f":"FDH81","v":0},0,0,0,0,0,0,0,0,0,0,0,0,0,0,0,0,0,0,0,0,0,0,0,0,0,0,0,0,0,0,0,0,0,0,0,0,0,0,0,0,0,0,0,0,0,0,0,0,0,0,0,0,0,0,0,0,0,0,0,0,0,0,0,{"$f":"FFT81","v":0},0,0,0,0,0,0,0,0,0,0,0,0,0,0,0,0,0,0,0,0,0,0,0,0,0,0,0,0,0,0,0,0,0,0,0,0,0,0,0,0,0,0,0,0,0,0,0,0,0,0,0,0,0,0,0,0,0,0,0,0,0,0,0,{"$f":"FIF81","v":0},0,0,0,0,0,0,0,0,0,0,0,0,0,0,0,0,0,0,0,0,0,0,0,0,0,0,0,0,0,0,0,0,0,0,0,0,0,0,0,0,0,0,0,0,0,0,0,0,0,0,0,0,0,0,0,0,0,0,0,0,0,0,0,{"$f":"FKR81","v":0},0,0,0,0,0,0,0,0,0,0,0,0,0,0,0,0,0,0,0,0,0,0,0,0,0,0,0,0,0,0,0,0,0,0,0,0,0,0,0,0,0,0,0,0,0,0,0,0,0,0,0,0,0,0,0,0,0,0,0,0,0,0,0,{"$f":"FND81","v":0},0,0,0,0,0,0,0,0,0,0,0,0,0,0,0,0,0,0,0,0,0,0,0,0,0,0,0,0,0,0,0,0,0,0,0,0,0,0,0,0,0,0,0,0,0,0,0,0,0,0,0,0,0,0,0,0,0,0,0,0,0,0,0,{"$f":"FPP81","v":0},0,0,0,0,0,0,0,0,0,0,0,0,0,0,0,0,0,0,0,0,0,0,0,0,0,0,0,0,0,0,0,0,0,0,0,0,0,0,0,0,0,0,0,0,0,0,0,0,0,0,0,0,0,0,0,0,0,0,0,0,0,0,0,{"$f":"FSB81","v":0},0,0,0,0,0,0,0,0,0,0,0,0,0,0,0,0,0,0,0,0,0,0,0,0,0,0,0,0,0,0,0,0,0,0,0,0,0,0,0,0,0,0,0,0,0,0,0,0,0,0,0,0,0,0,0,0,0,0,0,0,0,0,0,{"$f":"FUN81","v":0},0,0,0,0,0,0,0,0,0,0,0,0,0,0,0,0,0,0,0,0,0,0,0,0,0,0,0,0,0,0,0,0,0,0,0,0,0,0,0,0,0,0,0,0,0,0,0,0,0,0,0,0,0,0,0,0,0,0,0,0,0,0,0,{"$f":"FWZ81","v":0},0,0,0,0,0,0,0,0,0,0,0,0,0,0,0,0,0,0,0,0,0,0,0,0,0,0,0,0,0,0,0,0,0,0,0,0,0,0,0,0,0,0,0,0,0,0,0,0,0,0,0,0,0,0,0,0,0,0,0,0,0,0,0,{"$f":"FZL81","v":0},0,0,0,0,0,0,0,0,0,0,0,0,0,0,0,0,0,0,0,0,0,0,0,0,0,0,0,0,0,0,0,0,0,0,0,0,0,0,0,0,0,0,0,0,0,0,0,0,0,0,0,0,0,0,0,0,0,0,0,0,0,0,0,{"$f":"GBX81","v":0},0,0,0,0,0,0,0,0,0,0,0,0,0,0,0,0,0,0,0,0,0,0,0,0,0,0,0,0,0,0,0,0,0,0,0,0,0,0,0,0,0,0,0,0,0,0,0,0,0,0,0,0,0,0,0,0,0,0,0,0,0,0,0,{"$f":"GEJ81","v":0},0,0,0,0,0,0,0,0,0,0,0,0,0,0,0,0,0,0,0,0,0,0,0,0,0,0,0,0,0,0,0,0,0,0,0,0,0,0,0,0,0,0,0,0,0,0,0,0,0,0,0,0,0,0,0,0,0,0,0,0,0,0,0,{"$f":"GGV81","v":0},0,0,0,0,0,0,0,0,0,0,0,0,0,0,0,0,0,0,0,0,0,0,0,0,0,0,0,0,0,0,0,0,0,0,0,0,0,0,0,0,0,0,0,0,0,0,0,0,0,0,0,0,0,0,0,0,0,0,0,0,0,0,0,{"$f":"GJH81","v":0},0,0,0,0,0,0,0,0,0,0,0,0,0,0,0,0,0,0,0,0,0,0,0,0,0,0,0,0,0,0,0,0,0,0,0,0,0,0,0,0,0,0,0,0,0,0,0,0,0,0,0,0,0,0,0,0,0,0,0,0,0,0,0,{"$f":"GLT81","v":0},0,0,0,0,0,0,0,0,0,0,0,0,0,0,0,0,0,0,0,0,0,0,0,0,0,0,0,0,0,0,0,0,0,0,0,0,0,0,0,0,0,0,0,0,0,0,0,0,0,0,0,0,0,0,0,0,0,0,0,0,0,0,0,{"$f":"GOF81","v":0},0,0,0,0,0,0,0,0,0,0,0,0,0,0,0,0,0,0,0,0,0,0,0,0,0,0,0,0,0,0,0,0,0,0,0,0,0,0,0,0,0,0,0,0,0,0,0,0,0,0,0,0,0,0,0,0,0,0,0,0,0,0,0,{"$f":"GQR81","v":0},0,0,0,0,0,0,0,0,0,0,0,0,0,0,0,0,0,0,0,0,0,0,0,0,0,0,0,0,0,0,0,0,0,0,0,0,0,0,0,0,0,0,0,0,0,0,0,0,0,0,0,0,0,0,0,0,0,0,0,0,0,0,0,{"$f":"GTD81","v":0},0,0,0,0,0,0,0,0,0,0,0,0,0,0,0,0,0,0,0,0,0,0,0,0,0,0,0,0,0,0,0,0,0,0,0,0,0,0,0,0,0,0,0,0,0,0,0,0,0,0,0,0,0,0,0,0,0,0,0,0,0,0,0,{"$f":"GVP81","v":0},0,0,0,0,0,0,0,0,0,0,0,0,0,0,0,0,0,0,0,0,0,0,0,0,0,0,0,0,0,0,0,0,0,0,0,0,0,0,0,0,0,0,0,0,0,0,0,0,0,0,0,0,0,0,0,0,0,0,0,0,0,0,0,{"$f":"GYB81","v":0},0,0,0,0,0,0,0,0,0,0,0,0,0,0,0,0,0,0,0,0,0,0,0,0,0,0,0,0,0,0,0,0,0,0,0,0,0,0,0,0,0,0,0,0,0,0,0,0,0,0,0,0,0,0,0,0,0,0,0,0,0,0,0,{"$f":"HAN81","v":0},0,0,0,0,0,0,0,0,0,0,0,0,0,0,0,0,0,0,0,0,0,0,0,0,0,0,0,0,0,0,0,0,0,0,0,0,0,0,0,0,0,0,0,0,0,0,0,0,0,0,0,0,0,0,0,0,0,0,0,0,0,0,0,{"$f":"HCZ81","v":0},0,0,0,0,0,0,0,0,0,0,0,0,0,0,0,0,0,0,0,0,0,0,0,0,0,0,0,0,0,0,0,0,0,0,0,0,0,0,0,0,0,0,0,0,0,0,0,0,0,0,0,0,0,0,0,0,0,0,0,0,0,0,0,{"$f":"HFL81","v":0},0,0,0,0,0,0,0,0,0,0,0,0,0,0,0,0,0,0,0,0,0,0,0,0,0,0,0,0,0,0,0,0,0,0,0,0,0,0,0,0,0,0,0,0,0,0,0,0,0,0,0,0,0,0,0,0,0,0,0,0,0,0,0,{"$f":"HHX81","v":0},0,0,0,0,0,0,0,0,0,0,0,0,0,0,0,0,0,0,0,0,0,0,0,0,0,0,0,0,0,0,0,0,0,0,0,0,0,0,0,0,0,0,0,0,0,0,0,0,0,0,0,0,0,0,0,0,0,0,0,0,0,0,0,{"$f":"HKJ81","v":0},0,0,0,0,0,0,0,0,0,0,0,0,0,0,0,0,0,0,0,0,0,0,0,0,0,0,0,0,0,0,0,0,0,0,0,0,0,0,0,0,0,0,0,0,0,0,0,0,0,0,0,0,0,0,0,0,0,0,0,0,0,0,0,{"$f":"HMV81","v":0},0,0,0,0,0,0,0,0,0,0,0,0,0,0,0,0,0,0,0,0,0,0,0,0,0,0,0,0,0,0,0,0,0,0,0,0,0,0,0,0,0,0,0,0,0,0,0,0,0,0,0,0,0,0,0,0,0,0,0,0,0,0,0,{"$f":"HPH81","v":0},0,0,0,0,0,0,0,0,0,0,0,0,0,0,0,0,0,0,0,0,0,0,0,0,0,0,0,0,0,0,0,0,0,0,0,0,0,0,0,0,0,0,0,0,0,0,0,0,0,0,0,0,0,0,0,0,0,0,0,0,0,0,0,{"$f":"HRT81","v":0},0,0,0,0,0,0,0,0,0,0,0,0,0,0,0,0,0,0,0,0,0,0,0,0,0,0,0,0,0,0,0,0,0,0,0,0,0,0,0,0,0,0,0,0,0,0,0,0,0,0,0,0,0,0,0,0,0,0,0,0,0,0,0,{"$f":"HUF81","v":0},0,0,0,0,0,0,0,0,0,0,0,0,0,0,0,0,0,0,0,0,0,0,0,0,0,0,0,0,0,0,0,0,0,0,0,0,0,0,0,0,0,0,0,0,0,0,0,0,0,0,0,0,0,0,0,0,0,0,0,0,0,0,0,{"$f":"HWR81","v":0},0,0,0,0,0,0,0,0,0,0,0,0,0,0,0,0,0,0,0,0,0,0,0,0,0,0,0,0,0,0,0,0,0,0,0,0,0,0,0,0,0,0,0,0,0,0,0,0,0,0,0,0,0,0,0,0,0,0,0,0,0,0,0,{"$f":"HZD81","v":0},0,0,0,0,0,0,0,0,0,0,0,0,0,0,0,0,0,0,0,0,0,0,0,0,0,0,0,0,0,0,0,0,0,0,0,0,0,0,0,0,0,0,0,0,0,0,0,0,0,0,0,0,0,0,0,0,0,0,0,0,0,0,0,{"$f":"IBP81","v":0},0,0,0,0,0,0,0,0,0,0,0,0,0,0,0,0,0,0,0,0,0,0,0,0,0,0,0,0,0,0,0,0,0,0,0,0,0,0,0,0,0,0,0,0,0,0,0,0,0,0,0,0,0,0,0,0,0,0,0,0,0,0,0,{"$f":"IEB81","v":0},0,0,0,0,0,0,0,0,0,0,0,0,0,0,0,0,0,0,0,0,0,0,0,0,0,0,0,0,0,0,0,0,0,0,0,0,0,0,0,0,0,0,0,0,0,0,0,0,0,0,0,0,0,0,0,0,0,0,0,0,0,0,0,{"$f":"IGN81","v":0},0,0,0,0,0,0,0,0,0,0,0,0,0,0,0,0,0,0,0,0,0,0,0,0,0,0,0,0,0,0,0,0,0,0,0,0,0,0,0,0,0,0,0,0,0,0,0,0,0,0,0,0,0,0,0,0,0,0,0,0,0,0,0,{"$f":"IIZ81","v":0},0,0,0,0,0,0,0,0,0,0,0,0,0,0,0,0,0,0,0,0,0,0,0,0,0,0,0,0,0,0,0,0,0,0,0,0,0,0,0,0,0,0,0,0,0,0,0,0,0,0,0,0,0,0,0,0,0,0,0,0,0,0,0,{"$f":"ILL81","v":0},0,0,0,0,0,0,0,0,0,0,0,0,0,0,0,0,0,0,0,0,0,0,0,0,0,0,0,0,0,0,0,0,0,0,0,0,0,0,0,0,0,0,0,0,0,0,0,0,0,0,0,0,0,0,0,0,0,0,0,0,0,0,0,{"$f":"INX81","v":0},0,0,0,0,0,0,0,0,0,0,0,0,0,0,0,0,0,0,0,0,0,0,0,0,0,0,0,0,0,0,0,0,0,0,0,0,0,0,0,0,0,0,0,0,0,0,0,0,0,0,0,0,0,0,0,0,0,0,0,0,0,0,0,{"$f":"IQJ81","v":0},0,0,0,0,0,0,0,0,0,0,0,0,0,0,0,0,0,0,0,0,0,0,0,0,0,0,0,0,0,0,0,0,0,0,0,0,0,0,0,0,0,0,0,0,0,0,0,0,0,0,0,0,0,0,0,0,0,0,0,0,0,0,0,{"$f":"ISV81","v":0},0,0,0,0,0,0,0,0,0,0,0,0,0,0,0,0,0,0,0,0,0,0,0,0,0,0,0,0,0,0,0,0,0,0,0,0,0,0,0,0,0,0,0,0,0,0,0,0,0,0,0,0,0,0,0,0,0,0,0,0,0,0,0,{"$f":"IVH81","v":0},0,0,0,0,0,0,0,0,0,0,0,0,0,0,0,0,0,0,0,0,0,0,0,0,0,0,0,0,0,0,0,0,0,0,0,0,0,0,0,0,0,0,0,0,0,0,0,0,0,0,0,0,0,0,0,0,0,0,0,0,0,0,0,{"$f":"IXT81","v":0},0,0,0,0,0,0,0,0,0,0,0,0,0,0,0,0,0,0,0,0,0,0,0,0,0,0,0,0,0,0,0,0,0,0,0,0,0,0,0,0,0,0,0,0,0,0,0,0,0,0,0,0,0,0,0,0,0,0,0,0,0,0,0,{"$f":"JAF81","v":0},0,0,0,0,0,0,0,0,0,0,0,0,0,0,0,0,0,0,0,0,0,0,0,0,0,0,0,0,0,0,0,0,0,0,0,0,0,0,0,0,0,0,0,0,0,0,0,0,0,0,0,0,0,0,0,0,0,0,0,0,0,0,0,{"$f":"JCR81","v":0},0,0,0,0,0,0,0,0,0,0,0,0,0,0,0,0,0,0,0,0,0,0,0,0,0,0,0,0,0,0,0,0,0,0,0,0,0,0,0,0,0,0,0,0,0,0,0,0,0,0,0,0,0,0,0,0,0,0,0,0,0,0,0,{"$f":"JFD81","v":0},0,0,0,0,0,0,0,0,0,0,0,0,0,0,0,0,0,0,0,0,0,0,0,0,0,0,0,0,0,0,0,0,0,0,0,0,0,0,0,0,0,0,0,0,0,0,0,0,0,0,0,0,0,0,0,0,0,0,0,0,0,0,0,{"$f":"JHP81","v":0},0,0,0,0,0,0,0,0,0,0,0,0,0,0,0,0,0,0,0,0,0,0,0,0,0,0,0,0,0,0,0,0,0,0,0,0,0,0,0,0,0,0,0,0,0,0,0,0,0,0,0,0,0,0,0,0,0,0,0,0,0,0,0,{"$f":"JKB81","v":0},0,0,0,0,0,0,0,0,0,0,0,0,0,0,0,0,0,0,0,0,0,0,0,0,0,0,0,0,0,0,0,0,0,0,0,0,0,0,0,0,0,0,0,0,0,0,0,0,0,0,0,0,0,0,0,0,0,0,0,0,0,0,0,{"$f":"JMN81","v":0},0,0,0,0,0,0,0,0,0,0,0,0,0,0,0,0,0,0,0,0,0,0,0,0,0,0,0,0,0,0,0,0,0,0,0,0,0,0,0,0,0,0,0,0,0,0,0,0,0,0,0,0,0,0,0,0,0,0,0,0,0,0,0,{"$f":"JOZ81","v":0},0,0,0,0,0,0,0,0,0,0,0,0,0,0,0,0,0,0,0,0,0,0,0,0,0,0,0,0,0,0,0,0,0,0,0,0,0,0,0,0,0,0,0,0,0,0,0,0,0,0,0,0,0,0,0,0,0,0,0,0,0,0,0,{"$f":"JRL81","v":0},0,0,0,0,0,0,0,0,0,0,0,0,0,0,0,0,0,0,0,0,0,0,0,0,0,0,0,0,0,0,0,0,0,0,0,0,0,0,0,0,0,0,0,0,0,0,0,0,0,0,0,0,0,0,0,0,0,0,0,0,0,0,0,{"$f":"JTX81","v":0},0,0,0,0,0,0,0,0,0,0,0,0,0,0,0,0,0,0,0,0,0,0,0,0,0,0,0,0,0,0,0,0,0,0,0,0,0,0,0,0,0,0,0,0,0,0,0,0,0,0,0,0,0,0,0,0,0,0,0,0,0,0,0,{"$f":"JWJ81","v":0},0,0,0,0,0,0,0,0,0,0,0,0,0,0,0,0,0,0,0,0,0,0,0,0,0,0,0,0,0,0,0,0,0,0,0,0,0,0,0,0,0,0,0,0,0,0,0,0,0,0,0,0,0,0,0,0,0,0,0,0,0,0,0,{"$f":"JYV81","v":0},0,0,0,0,0,0,0,0,0,0,0,0,0,0,0,0,0,0,0,0,0,0,0,0,0,0,0,0,0,0,0,0,0,0,0,0,0,0,0,0,0,0,0,0,0,0,0,0,0,0,0,0,0,0,0,0,0,0,0,0,0,0,0,{"$f":"KBH81","v":0},0,0,0,0,0,0,0,0,0,0,0,0,0,0,0,0,0,0,0,0,0,0,0,0,0,0,0,0,0,0,0,0,0,0,0,0,0,0,0,0,0,0,0,0,0,0,0,0,0,0,0,0,0,0,0,0,0,0,0,0,0,0,0,{"$f":"KDT81","v":0},0,0,0,0,0,0,0,0,0,0,0,0,0,0,0,0,0,0,0,0,0,0,0,0,0,0,0,0,0,0,0,0,0,0,0,0,0,0,0,0,0,0,0,0,0,0,0,0,0,0,0,0,0,0,0,0,0,0,0,0,0,0,0,{"$f":"KGF81","v":0},0,0,0,0,0,0,0,0,0,0,0,0,0,0,0,0,0,0,0,0,0,0,0,0,0,0,0,0,0,0,0,0,0,0,0,0,0,0,0,0,0,0,0,0,0,0,0,0,0,0,0,0,0,0,0,0,0,0,0,0,0,0,0,{"$f":"KIR81","v":0},0,0,0,0,0,0,0,0,0,0,0,0,0,0,0,0,0,0,0,0,0,0,0,0,0,0,0,0,0,0,0,0,0,0,0,0,0,0,0,0,0,0,0,0,0,0,0,0,0,0,0,0,0,0,0,0,0,0,0,0,0,0,0,{"$f":"KLD81","v":0},0,0,0,0,0,0,0,0,0,0,0,0,0,0,0,0,0,0,0,0,0,0,0,0,0,0,0,0,0,0,0,0,0,0,0,0,0,0,0,0,0,0,0,0,0,0,0,0,0,0,0,0,0,0,0,0,0,0,0,0,0,0,0,{"$f":"KNP81","v":0},0,0,0,0,0,0,0,0,0,0,0,0,0,0,0,0,0,0,0,0,0,0,0,0,0,0,0,0,0,0,0,0,0,0,0,0,0,0,0,0,0,0,0,0,0,0,0,0,0,0,0,0,0,0,0,0,0,0,0,0,0,0,0,{"$f":"KQB81","v":0},0,0,0,0,0,0,0,0,0,0,0,0,0,0,0,0,0,0,0,0,0,0,0,0,0,0,0,0,0,0,0,0,0,0,0,0,0,0,0,0,0,0,0,0,0,0,0,0,0,0,0,0,0,0,0,0,0,0,0,0,0,0,0,{"$f":"KSN81","v":0},0,0,0,0,0,0,0,0,0,0,0,0,0,0,0,0,0,0,0,0,0,0,0,0,0,0,0,0,0,0,0,0,0,0,0,0,0,0,0,0,0,0,0,0,0,0,0,0,0,0,0,0,0,0,0,0,0,0,0,0,0,0,0,{"$f":"KUZ81","v":0},0,0,0,0,0,0,0,0,0,0,0,0,0,0,0,0,0,0,0,0,0,0,0,0,0,0,0,0,0,0,0,0,0,0,0,0,0,0,0,0,0,0,0,0,0,0,0,0,0,0,0,0,0,0,0,0,0,0,0,0,0,0,0,{"$f":"KXL81","v":0},0,0,0,0,0,0,0,0,0,0,0,0,0,0,0,0,0,0,0,0,0,0,0,0,0,0,0,0,0,0,0,0,0,0,0,0,0,0,0,0,0,0,0,0,0,0,0,0,0,0,0,0,0,0,0,0,0,0,0,0,0,0,0,{"$f":"KZX81","v":0},0,0,0,0,0,0,0,0,0,0,0,0,0,0,0,0,0,0,0,0,0,0,0,0,0,0,0,0,0,0,0,0,0,0,0,0,0,0,0,0,0,0,0,0,0,0,0,0,0,0,0,0,0,0,0,0,0,0,0,0,0,0,0,{"$f":"LCJ81","v":0},0,0,0,0,0,0,0,0,0,0,0,0,0,0,0,0,0,0,0,0,0,0,0,0,0,0,0,0,0,0,0,0,0,0,0,0,0,0,0,0,0,0,0,0,0,0,0,0,0,0,0,0,0,0,0,0,0,0,0,0,0,0,0,{"$f":"LEV81","v":0},0,0,0,0,0,0,0,0,0,0,0,0,0,0,0,0,0,0,0,0,0,0,0,0,0,0,0,0,0,0,0,0,0,0,0,0,0,0,0,0,0,0,0,0,0,0,0,0,0,0,0,0,0,0,0,0,0,0,0,0,0,0,0,{"$f":"LHH81","v":0},0,0,0,0,0,0,0,0,0,0,0,0,0,0,0,0,0,0,0,0,0,0,0,0,0,0,0,0,0,0,0,0,0,0,0,0,0,0,0,0,0,0,0,0,0,0,0,0,0,0,0,0,0,0,0,0,0,0,0,0,0,0,0,{"$f":"LJT81","v":0},0,0,0,0,0,0,0,0,0,0,0,0,0,0,0,0,0,0,0,0,0,0,0,0,0,0,0,0,0,0,0,0,0,0,0,0,0,0,0,0,0,0,0,0,0,0,0,0,0,0,0,0,0,0,0,0,0,0,0,0,0,0,0,{"$f":"LMF81","v":0},0,0,0,0,0,0,0,0,0,0,0,0,0,0,0,0,0,0,0,0,0,0,0,0,0,0,0,0,0,0,0,0,0,0,0,0,0,0,0,0,0,0,0,0,0,0,0,0,0,0,0,0,0,0,0,0,0,0,0,0,0,0,0,{"$f":"LOR81","v":0},0,0,0,0,0,0,0,0,0,0,0,0,0,0,0,0,0,0,0,0,0,0,0,0,0,0,0,0,0,0,0,0,0,0,0,0,0,0,0,0,0,0,0,0,0,0,0,0,0,0,0,0,0,0,0,0,0,0,0,0,0,0,0,{"$f":"LRD81","v":0},0,0,0,0,0,0,0,0,0,0,0,0,0,0,0,0,0,0,0,0,0,0,0,0,0,0,0,0,0,0,0,0,0,0,0,0,0,0,0,0,0,0,0,0,0,0,0,0,0,0,0,0,0,0,0,0,0,0,0,0,0,0,0,{"$f":"LTP81","v":0},0,0,0,0,0,0,0,0,0,0,0,0,0,0,0,0,0,0,0,0,0,0,0,0,0,0,0,0,0,0,0,0,0,0,0,0,0,0,0,0,0,0,0,0,0,0,0,0,0,0,0,0,0,0,0,0,0,0,0,0,0,0,0,{"$f":"LWB81","v":0},0,0,0,0,0,0,0,0,0,0,0,0,0,0,0,0,0,0,0,0,0,0,0,0,0,0,0,0,0,0,0,0,0,0,0,0,0,0,0,0,0,0,0,0,0,0,0,0,0,0,0,0,0,0,0,0,0,0,0,0,0,0,0,{"$f":"LYN81","v":0},0,0,0,0,0,0,0,0,0,0,0,0,0,0,0,0,0,0,0,0,0,0,0,0,0,0,0,0,0,0,0,0,0,0,0,0,0,0,0,0,0,0,0,0,0,0,0,0,0,0,0,0,0,0,0,0,0,0,0,0,0,0,0,{"$f":"MAZ81","v":0},0,0,0,0,0,0,0,0,0,0,0,0,0,0,0,0,0,0,0,0,0,0,0,0,0,0,0,0,0,0,0,0,0,0,0,0,0,0,0,0,0,0,0,0,0,0,0,0,0,0,0,0,0,0,0,0,0,0,0,0,0,0,0,{"$f":"MDL81","v":0},0,0,0,0,0,0,0,0,0,0,0,0,0,0,0,0,0,0,0,0,0,0,0,0,0,0,0,0,0,0,0,0,0,0,0,0,0,0,0,0,0,0,0,0,0,0,0,0,0,0,0,0,0,0,0,0,0,0,0,0,0,0,0,{"$f":"MFX81","v":0},0,0,0,0,0,0,0,0,0,0,0,0,0,0,0,0,0,0,0,0,0,0,0,0,0,0,0,0,0,0,0,0,0,0,0,0,0,0,0,0,0,0,0,0,0,0,0,0,0,0,0,0,0,0,0,0,0,0,0,0,0,0,0,{"$f":"MIJ81","v":0},0,0,0,0,0,0,0,0,0,0,0,0,0,0,0,0,0,0,0,0,0,0,0,0,0,0,0,0,0,0,0,0,0,0,0,0,0,0,0,0,0,0,0,0,0,0,0,0,0,0,0,0,0,0,0,0,0,0,0,0,0,0,0,{"$f":"MKV81","v":0},0,0,0,0,0,0,0,0,0,0,0,0,0,0,0,0,0,0,0,0,0,0,0,0,0,0,0,0,0,0,0,0,0,0,0,0,0,0,0,0,0,0,0,0,0,0,0,0,0,0,0,0,0,0,0,0,0,0,0,0,0,0,0,{"$f":"MNH81","v":0},0,0,0,0,0,0,0,0,0,0,0,0,0,0,0,0,0,0,0,0,0,0,0,0,0,0,0,0,0,0,0,0,0,0,0,0,0,0,0,0,0,0,0,0,0,0,0,0,0,0,0,0,0,0,0,0,0,0,0,0,0,0,0,{"$f":"MPT81","v":0},0,0,0,0,0,0,0,0,0,0,0,0,0,0,0,0,0,0,0,0,0,0,0,0,0,0,0,0,0,0,0,0,0,0,0,0,0,0,0,0,0,0,0,0,0,0,0,0,0,0,0,0,0,0,0,0,0,0,0,0,0,0,0,{"$f":"MSF81","v":0},0,0,0,0,0,0,0,0,0,0,0,0,0,0,0,0,0,0,0,0,0,0,0,0,0,0,0,0,0,0,0,0,0,0,0,0,0,0,0,0,0,0,0,0,0,0,0,0,0,0,0,0,0,0,0,0,0,0,0,0,0,0,0,{"$f":"MUR81","v":0},0,0,0,0,0,0,0,0,0,0,0,0,0,0,0,0,0,0,0,0,0,0,0,0,0,0,0,0,0,0,0,0,0,0,0,0,0,0,0,0,0,0,0,0,0,0,0,0,0,0,0,0,0,0,0,0,0,0,0,0,0,0,0,{"$f":"MXD81","v":0},0,0,0,0,0,0,0,0,0,0,0,0,0,0,0,0,0,0,0,0,0,0,0,0,0,0,0,0,0,0,0,0,0,0,0,0,0,0,0,0,0,0,0,0,0,0,0,0,0,0,0,0,0,0,0,0,0,0,0,0,0,0,0,{"$f":"MZP81","v":0},0,0,0,0,0,0,0,0,0,0,0,0,0,0,0,0,0,0,0,0,0,0,0,0,0,0,0,0,0,0,0,0,0,0,0,0,0,0,0,0,0,0,0,0,0,0,0,0,0,0,0,0,0,0,0,0,0,0,0,0,0,0,0,{"$f":"NCB81","v":0},0,0,0,0,0,0,0,0,0,0,0,0,0,0,0,0,0,0,0,0,0,0,0,0,0,0,0,0,0,0,0,0,0,0,0,0,0,0,0,0,0,0,0,0,0,0,0,0,0,0,0,0,0,0,0,0,0,0,0,0,0,0,0,{"$f":"NEN81","v":0},0,0,0,0,0,0,0,0,0,0,0,0,0,0,0,0,0,0,0,0,0,0,0,0,0,0,0,0,0,0,0,0,0,0,0,0,0,0,0,0,0,0,0,0,0,0,0,0,0,0,0,0,0,0,0,0,0,0,0,0,0,0,0,{"$f":"NGZ81","v":0},0,0,0,0,0,0,0,0,0,0,0,0,0,0,0,0,0,0,0,0,0,0,0,0,0,0,0,0,0,0,0,0,0,0,0,0,0,0,0,0,0,0,0,0,0,0,0,0,0,0,0,0,0,0,0,0,0,0,0,0,0,0,0,{"$f":"NJL81","v":0},0,0,0,0,0,0,0,0,0,0,0,0,0,0,0,0,0,0,0,0,0,0,0,0,0,0,0,0,0,0,0,0,0,0,0,0,0,0,0,0,0,0,0,0,0,0,0,0,0,0,0,0,0,0,0,0,0,0,0,0,0,0,0,{"$f":"NLX81","v":0},0,0,0,0,0,0,0,0,0,0,0,0,0,0,0,0,0,0,0,0,0,0,0,0,0,0,0,0,0,0,0,0,0,0,0,0,0,0,0,0,0,0,0,0,0,0,0,0,0,0,0,0,0,0,0,0,0,0,0,0,0,0,0,{"$f":"NOJ81","v":0},0,0,0,0,0,0,0,0,0,0,0,0,0,0,0,0,0,0,0,0,0,0,0,0,0,0,0,0,0,0,0,0,0,0,0,0,0,0,0,0,0,0,0,0,0,0,0,0,0,0,0,0,0,0,0,0,0,0,0,0,0,0,0,{"$f":"NQV81","v":0},0,0,0,0,0,0,0,0,0,0,0,0,0,0,0,0,0,0,0,0,0,0,0,0,0,0,0,0,0,0,0,0,0,0,0,0,0,0,0,0,0,0,0,0,0,0,0,0,0,0,0,0,0,0,0,0,0,0,0,0,0,0,0,{"$f":"NTH81","v":0},0,0,0,0,0,0,0,0,0,0,0,0,0,0,0,0,0,0,0,0,0,0,0,0,0,0,0,0,0,0,0,0,0,0,0,0,0,0,0,0,0,0,0,0,0,0,0,0,0,0,0,0,0,0,0,0,0,0,0,0,0,0,0,{"$f":"NVT81","v":0},0,0,0,0,0,0,0,0,0,0,0,0,0,0,0,0,0,0,0,0,0,0,0,0,0,0,0,0,0,0,0,0,0,0,0,0,0,0,0,0,0,0,0,0,0,0,0,0,0,0,0,0,0,0,0,0,0,0,0,0,0,0,0,{"$f":"NYF81","v":0},0,0,0,0,0,0,0,0,0,0,0,0,0,0,0,0,0,0,0,0,0,0,0,0,0,0,0,0,0,0,0,0,0,0,0,0,0,0,0,0,0,0,0,0,0,0,0,0,0,0,0,0,0,0,0,0,0,0,0,0,0,0,0,{"$f":"OAR81","v":0},0,0,0,0,0,0,0,0,0,0,0,0,0,0,0,0,0,0,0,0,0,0,0,0,0,0,0,0,0,0,0,0,0,0,0,0,0,0,0,0,0,0,0,0,0,0,0,0,0,0,0,0,0,0,0,0,0,0,0,0,0,0,0,{"$f":"ODD81","v":0},0,0,0,0,0,0,0,0,0,0,0,0,0,0,0,0,0,0,0,0,0,0,0,0,0,0,0,0,0,0,0,0,0,0,0,0,0,0,0,0,0,0,0,0,0,0,0,0,0,0,0,0,0,0,0,0,0,0,0,0,0,0,0,{"$f":"OFP81","v":0},0,0,0,0,0,0,0,0,0,0,0,0,0,0,0,0,0,0,0,0,0,0,0,0,0,0,0,0,0,0,0,0,0,0,0,0,0,0,0,0,0,0,0,0,0,0,0,0,0,0,0,0,0,0,0,0,0,0,0,0,0,0,0,{"$f":"OIB81","v":0},0,0,0,0,0,0,0,0,0,0,0,0,0,0,0,0,0,0,0,0,0,0,0,0,0,0,0,0,0,0,0,0,0,0,0,0,0,0,0,0,0,0,0,0,0,0,0,0,0,0,0,0,0,0,0,0,0,0,0,0,0,0,0,{"$f":"OKN81","v":0},0,0,0,0,0,0,0,0,0,0,0,0,0,0,0,0,0,0,0,0,0,0,0,0,0,0,0,0,0,0,0,0,0,0,0,0,0,0,0,0,0,0,0,0,0,0,0,0,0,0,0,0,0,0,0,0,0,0,0,0,0,0,0,{"$f":"OMZ81","v":0},0,0,0,0,0,0,0,0,0,0,0,0,0,0,0,0,0,0,0,0,0,0,0,0,0,0,0,0,0,0,0,0,0,0,0,0,0,0,0,0,0,0,0,0,0,0,0,0,0,0,0,0,0,0,0,0,0,0,0,0,0,0,0,{"$f":"OPL81","v":0},0,0,0,0,0,0,0,0,0,0,0,0,0,0,0,0,0,0,0,0,0,0,0,0,0,0,0,0,0,0,0,0,0,0,0,0,0,0,0,0,0,0,0,0,0,0,0,0,0,0,0,0,0,0,0,0,0,0,0,0,0,0,0,{"$f":"ORX81","v":0},0,0,0,0,0,0,0,0,0,0,0,0,0,0,0,0,0,0,0,0,0,0,0,0,0,0,0,0,0,0,0,0,0,0,0,0,0,0,0,0,0,0,0,0,0,0,0,0,0,0,0,0,0,0,0,0,0,0,0,0,0,0,0,{"$f":"OUJ81","v":0},0,0,0,0,0,0,0,0,0,0,0,0,0,0,0,0,0,0,0,0,0,0,0,0,0,0,0,0,0,0,0,0,0,0,0,0,0,0,0,0,0,0,0,0,0,0,0,0,0,0,0,0,0,0,0,0,0,0,0,0,0,0,0,{"$f":"OWV81","v":0},0,0,0,0,0,0,0,0,0,0,0,0,0,0,0,0,0,0,0,0,0,0,0,0,0,0,0,0,0,0,0,0,0,0,0,0,0,0,0,0,0,0,0,0,0,0,0,0,0,0,0,0,0,0,0,0,0,0,0,0,0,0,0,{"$f":"OZH81","v":0},0,0,0,0,0,0,0,0,0,0,0,0,0,0,0,0,0,0,0,0,0,0,0,0,0,0,0,0,0,0,0,0,0,0,0,0,0,0,0,0,0,0,0,0,0,0,0,0,0,0,0,0,0,0,0,0,0,0,0,0,0,0,0,{"$f":"PBT81","v":0},0,0,0,0,0,0,0,0,0,0,0,0,0,0,0,0,0,0,0,0,0,0,0,0,0,0,0,0,0,0,0,0,0,0,0,0,0,0,0,0,0,0,0,0,0,0,0,0,0,0,0,0,0,0,0,0,0,0,0,0,0,0,0,{"$f":"PEF81","v":0},0,0,0,0,0,0,0,0,0,0,0,0,0,0,0,0,0,0,0,0,0,0,0,0,0,0,0,0,0,0,0,0,0,0,0,0,0,0,0,0,0,0,0,0,0,0,0,0,0,0,0,0,0,0,0,0,0,0,0,0,0,0,0,{"$f":"PGR81","v":0},0,0,0,0,0,0,0,0,0,0,0,0,0,0,0,0,0,0,0,0,0,0,0,0,0,0,0,0,0,0,0,0,0,0,0,0,0,0,0,0,0,0,0,0,0,0,0,0,0,0,0,0,0,0,0,0,0,0,0,0,0,0,0,{"$f":"PJD81","v":0},0,0,0,0,0,0,0,0,0,0,0,0,0,0,0,0,0,0,0,0,0,0,0,0,0,0,0,0,0,0,0,0,0,0,0,0,0,0,0,0,0,0,0,0,0,0,0,0,0,0,0,0,0,0,0,0,0,0,0,0,0,0,0,{"$f":"PLP81","v":0},0,0,0,0,0,0,0,0,0,0,0,0,0,0,0,0,0,0,0,0,0,0,0,0,0,0,0,0,0,0,0,0,0,0,0,0,0,0,0,0,0,0,0,0,0,0,0,0,0,0,0,0,0,0,0,0,0,0,0,0,0,0,0,{"$f":"POB81","v":0},0,0,0,0,0,0,0,0,0,0,0,0,0,0,0,0,0,0,0,0,0,0,0,0,0,0,0,0,0,0,0,0,0,0,0,0,0,0,0,0,0,0,0,0,0,0,0,0,0,0,0,0,0,0,0,0,0,0,0,0,0,0,0,{"$f":"PQN81","v":0},0,0,0,0,0,0,0,0,0,0,0,0,0,0,0,0,0,0,0,0,0,0,0,0,0,0,0,0,0,0,0,0,0,0,0,0,0,0,0,0,0,0,0,0,0,0,0,0,0,0,0,0,0,0,0,0,0,0,0,0,0,0,0,{"$f":"PSZ81","v":0},0,0,0,0,0,0,0,0,0,0,0,0,0,0,0,0,0,0,0,0,0,0,0,0,0,0,0,0,0,0,0,0,0,0,0,0,0,0,0,0,0,0,0,0,0,0,0,0,0,0,0,0,0,0,0,0,0,0,0,0,0,0,0,{"$f":"PVL81","v":0},0,0,0,0,0,0,0,0,0,0,0,0,0,0,0,0,0,0,0,0,0,0,0,0,0,0,0,0,0,0,0,0,0,0,0,0,0,0,0,0,0,0,0,0,0,0,0,0,0,0,0,0,0,0,0,0,0,0,0,0,0,0,0,{"$f":"PXX81","v":0},0,0,0,0,0,0,0,0,0,0,0,0,0,0,0,0,0,0,0,0,0,0,0,0,0,0,0,0,0,0,0,0,0,0,0,0,0,0,0,0,0,0,0,0,0,0,0,0,0,0,0,0,0,0,0,0,0,0,0,0,0,0,0,{"$f":"QAJ81","v":0},0,0,0,0,0,0,0,0,0,0,0,0,0,0,0,0,0,0,0,0,0,0,0,0,0,0,0,0,0,0,0,0,0,0,0,0,0,0,0,0,0,0,0,0,0,0,0,0,0,0,0,0,0,0,0,0,0,0,0,0,0,0,0,{"$f":"QCV81","v":0},0,0,0,0,0,0,0,0,0,0,0,0,0,0,0,0,0,0,0,0,0,0,0,0,0,0,0,0,0,0,0,0,0,0,0,0,0,0,0,0,0,0,0,0,0,0,0,0,0,0,0,0,0,0,0,0,0,0,0,0,0,0,0,{"$f":"QFH81","v":0},0,0,0,0,0,0,0,0,0,0,0,0,0,0,0,0,0,0,0,0,0,0,0,0,0,0,0,0,0,0,0,0,0,0,0,0,0,0,0,0,0,0,0,0,0,0,0,0,0,0,0,0,0,0,0,0,0,0,0,0,0,0,0,{"$f":"QHT81","v":0},0,0,0,0,0,0,0,0,0,0,0,0,0,0,0,0,0,0,0,0,0,0,0,0,0,0,0,0,0,0,0,0,0,0,0,0,0,0,0,0,0,0,0,0,0,0,0,0,0,0,0,0,0,0,0,0,0,0,0,0,0,0,0,{"$f":"QKF81","v":0},0,0,0,0,0,0,0,0,0,0,0,0,0,0,0,0,0,0,0,0,0,0,0,0,0,0,0,0,0,0,0,0,0,0,0,0,0,0,0,0,0,0,0,0,0,0,0,0,0,0,0,0,0,0,0,0,0,0,0,0,0,0,0,{"$f":"QMR81","v":0},0,0,0,0,0,0,0,0,0,0,0,0,0,0,0,0,0,0,0,0,0,0,0,0,0,0,0,0,0,0,0,0,0,0,0,0,0,0,0,0,0,0,0,0,0,0,0,0,0,0,0,0,0,0,0,0,0,0,0,0,0,0,0,{"$f":"QPD81","v":0},0,0,0,0,0,0,0,0,0,0,0,0,0,0,0,0,0,0,0,0,0,0,0,0,0,0,0,0,0,0,0,0,0,0,0,0,0,0,0,0,0,0,0,0,0,0,0,0,0,0,0,0,0,0,0,0,0,0,0,0,0,0,0,{"$f":"QRP81","v":0},0,0,0,0,0,0,0,0,0,0,0,0,0,0,0,0,0,0,0,0,0,0,0,0,0,0,0,0,0,0,0,0,0,0,0,0,0,0,0,0,0,0,0,0,0,0,0,0,0,0,0,0,0,0,0,0,0,0,0,0,0,0,0,{"$f":"QUB81","v":0},0,0,0,0,0,0,0,0,0,0,0,0,0,0,0,0,0,0,0,0,0,0,0,0,0,0,0,0,0,0,0,0,0,0,0,0,0,0,0,0,0,0,0,0,0,0,0,0,0,0,0,0,0,0,0,0,0,0,0,0,0,0,0,{"$f":"QWN81","v":0},0,0,0,0,0,0,0,0,0,0,0,0,0,0,0,0,0,0,0,0,0,0,0,0,0,0,0,0,0,0,0,0,0,0,0,0,0,0,0,0,0,0,0,0,0,0,0,0,0,0,0,0,0,0,0,0,0,0,0,0,0,0,0,{"$f":"QYZ81","v":0},0,0,0,0,0,0,0,0,0,0,0,0,0,0,0,0,0,0,0,0,0,0,0,0,0,0,0,0,0,0,0,0,0,0,0,0,0,0,0,0,0,0,0,0,0,0,0,0,0,0,0,0,0,0,0,0,0,0,0,0,0,0,0,{"$f":"RBL81","v":0},0,0,0,0,0,0,0,0,0,0,0,0,0,0,0,0,0,0,0,0,0,0,0,0,0,0,0,0,0,0,0,0,0,0,0,0,0,0,0,0,0,0,0,0,0,0,0,0,0,0,0,0,0,0,0,0,0,0,0,0,0,0,0,{"$f":"RDX81","v":0},0,0,0,0,0,0,0,0,0,0,0,0,0,0,0,0,0,0,0,0,0,0,0,0,0,0,0,0,0,0,0,0,0,0,0,0,0,0,0,0,0,0,0,0,0,0,0,0,0,0,0,0,0,0,0,0,0,0,0,0,0,0,0,{"$f":"RGJ81","v":0},0,0,0,0,0,0,0,0,0,0,0,0,0,0,0,0,0,0,0,0,0,0,0,0,0,0,0,0,0,0,0,0,0,0,0,0,0,0,0,0,0,0,0,0,0,0,0,0,0,0,0,0,0,0,0,0,0,0,0,0,0,0,0,{"$f":"RIV81","v":0},0,0,0,0,0,0,0,0,0,0,0,0,0,0,0,0,0,0,0,0,0,0,0,0,0,0,0,0,0,0,0,0,0,0,0,0,0,0,0,0,0,0,0,0,0,0,0,0,0,0,0,0,0,0,0,0,0,0,0,0,0,0,0,{"$f":"RLH81","v":0},0,0,0,0,0,0,0,0,0,0,0,0,0,0,0,0,0,0,0,0,0,0,0,0,0,0,0,0,0,0,0,0,0,0,0,0,0,0,0,0,0,0,0,0,0,0,0,0,0,0,0,0,0,0,0,0,0,0,0,0,0,0,0,{"$f":"RNT81","v":0},0,0,0,0,0,0,0,0,0,0,0,0,0,0,0,0,0,0,0,0,0,0,0,0,0,0,0,0,0,0,0,0,0,0,0,0,0,0,0,0,0,0,0,0,0,0,0,0,0,0,0,0,0,0,0,0,0,0,0,0,0,0,0,{"$f":"RQF81","v":0},0,0,0,0,0,0,0,0,0,0,0,0,0,0,0,0,0,0,0,0,0,0,0,0,0,0,0,0,0,0,0,0,0,0,0,0,0,0,0,0,0,0,0,0,0,0,0,0,0,0,0,0,0,0,0,0,0,0,0,0,0,0,0,{"$f":"RSR81","v":0},0,0,0,0,0,0,0,0,0,0,0,0,0,0,0,0,0,0,0,0,0,0,0,0,0,0,0,0,0,0,0,0,0,0,0,0,0,0,0,0,0,0,0,0,0,0,0,0,0,0,0,0,0,0,0,0,0,0,0,0,0,0,0,{"$f":"RVD81","v":0},0,0,0,0,0,0,0,0,0,0,0,0,0,0,0,0,0,0,0,0,0,0,0,0,0,0,0,0,0,0,0,0,0,0,0,0,0,0,0,0,0,0,0,0,0,0,0,0,0,0,0,0,0,0,0,0,0,0,0,0,0,0,0,{"$f":"RXP81","v":0},0,0,0,0,0,0,0,0,0,0,0,0,0,0,0,0,0,0,0,0,0,0,0,0,0,0,0,0,0,0,0,0,0,0,0,0,0,0,0,0,0,0,0,0,0,0,0,0,0,0,0,0,0,0,0,0,0,0,0,0,0,0,0,{"$f":"SAB81","v":0},0,0,0,0,0,0,0,0,0,0,0,0,0,0,0,0,0,0,0,0,0,0,0,0,0,0,0,0,0,0,0,0,0,0,0,0,0,0,0,0,0,0,0,0,0,0,0,0,0,0,0,0,0,0,0,0,0,0,0,0,0,0,0,{"$f":"SCN81","v":0},0,0,0,0,0,0,0,0,0,0,0,0,0,0,0,0,0,0,0,0,0,0,0,0,0,0,0,0,0,0,0,0,0,0,0,0,0,0,0,0,0,0,0,0,0,0,0,0,0,0,0,0,0,0,0,0,0,0,0,0,0,0,0,{"$f":"SEZ81","v":0},0,0,0,0,0,0,0,0,0,0,0,0,0,0,0,0,0,0,0,0,0,0,0,0,0,0,0,0,0,0,0,0,0,0,0,0,0,0,0,0,0,0,0,0,0,0,0,0,0,0,0,0,0,0,0,0,0,0,0,0,0,0,0,{"$f":"SHL81","v":0},0,0,0,0,0,0,0,0,0,0,0,0,0,0,0,0,0,0,0,0,0,0,0,0,0,0,0,0,0,0,0,0,0,0,0,0,0,0,0,0,0,0,0,0,0,0,0,0,0,0,0,0,0,0,0,0,0,0,0,0,0,0,0,{"$f":"SJX81","v":0},0,0,0,0,0,0,0,0,0,0,0,0,0,0,0,0,0,0,0,0,0,0,0,0,0,0,0,0,0,0,0,0,0,0,0,0,0,0,0,0,0,0,0,0,0,0,0,0,0,0,0,0,0,0,0,0,0,0,0,0,0,0,0,{"$f":"SMJ81","v":0},0,0,0,0,0,0,0,0,0,0,0,0,0,0,0,0,0,0,0,0,0,0,0,0,0,0,0,0,0,0,0,0,0,0,0,0,0,0,0,0,0,0,0,0,0,0,0,0,0,0,0,0,0,0,0,0,0,0,0,0,0,0,0,{"$f":"SOV81","v":0},0,0,0,0,0,0,0,0,0,0,0,0,0,0,0,0,0,0,0,0,0,0,0,0,0,0,0,0,0,0,0,0,0,0,0,0,0,0,0,0,0,0,0,0,0,0,0,0,0,0,0,0,0,0,0,0,0,0,0,0,0,0,0,{"$f":"SRH81","v":0},0,0,0,0,0,0,0,0,0,0,0,0,0,0,0,0,0,0,0,0,0,0,0,0,0,0,0,0,0,0,0,0,0,0,0,0,0,0,0,0,0,0,0,0,0,0,0,0,0,0,0,0,0,0,0,0,0,0,0,0,0,0,0,{"$f":"STT81","v":0},0,0,0,0,0,0,0,0,0,0,0,0,0,0,0,0,0,0,0,0,0,0,0,0,0,0,0,0,0,0,0,0,0,0,0,0,0,0,0,0,0,0,0,0,0,0,0,0,0,0,0,0,0,0,0,0,0,0,0,0,0,0,0,{"$f":"SWF81","v":0},0,0,0,0,0,0,0,0,0,0,0,0,0,0,0,0,0,0,0,0,0,0,0,0,0,0,0,0,0,0,0,0,0,0,0,0,0,0,0,0,0,0,0,0,0,0,0,0,0,0,0,0,0,0,0,0,0,0,0,0,0,0,0,{"$f":"SYR81","v":0},0,0,0,0,0,0,0,0,0,0,0,0,0,0,0,0,0,0,0,0,0,0,0,0,0,0,0,0,0,0,0,0,0,0,0,0,0,0,0,0,0,0,0,0,0,0,0,0,0,0,0,0,0,0,0,0,0,0,0,0,0,0,0,{"$f":"TBD81","v":0},0,0,0,0,0,0,0,0,0,0,0,0,0,0,0,0,0,0,0,0,0,0,0,0,0,0,0,0,0,0,0,0,0,0,0,0,0,0,0,0,0,0,0,0,0,0,0,0,0,0,0,0,0,0,0,0,0,0,0,0,0,0,0,{"$f":"TDP81","v":0},0,0,0,0,0,0,0,0,0,0,0,0,0,0,0,0,0,0,0,0,0,0,0,0,0,0,0,0,0,0,0,0,0,0,0,0,0,0,0,0,0,0,0,0,0,0,0,0,0,0,0,0,0,0,0,0,0,0,0,0,0,0,0,{"$f":"TGB81","v":0},0,0,0,0,0,0,0,0,0,0,0,0,0,0,0,0,0,0,0,0,0,0,0,0,0,0,0,0,0,0,0,0,0,0,0,0,0,0,0,0,0,0,0,0,0,0,0,0,0,0,0,0,0,0,0,0,0,0,0,0,0,0,0,{"$f":"TIN81","v":0},0,0,0,0,0,0,0,0,0,0,0,0,0,0,0,0,0,0,0,0,0,0,0,0,0,0,0,0,0,0,0,0,0,0,0,0,0,0,0,0,0,0,0,0,0,0,0,0,0,0,0,0,0,0,0,0,0,0,0,0,0,0,0,{"$f":"TKZ81","v":0},0,0,0,0,0,0,0,0,0,0,0,0,0,0,0,0,0,0,0,0,0,0,0,0,0,0,0,0,0,0,0,0,0,0,0,0,0,0,0,0,0,0,0,0,0,0,0,0,0,0,0,0,0,0,0,0,0,0,0,0,0,0,0,{"$f":"TNL81","v":0},0,0,0,0,0,0,0,0,0,0,0,0,0,0,0,0,0,0,0,0,0,0,0,0,0,0,0,0,0,0,0,0,0,0,0,0,0,0,0,0,0,0,0,0,0,0,0,0,0,0,0,0,0,0,0,0,0,0,0,0,0,0,0,{"$f":"TPX81","v":0},0,0,0,0,0,0,0,0,0,0,0,0,0,0,0,0,0,0,0,0,0,0,0,0,0,0,0,0,0,0,0,0,0,0,0,0,0,0,0,0,0,0,0,0,0,0,0,0,0,0,0,0,0,0,0,0,0,0,0,0,0,0,0,{"$f":"TSJ81","v":0},0,0,0,0,0,0,0,0,0,0,0,0,0,0,0,0,0,0,0,0,0,0,0,0,0,0,0,0,0,0,0,0,0,0,0,0,0,0,0,0,0,0,0,0,0,0,0,0,0,0,0,0,0,0,0,0,0,0,0,0,0,0,0,{"$f":"TUV81","v":0},0,0,0,0,0,0,0,0,0,0,0,0,0,0,0,0,0,0,0,0,0,0,0,0,0,0,0,0,0,0,0,0,0,0,0,0,0,0,0,0,0,0,0,0,0,0,0,0,0,0,0,0,0,0,0,0,0,0,0,0,0,0,0,{"$f":"TXH81","v":0},0,0,0,0,0,0,0,0,0,0,0,0,0,0,0,0,0,0,0,0,0,0,0,0,0,0,0,0,0,0,0,0,0,0,0,0,0,0,0,0,0,0,0,0,0,0,0,0,0,0,0,0,0,0,0,0,0,0,0,0,0,0,0,{"$f":"TZT81","v":0},0,0,0,0,0,0,0,0,0,0,0,0,0,0,0,0,0,0,0,0,0,0,0,0,0,0,0,0,0,0,0,0,0,0,0,0,0,0,0,0,0,0,0,0,0,0,0,0,0,0,0,0,0,0,0,0,0,0,0,0,0,0,0,{"$f":"UCF81","v":0},0,0,0,0,0,0,0,0,0,0,0,0,0,0,0,0,0,0,0,0,0,0,0,0,0,0,0,0,0,0,0,0,0,0,0,0,0,0,0,0,0,0,0,0,0,0,0,0,0,0,0,0,0,0,0,0,0,0,0,0,0,0,0,{"$f":"UER81","v":0},0,0,0,0,0,0,0,0,0,0,0,0,0,0,0,0,0,0,0,0,0,0,0,0,0,0,0,0,0,0,0,0,0,0,0,0,0,0,0,0,0,0,0,0,0,0,0,0,0,0,0,0,0,0,0,0,0,0,0,0,0,0,0,{"$f":"UHD81","v":0},0,0,0,0,0,0,0,0,0,0,0,0,0,0,0,0,0,0,0,0,0,0,0,0,0,0,0,0,0,0,0,0,0,0,0,0,0,0,0,0,0,0,0,0,0,0,0,0,0,0,0,0,0,0,0,0,0,0,0,0,0,0,0,{"$f":"UJP81","v":0},0,0,0,0,0,0,0,0,0,0,0,0,0,0,0,0,0,0,0,0,0,0,0,0,0,0,0,0,0,0,0,0,0,0,0,0,0,0,0,0,0,0,0,0,0,0,0,0,0,0,0,0,0,0,0,0,0,0,0,0,0,0,0,{"$f":"UMB81","v":0},0,0,0,0,0,0,0,0,0,0,0,0,0,0,0,0,0,0,0,0,0,0,0,0,0,0,0,0,0,0,0,0,0,0,0,0,0,0,0,0,0,0,0,0,0,0,0,0,0,0,0,0,0,0,0,0,0,0,0,0,0,0,0,{"$f":"UON81","v":0},0,0,0,0,0,0,0,0,0,0,0,0,0,0,0,0,0,0,0,0,0,0,0,0,0,0,0,0,0,0,0,0,0,0,0,0,0,0,0,0,0,0,0,0,0,0,0,0,0,0,0,0,0,0,0,0,0,0,0,0,0,0,0,{"$f":"UQZ81","v":0},0,0,0,0,0,0,0,0,0,0,0,0,0,0,0,0,0,0,0,0,0,0,0,0,0,0,0,0,0,0,0,0,0,0,0,0,0,0,0,0,0,0,0,0,0,0,0,0,0,0,0,0,0,0,0,0,0,0,0,0,0,0,0,{"$f":"UTL81","v":0},0,0,0,0,0,0,0,0,0,0,0,0,0,0,0,0,0,0,0,0,0,0,0,0,0,0,0,0,0,0,0,0,0,0,0,0,0,0,0,0,0,0,0,0,0,0,0,0,0,0,0,0,0,0,0,0,0,0,0,0,0,0,0,{"$f":"UVX81","v":0},0,0,0,0,0,0,0,0,0,0,0,0,0,0,0,0,0,0,0,0,0,0,0,0,0,0,0,0,0,0,0,0,0,0,0,0,0,0,0,0,0,0,0,0,0,0,0,0,0,0,0,0,0,0,0,0,0,0,0,0,0,0,0,{"$f":"UYJ81","v":0},0,0,0,0,0,0,0,0,0,0,0,0,0,0,0,0,0,0,0,0,0,0,0,0,0,0,0,0,0,0,0,0,0,0,0,0,0,0,0,0,0,0,0,0,0,0,0,0,0,0,0,0,0,0,0,0,0,0,0,0,0,0,0,{"$f":"VAV81","v":0},0,0,0,0,0,0,0,0,0,0,0,0,0,0,0,0,0,0,0,0,0,0,0,0,0,0,0,0,0,0,0,0,0,0,0,0,0,0,0,0,0,0,0,0,0,0,0,0,0,0,0,0,0,0,0,0,0,0,0,0,0,0,0,{"$f":"VDH81","v":0},0,0,0,0,0,0,0,0,0,0,0,0,0,0,0,0,0,0,0,0,0,0,0,0,0,0,0,0,0,0,0,0,0,0,0,0,0,0,0,0,0,0,0,0,0,0,0,0,0,0,0,0,0,0,0,0,0,0,0,0,0,0,0,{"$f":"VFT81","v":0},0,0,0,0,0,0,0,0,0,0,0,0,0,0,0,0,0,0,0,0,0,0,0,0,0,0,0,0,0,0,0,0,0,0,0,0,0,0,0,0,0,0,0,0,0,0,0,0,0,0,0,0,0,0,0,0,0,0,0,0,0,0,0,{"$f":"VIF81","v":0},0,0,0,0,0,0,0,0,0,0,0,0,0,0,0,0,0,0,0,0,0,0,0,0,0,0,0,0,0,0,0,0,0,0,0,0,0,0,0,0,0,0,0,0,0,0,0,0,0,0,0,0,0,0,0,0,0,0,0,0,0,0,0,{"$f":"VKR81","v":0},0,0,0,0,0,0,0,0,0,0,0,0,0,0,0,0,0,0,0,0,0,0,0,0,0,0,0,0,0,0,0,0,0,0,0,0,0,0,0,0,0,0,0,0,0,0,0,0,0,0,0,0,0,0,0,0,0,0,0,0,0,0,0,{"$f":"VND81","v":0},0,0,0,0,0,0,0,0,0,0,0,0,0,0,0,0,0,0,0,0,0,0,0,0,0,0,0,0,0,0,0,0,0,0,0,0,0,0,0,0,0,0,0,0,0,0,0,0,0,0,0,0,0,0,0,0,0,0,0,0,0,0,0,{"$f":"VPP81","v":0},0,0,0,0,0,0,0,0,0,0,0,0,0,0,0,0,0,0,0,0,0,0,0,0,0,0,0,0,0,0,0,0,0,0,0,0,0,0,0,0,0,0,0,0,0,0,0,0,0,0,0,0,0,0,0,0,0,0,0,0,0,0,0,{"$f":"VSB81","v":0},0,0,0,0,0,0,0,0,0,0,0,0,0,0,0,0,0,0,0,0,0,0,0,0,0,0,0,0,0,0,0,0,0,0,0,0,0,0,0,0,0,0,0,0,0,0,0,0,0,0,0,0,0,0,0,0,0,0,0,0,0,0,0,{"$f":"VUN81","v":0},0,0,0,0,0,0,0,0,0,0,0,0,0,0,0,0,0,0,0,0,0,0,0,0,0,0,0,0,0,0,0,0,0,0,0,0,0,0,0,0,0,0,0,0,0,0,0,0,0,0,0,0,0,0,0,0,0,0,0,0,0,0,0,{"$f":"VWZ81","v":0},0,0,0,0,0,0,0,0,0,0,0,0,0,0,0,0,0,0,0,0,0,0,0,0,0,0,0,0,0,0,0,0,0,0,0,0,0,0,0,0,0,0,0,0,0,0,0,0,0,0,0,0,0,0,0,0,0,0,0,0,0,0,0,{"$f":"VZL81","v":0},0,0,0,0,0,0,0,0,0,0,0,0,0,0,0,0,0,0,0,0,0,0,0,0,0,0,0,0,0,0,0,0,0,0,0,0,0,0,0,0,0,0,0,0,0,0,0,0,0,0,0,0,0,0,0,0,0,0,0,0,0,0,0,{"$f":"WBX81","v":0},0,0,0,0,0,0,0,0,0,0,0,0,0,0,0,0,0,0,0,0,0,0,0,0,0,0,0,0,0,0,0,0,0,0,0,0,0,0,0,0,0,0,0,0,0,0,0,0,0,0,0,0,0,0,0,0,0,0,0,0,0,0,0,{"$f":"WEJ81","v":0},0,0,0,0,0,0,0,0,0,0,0,0,0,0,0,0,0,0,0,0,0,0,0,0,0,0,0,0,0,0,0,0,0,0,0,0,0,0,0,0,0,0,0,0,0,0,0,0,0,0,0,0,0,0,0,0,0,0,0,0,0,0,0,{"$f":"WGV81","v":0},0,0,0,0,0,0,0,0,0,0,0,0,0,0,0,0,0,0,0,0,0,0,0,0,0,0,0,0,0,0,0,0,0,0,0,0,0,0,0,0,0,0,0,0,0,0,0,0,0,0,0,0,0,0,0,0,0,0,0,0,0,0,0,{"$f":"WJH81","v":0},0,0,0,0,0,0,0,0,0,0,0,0,0,0,0,0,0,0,0,0,0,0,0,0,0,0,0,0,0,0,0,0,0,0,0,0,0,0,0,0,0,0,0,0,0,0,0,0,0,0,0,0,0,0,0,0,0,0,0,0,0,0,0,{"$f":"WLT81","v":0},0,0,0,0,0,0,0,0,0,0,0,0,0,0,0,0,0,0,0,0,0,0,0,0,0,0,0,0,0,0,0,0,0,0,0,0,0,0,0,0,0,0,0,0,0,0,0,0,0,0,0,0,0,0,0,0,0,0,0,0,0,0,0,{"$f":"WOF81","v":0},0,0,0,0,0,0,0,0,0,0,0,0,0,0,0,0,0,0,0,0,0,0,0,0,0,0,0,0,0,0,0,0,0,0,0,0,0,0,0,0,0,0,0,0,0,0,0,0,0,0,0,0,0,0,0,0,0,0,0,0,0,0,0,{"$f":"WQR81","v":0},0,0,0,0,0,0,0,0,0,0,0,0,0,0,0,0,0,0,0,0,0,0,0,0,0,0,0,0,0,0,0,0,0,0,0,0,0,0,0,0,0,0,0,0,0,0,0,0,0,0,0,0,0,0,0,0,0,0,0,0,0,0,0,{"$f":"WTD81","v":0},0,0,0,0,0,0,0,0,0,0,0,0,0,0,0,0,0,0,0,0,0,0,0,0,0,0,0,0,0,0,0,0,0,0,0,0,0,0,0,0,0,0,0,0,0,0,0,0,0,0,0,0,0,0,0,0,0,0,0,0,0,0,0,{"$f":"WVP81","v":0},0,0,0,0,0,0,0,0,0,0,0,0,0,0,0,0,0,0,0,0,0,0,0,0,0,0,0,0,0,0,0,0,0,0,0,0,0,0,0,0,0,0,0,0,0,0,0,0,0,0,0,0,0,0,0,0,0,0,0,0,0,0,0,{"$f":"WYB81","v":0},0,0,0,0,0,0,0,0,0,0,0,0,0,0,0,0,0,0,0,0,0,0,0,0,0,0,0,0,0,0,0,0,0,0,0,0,0,0,0,0,0,0,0,0,0,0,0,0,0,0,0,0,0,0,0,0,0,0,0,0,0,0,0,{"$f":"XAN81","v":0},0,0,0,0,0,0,0,0,0,0,0,0,0,0,0,0,0,0,0,0,0,0,0,0,0,0,0,0,0,0,0,0,0,0,0,0,0,0,0,0,0,0,0,0,0,0,0,0,0,0,0,0,0,0,0,0,0,0,0,0,0,0,0,{"$f":"XCZ81","v":0},0,0,0,0,0,0,0,0,0,0,0,0,0,0,0,0,0,0,0,0,0,0,0,0,0,0,0,0,0,0,0,0,0,0,0,0,0,0,0,0,0,0,0,0,0,0,0,0,0,0,0,0,0]
[null,null,null,null,null,null,null,null,null,{"$f":"G111","v":0},{"$f":"H111","v":0},"EPA"]
[null,"Prestations de service externes"]
[null,"Taux d'environnement",null,null,null,null,{"$f":"(G46-G45)*E110","v":0},null,{"$f":"G110","v":0},null,null,{"$f":"(IF($D$11=listesDeroulantes!$A$6,0.7,0)+IF($D$11=listesDeroulantes!$A$7,0.6,0)+IF($D$11=listesDeroulantes!$A$8,0.5,0))","v":0}]
[null,"Les informations personnelles transmises dans ces documents sont obligatoires et seront conservées en fichiers par l'ANR pour assurer la conduite opérationnelle de l'évaluation et l'administration des dossiers.\nConformément à la loi n° 78-17 du 6 janvier 1978 modifiée, relative à l'Informatique, aux Fichiers et aux Libertés, les personnes concernées disposent d'un droit d'accès et de rectification des données personnelles les concernant. Les personnes concernées peuvent exercer ce droit en s'adressant à l'ANR (voir coordonnées dans le texte de l’appel à projets)."]

{"sheet":"part2","index":6,"n_rows":135,"n_cols":12,"rows_kept":135,"cut":false,"hidden":false,"merged":[[123,1,123,3],[125,1,125,8],[127,1,133,8],[134,1,136,8],[117,3,117,6],[118,3,118,6],[119,3,119,6],[120,3,120,6],[121,3,121,6],[122,3,122,6],[110,1,110,5],[112,1,112,8],[114,1,114,2],[114,3,114,6],[115,3,115,6],[116,3,116,6],[104,1,104,8],[105,1,105,8],[106,2,106,5],[107,1,107,5],[108,1,108,3],[109,1,109,3],[97,1,97,5],[98,1,98,5],[99,1,99,5],[100,1,100,5],[101,1,101,5],[102,1,102,3],[91,1,91,3],[92,1,92,8],[93,1,93,5],[94,1,94,5],[95,1,95,5],[96,1,96,5],[85,1,85,5],[86,1,86,5],[87,1,87,5],[88,1,88,5],[89,1,89,5],[90,1,90,5],[79,1,79,3],[80,1,80,3],[81,1,81,8],[82,1,82,5],[83,1,83,5],[84,1,84,5],[73,1,73,3],[74,1,74,3],[75,1,75,3],[76,1,76,3],[77,1,77,3],[78,1,78,3],[67,1,67,3],[68,1,68,3],[69,1,69,3],[70,1,70,3],[71,1,71,3],[72,1,72,3],[61,1,61,3],[62,1,62,3],[63,1,63,3],[64,1,64,3],[65,1,65,3],[66,1,66,3],[55,1,55,3],[56,1,56,3],[57,1,57,3],[58,1,58,3],[59,1,59,3],[60,1,60,3],[49,1,49,3],[50,1,50,3],[51,1,51,3],[52,1,52,3],[53,1,53,3],[54,1,54,3],[42,1,42,2],[43,1,43,2],[45,1,45,3],[46,1,46,8],[47,1,47,3],[48,1,48,3],[36,1,36,2],[37,1,37,2],[38,1,38,2],[39,1,39,2],[40,1,40,2],[41,1,41,2],[30,1,30,3],[31,1,31,3],[32,1,32,3],[33,1,33,3],[34,1,34,8],[35,1,35,2],[26,1,26,3],[27,1,27,3],[28,1,28,3],[29,1,29,3],[17,3,17,8],[18,3,18,8],[19,3,19,8],[20,3,20,4],[22,1,22,8],[23,1,23,8],[11,3,11,5],[13,1,13,8],[16,3,16,8],[0,0,2,4],[0,5,0,8],[1,5,1,6],[1,7,1,8],[24,1,24,3],[25,1,25,3],[2,5,2,6],[2,7,2,8],[4,1,4,8],[6,2,7,2],[6,3,7,8],[8,3,8,5],[9,3,9,5],[10,3,10,5]]}
["Identification de l'établissement partenaire",null,null,null,null,"Réservé à l'organisme gestionnaire du programme",null,null,null,{"$f":"G34","v":0},{"$f":"H34","v":0}]
[null,null,null,null,null,"N° de dossier",null,{"$f":"voletGeneral!$M$2&\"-\"&TEXT(NUM_PARTENAIRE(C2),\"0000\")","v":"ANR-17-EUR-XXXX-0002"},null,{"$f":"G46","v":0},{"$f":"H46","v":0},"Public"]
[null,null,null,null,null,"Acronyme",null,{"$f":"IF(voletGeneral!H10<>\"\",voletGeneral!H10,\"\")","v":""},null,{"$f":"G81","v":0},{"$f":"H81","v":0},"Privé"]
[null,null,20408,{"$f":"C4&\"-0\"","v":"20408-0"},null,null,null,null,null,{"$f":"G92","v":0},{"$f":"H92","v":0}]
[null,"Nom complet du partenaire",null,null,null,null,null,null,null,{"$f":"G103","v":0},{"$f":"H103","v":0}]
[null,null,null,null,null,null,null,null,null,{"$f":"G109","v":0},{"$f":"H109","v":0},"EPSCP"]
[null,null,"Nom complet du partenaire",null,null,null,null,null,null,{"$f":"G110","v":0},0,"EPST"]
[null,null,null,null,null,null,null,null,null,{"$f":"G111","v":0},{"$f":"H111","v":0},"EPA"]
[null,null,"Sigle du partenaire ",null,null,null,null,null,null,{"$f":"H124","v":0},{"$f":"I124","v":0},"EPIC"]
[null,null,"Secteur d'activité du partenaire",null,null,null,null,"co-porteur de l'EUR :",null,null,null,"Autre établissement public"]
[null,null,"Type de partenaire",null,null,null,null,null,null,null,null,"Groupement d'établissements"]
[null,null,"Numéro SIRET",null,null,null,null,null,null,null,null,"Fondation"]
[null,null,null,null,null,null,null,null,null,null,null,"Association"]
[null,"Personne habilitée à engager juridiquement l'établissement partenaire",null,null,null,null,null,null,null,null,null,"Petite entreprise "]
[null,null,null,null,null,null,null,null,null,null,null,"Moyenne entreprise"]
[null,null,"Genre",null,null,null,null,null,null,null,null,"Grande entreprise"]
[null,null,"Nom",null,null,null,null,null,null,null,null,"Statutaire"]
[null,null,"Prénom",null,null,null,null,null,null,null,null,"Non statutaire avec financement"]
[null,null,"Qualité",null,null,null,null,null,null,null,null,"Non statutaire sans financement"]
[null,null,"Courriel"]
[null,null,"Téléphone"]
[]
[null,"Demande financière ANR détaillée du projet"]
[null,"Equipement (coût unitaire HT > 4000 € - si le partenaire récupére la TVA, indiquer le coût hors TVA)"]
[null,"Description",null,null,"Coût unitaire","Quantité","Coût total","Partie aidée","Apport"]
[null,null,null,null,null,null,{"$f":"IF(AND(ISNUMBER(E26),ISNUMBER(F26)),E26*F26,\" \")","v":" "},null,{"$f":"IF(OR(ISNUMBER(G26),ISNUMBER(H26)),ROUND(IF(ISNUMBER(G26),G26,0)-IF(ISNUMBER(H26),H26,0),2),\" \")","v":" "}]
[null,null,null,null,null,null," ",null," "]
[null,null,null,null,null,null," ",null," "]
[null,null,null,null,null,null," ",null," "]
[null,null,null,null,null,null," ",null," "]
[null,null,null,null,null,null," ",null," "]
[null,null,null,null,null,null," ",null," "]
[null,null,null,null,null,null," ",null," "]
[null,"Total équipement",null,null,null,null,{"$f":"SUM(G26:G33)","v":0},{"$f":"SUM(H26:H33)","v":0},0]
[null,"Personnel"]
[null,"Description",null,"Statut","Coût unitaire","Nb. h.mois","Coût total","Aide","Apport"]
[null,null,null,null,null,null,{"$f":"IF(AND(ISNUMBER(E37),ISNUMBER(F37)),E37*F37,\" \")","v":" "},null,{"$f":"IF(OR(ISNUMBER(G37),ISNUMBER(H37)),ROUND(IF(ISNUMBER(G37),G37,0)-IF(ISNUMBER(H37),H37,0),2),\" \")","v":" "}]
[null,null,null,null,null,null," ",null," "]
[null,null,null,null,null,null," ",null," "]
[null,null,null,null,null,null," ",null," "]
[null,null,null,null,null,null," ",null,{"$f":"IF(OR(ISNUMBER(G41),ISNUMBER(H41)),ROUND(IF(ISNUMBER(G41),G41,0)-IF(ISNUMBER(H41),H41,0),2),\" \")","v":" "}]
[null,null,null,null,null,null," ",null," "]
[null,null,null,null,null,null," ",null," "]
[null,null,null,null,null,null," ",null," "]
[null,"Primes et heures complémentaires pour le personnel statutaire",null,null,null,null,null,{"$f":"IF(G45<>\" \",G45,\" \")","v":0}]
[null,"Total personnel",null,null,null,{"$f":"SUM(F37:F44)","v":0},{"$f":"SUM(G37:G45)","v":0},{"$f":"SUM(H37:H45)","v":0},{"$f":"SUM(I37:I44)","v":0}]
[null,"Fonctionnement (si le partenaire récupère la TVA, indiquer le coût hors TVA)"]
[null,"Description",null,null,"Coût unitaire","Quantité","Coût total","Partie aidée","Apport"]
[null,"Prestations de service externes"]
[null,null,null,null,null,null,null,null,{"$f":"IF(OR(ISNUMBER(G50),ISNUMBER(H50)),ROUND(IF(ISNUMBER(G50),G50,0)-IF(ISNUMBER(H50),H50,0),2),\" \")","v":" "}]
[null,null,null,null,null,null,null,null," "]
[null,null,null,null,null,null,null,null," "]
[null,null,null,null,null,null,null,null," "]
[null,null,null,null,null,null,null,null," "]
[null,null,null,null,null,null,null,null," "]
[null,null,null,null,null,null,null,null," "]
[null,null,null,null,null,null,null,null," "]
[null,"Sous-total prestations de service externes",null,null,null,null,{"$f":"SUM(G50:G57)","v":0},{"$f":"SUM(H50:H57)","v":0},{"$f":"SUM(I50:I57)","v":0}]
[null,"Missions",null,null,"Coût unitaire","Quantité","Coût total","Partie aidée","Apport"]
[null,null,null,null,null,null,null,null,{"$f":"IF(OR(ISNUMBER(G60),ISNUMBER(H60)),ROUND(IF(ISNUMBER(G60),G60,0)-IF(ISNUMBER(H60),H60,0),2),\" \")","v":" "}]
[null,null,null,null,null,null,null,null," "]
[null,null,null,null,null,null,null,null," "]
[null,null,null,null,null,null,null,null," "]
[null,null,null,null,null,null,null,null," "]
[null,null,null,null,null,null,null,null," "]
[null,null,null,null,null,null,null,null," "]
[null,null,null,null,null,null,null,null," "]
[null,"Sous-total missions",null,null,null,null,{"$f":"SUM(G60:G67)","v":0},0,0]
[null,"Autres dépenses externes",null,null,"Coût unitaire","Quantité","Coût total","Partie aidée","Apport"]
[null,null,null,null,null,null,{"$f":"IF(AND(ISNUMBER(E70),ISNUMBER(F70)),E70*F70,\" \")","v":" "},null,{"$f":"IF(OR(ISNUMBER(G70),ISNUMBER(H70)),ROUND(IF(ISNUMBER(G70),G70,0)-IF(ISNUMBER(H70),H70,0),2),\" \")","v":" "}]
[null,null,null,null,null,null," ",null," "]
[null,null,null,null,null,null," ",null," "]
[null,null,null,null,null,null," ",null," "]
[null,null,null,null,null,null," ",null," "]
[null,null,null,null,null,null," ",null," "]
[null,null,null,null,null,null," ",null," "]
[null,null,null,null,null,null," ",null," "]
[null,null,null,null,null,null," ",null," "]
[null,"Sous-total autres dépenses externes",null,null,null,null,{"$f":"SUM(G70:G78)","v":0},0,0]
[null,null,null,null,null,null,"Coût total","Partie aidée","Apport"]
[null,"Total fonctionnement",null,null,null,null,{"$f":"G79+G68+G58","v":0},{"$f":"H79+H68+H58","v":0},{"$f":"I79+I68+I58","v":0}]
[null,"Facturation interne"]
[null,"Description",null,null,null,null,"Coût total","Partie aidée","Apport"]
[null," ",null,null,null,null," ",null,{"$f":"IF(OR(ISNUMBER(G84),ISNUMBER(H84)),ROUND(IF(ISNUMBER(G84),G84,0)-IF(ISNUMBER(H84),H84,0),2),\" \")","v":" "}]
[null," ",null,null,null,null,null,null," "]
[null," ",null,null,null,null,null,null," "]
[null," ",null,null,null,null,null,null," "]
[null," ",null,null,null,null," "," "," "]
[null," ",null,null,null,null," "," "," "]
[null," ",null,null,null,null," "," "," "]
[null," ",null,null,null,null," "," "," "]
[null,"Total facturation interne",null,null,null,null,{"$f":"SUM(G84:G91)","v":0},{"$f":"SUM(H84:H91)","v":0},0]
[null,"Frais de structure"]
[null,"Description",null,null,null,null,"Coût total","Partie aidée","Apport"]
[null," ",null,null,null,null," ",null,{"$f":"IF(OR(ISNUMBER(G95),ISNUMBER(H95)),ROUND(IF(ISNUMBER(G95),G95,0)-IF(ISNUMBER(H95),H95,0),2),\" \")","v":" "}]
[null," ",null,null,null,null,null,null," "]
[null," ",null,null,null,null,null,null," "]
[null," ",null,null,null,null," "," "," "]
[null," ",null,null,null,null," "," "," "]
[null," ",null,null,null,null," "," "," "]
[null," ",null,null,null,null," "," "," "]
[null," ",null,null,null,null," "," "," "]
[null,"Total frais de structure",null,null,null,null,{"$f":"SUM(G95:G102)","v":0},{"$f":"SUM(H95:H102)","v":0},0]
[]
[null,"Synthèse de la demande financière"]
[]
[null,null,null,null,null,null,"Coût complet","Aide demandée","Apport"]
[null,"Total hors frais de gestion",null,null,null,null,{"$f":"G34+G46+G81+G92+G103","v":0},{"$f":"IF(D10=\"Privé\",0,H34+H46+H81+H92+H103)","v":0},{"$f":"I34+I46+I81+I92+I103","v":0}]
[null,"Frais de gestion (max : 8%) (hors frais de structure)",null,null,null,null,{"$f":"H109","v":0},{"$f":"IF(D10=\"Privé\",0,((H108-H103)*E109))","v":0},0]
[null,"Taux d'environnement",null,null,null,null,{"$f":"(G46-G45)*E110","v":0},null,{"$f":"G110","v":0},null,null,{"$f":"(IF($D$11=listesDeroulantes!$A$6,0.7,0)+IF($D$11=listesDeroulantes!$A$7,0.6,0)+IF($D$11=listesDeroulantes!$A$8,0.5,0))","v":0}]
[null,"Total",null,null,null,null,{"$f":"G108+G109+G110","v":0},{"$f":"H108+H109","v":0},{"$f":"I108+I109+I110","v":0}]
[]
[null,"Autres soutiens financiers sollicités ou obtenus pour le projet"]
[]
[null,{"$f":"\"                                   Nom des financeurs\"","v":"                                   Nom des financeurs"},null,"Nature et objet du financement",null,null,null,"Sollicité","Obtenu"]
[null,{"$f":"COUNTA(B$115:B115)","v":1}," "," "]
[null,{"$f":"COUNTA(B$115:B116)","v":2}," "," "]
[null,{"$f":"COUNTA(B$115:B117)","v":3}," "," "]
[null,{"$f":"COUNTA(B$115:B118)","v":4}," "," ",null,null,null," "," "]
[null,{"$f":"COUNTA(B$115:B119)","v":5}," "," ",null,null,null," "," "]
[null,{"$f":"COUNTA(B$115:B120)","v":6}," "," ",null,null,null," "," "]
[null,{"$f":"COUNTA(B$115:B121)","v":7}," "," ",null,null,null," "," "]
[null,{"$f":"COUNTA(B$115:B122)","v":8}," "," ",null,null,null," "," "]
[null,"Total des autres financements",null,null,null,null,null,{"$f":"SUM(H116:H123)","v":0},0]
[]
[null,"Commentaires (le cas échéant)"]
[]
[]
[]
[]
[]
[]
[]
[]
[null,"Les informations personnelles transmises dans ces documents sont obligatoires et seront conservées en fichiers par l'ANR pour assurer la conduite opérationnelle de l'évaluation et l'administration des dossiers.\nConformément à la loi n° 78-17 du 6 janvier 1978 modifiée, relative à l'Informatique, aux Fichiers et aux Libertés, les personnes concernées disposent d'un droit d'accès et de rectification des données personnelles les concernant. Les personnes concernées peuvent exercer ce droit en s'adressant à l'ANR (voir coordonnées dans le texte de l’appel à projets)."]

{"sheet":"part3","index":7,"n_rows":135,"n_cols":12,"rows_kept":135,"cut":false,"hidden":false,"merged":[[123,1,123,3],[125,1,125,8],[127,1,133,8],[134,1,136,8],[117,3,117,6],[118,3,118,6],[119,3,119,6],[120,3,120,6],[121,3,121,6],[122,3,122,6],[110,1,110,5],[112,1,112,8],[114,1,114,2],[114,3,114,6],[115,3,115,6],[116,3,116,6],[104,1,104,8],[105,1,105,8],[106,2,106,5],[107,1,107,5],[108,1,108,3],[109,1,109,3],[97,1,97,5],[98,1,98,5],[99,1,99,5],[100,1,100,5],[101,1,101,5],[102,1,102,3],[91,1,91,3],[92,1,92,8],[93,1,93,5],[94,1,94,5],[95,1,95,5],[96,1,96,5],[85,1,85,5],[86,1,86,5],[87,1,87,5],[88,1,88,5],[89,1,89,5],[90,1,90,5],[79,1,79,3],[80,1,80,3],[81,1,81,8],[82,1,82,5],[83,1,83,5],[84,1,84,5],[73,1,73,3],[74,1,74,3],[75,1,75,3],[76,1,76,3],[77,1,77,3],[78,1,78,3],[67,1,67,3],[68,1,68,3],[69,1,69,3],[70,1,70,3],[71,1,71,3],[72,1,72,3],[61,1,61,3],[62,1,62,3],[63,1,63,3],[64,1,64,3],[65,1,65,3],[66,1,66,3],[55,1,55,3],[56,1,56,3],[57,1,57,3],[58,1,58,3],[59,1,59,3],[60,1,60,3],[49,1,49,3],[50,1,50,3],[51,1,51,3],[52,1,52,3],[53,1,53,3],[54,1,54,3],[42,1,42,2],[43,1,43,2],[45,1,45,3],[46,1,46,8],[47,1,47,3],[48,1,48,3],[36,1,36,2],[37,1,37,2],[38,1,38,2],[39,1,39,2],[40,1,40,2],[41,1,41,2],[30,1,30,3],[31,1,31,3],[32,1,32,3],[33,1,33,3],[34,1,34,8],[35,1,35,2],[26,1,26,3],[27,1,27,3],[28,1,28,3],[29,1,29,3],[17,3,17,8],[18,3,18,8],[19,3,19,8],[20,3,20,4],[22,1,22,8],[23,1,23,8],[11,3,11,5],[13,1,13,8],[16,3,16,8],[0,0,2,4],[0,5,0,8],[1,5,1,6],[1,7,1,8],[24,1,24,3],[25,1,25,3],[2,5,2,6],[2,7,2,8],[4,1,4,8],[6,2,7,2],[6,3,7,8],[8,3,8,5],[9,3,9,5],[10,3,10,5]]}
["Identification de l'établissement partenaire",null,null,null,null,"Réservé à l'organisme gestionnaire du programme",null,null,null,{"$f":"G34","v":0},{"$f":"H34","v":0}]
[null,null,null,null,null,"N° de dossier",null,{"$f":"voletGeneral!$M$2&\"-\"&TEXT(NUM_PARTENAIRE(C2),\"0000\")","v":"ANR-17-EUR-XXXX-0003"},null,{"$f":"G46","v":0},{"$f":"H46","v":0},"Public"]
[null,null,null,null,null,"Acronyme",null,{"$f":"IF(voletGeneral!H10<>\"\",voletGeneral!H10,\"\")","v":""},null,{"$f":"G81","v":0},{"$f":"H81","v":0},"Privé"]
[null,null,20408,{"$f":"C4&\"-0\"","v":"20408-0"},null,null,null,null,null,{"$f":"G92","v":0},{"$f":"H92","v":0}]
[null,"Nom complet du partenaire",null,null,null,null,null,null,null,{"$f":"G103","v":0},{"$f":"H103","v":0}]
[null,null,null,null,null,null,null,null,null,{"$f":"G109","v":0},{"$f":"H109","v":0},"EPSCP"]
[null,null,"Nom complet du partenaire",null,null,null,null,null,null,{"$f":"G110","v":0},0,"EPST"]
[null,null,null,null,null,null,null,null,null,{"$f":"G111","v":0},{"$f":"H111","v":0},"EPA"]
[null,null,"Sigle du partenaire ",null,null,null,null,null,null,{"$f":"H124","v":0},{"$f":"I124","v":0},"EPIC"]
[null,null,"Secteur d'activité du partenaire",null,null,null,null,"co-porteur de l'EUR :",null,null,null,"Autre établissement public"]
[null,null,"Type de partenaire",null,null,null,null,null,null,null,null,"Groupement d'établissements"]
[null,null,"Numéro SIRET",null,null,null,null,null,null,null,null,"Fondation"]
[null,null,null,null,null,null,null,null,null,null,null,"Association"]
[null,"Personne habilitée à engager juridiquement l'établissement partenaire",null,null,null,null,null,null,null,null,null,"Petite entreprise "]
[null,null,null,null,null,null,null,null,null,null,null,"Moyenne entreprise"]
[null,null,"Genre",null,null,null,null,null,null,null,null,"Grande entreprise"]
[null,null,"Nom",null,null,null,null,null,null,null,null,"Statutaire"]
[null,null,"Prénom",null,null,null,null,null,null,null,null,"Non statutaire avec financement"]
[null,null,"Qualité",null,null,null,null,null,null,null,null,"Non statutaire sans financement"]
[null,null,"Courriel"]
[null,null,"Téléphone"]
[]
[null,"Demande financière ANR détaillée du projet"]
[null,"Equipement (coût unitaire HT > 4000 € - si le partenaire récupére la TVA, indiquer le coût hors TVA)"]
[null,"Description",null,null,"Coût unitaire","Quantité","Coût total","Partie aidée","Apport"]
[null,null,null,null,null,null,{"$f":"IF(AND(ISNUMBER(E26),ISNUMBER(F26)),E26*F26,\" \")","v":" "},null,{"$f":"IF(OR(ISNUMBER(G26),ISNUMBER(H26)),ROUND(IF(ISNUMBER(G26),G26,0)-IF(ISNUMBER(H26),H26,0),2),\" \")","v":" "}]
[null,null,null,null,null,null," ",null," "]
[null,null,null,null,null,null," ",null," "]
[null,null,null,null,null,null," ",null," "]
[null,null,null,null,null,null," ",null," "]
[null,null,null,null,null,null," ",null," "]
[null,null,null,null,null,null," ",null," "]
[null,null,null,null,null,null," ",null," "]
[null,"Total équipement",null,null,null,null,{"$f":"SUM(G26:G33)","v":0},{"$f":"SUM(H26:H33)","v":0},0]
[null,"Personnel"]
[null,"Description",null,"Statut","Coût unitaire","Nb. h.mois","Coût total","Aide","Apport"]
[null,null,null,null,null,null,{"$f":"IF(AND(ISNUMBER(E37),ISNUMBER(F37)),E37*F37,\" \")","v":" "},null,{"$f":"IF(OR(ISNUMBER(G37),ISNUMBER(H37)),ROUND(IF(ISNUMBER(G37),G37,0)-IF(ISNUMBER(H37),H37,0),2),\" \")","v":" "}]
[null,null,null,null,null,null," ",null," "]
[null,null,null,null,null,null," ",null," "]
[null,null,null,null,null,null," ",null," "]
[null,null,null,null,null,null," ",null,{"$f":"IF(OR(ISNUMBER(G41),ISNUMBER(H41)),ROUND(IF(ISNUMBER(G41),G41,0)-IF(ISNUMBER(H41),H41,0),2),\" \")","v":" "}]
[null,null,null,null,null,null," ",null," "]
[null,null,null,null,null,null," ",null," "]
[null,null,null,null,null,null," ",null," "]
[null,"Primes et heures complémentaires pour le personnel statutaire",null,null,null,null,null,{"$f":"IF(G45<>\" \",G45,\" \")","v":0}]
[null,"Total personnel",null,null,null,{"$f":"SUM(F37:F44)","v":0},{"$f":"SUM(G37:G45)","v":0},{"$f":"SUM(H37:H45)","v":0},{"$f":"SUM(I37:I44)","v":0}]
[null,"Fonctionnement (si le partenaire récupère la TVA, indiquer le coût hors TVA)"]
[null,"Description",null,null,"Coût unitaire","Quantité","Coût total","Partie aidée","Apport"]
[null,"Prestations de service externes"]
[null,null,null,null,null,null,null,null,{"$f":"IF(OR(ISNUMBER(G50),ISNUMBER(H50)),ROUND(IF(ISNUMBER(G50),G50,0)-IF(ISNUMBER(H50),H50,0),2),\" \")","v":" "}]
[null,null,null,null,null,null,null,null," "]
[null,null,null,null,null,null,null,null," "]
[null,null,null,null,null,null,null,null," "]
[null,null,null,null,null,null,null,null," "]
[null,null,null,null,null,null,null,null," "]
[null,null,null,null,null,null,null,null," "]
[null,null,null,null,null,null,null,null," "]
[null,"Sous-total prestations de service externes",null,null,null,null,{"$f":"SUM(G50:G57)","v":0},{"$f":"SUM(H50:H57)","v":0},{"$f":"SUM(I50:I57)","v":0}]
[null,"Missions",null,null,"Coût unitaire","Quantité","Coût total","Partie aidée","Apport"]
[null,null,null,null,null,null,null,null,{"$f":"IF(OR(ISNUMBER(G60),ISNUMBER(H60)),ROUND(IF(ISNUMBER(G60),G60,0)-IF(ISNUMBER(H60),H60,0),2),\" \")","v":" "}]
[null,null,null,null,null,null,null,null," "]
[null,null,null,null,null,null,null,null," "]
[null,null,null,null,null,null,null,null," "]
[null,null,null,null,null,null,null,null," "]
[null,null,null,null,null,null,null,null," "]
[null,null,null,null,null,null,null,null," "]
[null,null,null,null,null,null,null,null," "]
[null,"Sous-total missions",null,null,null,null,{"$f":"SUM(G60:G67)","v":0},0,0]
[null,"Autres dépenses externes",null,null,"Coût unitaire","Quantité","Coût total","Partie aidée","Apport"]
[null,null,null,null,null,null,{"$f":"IF(AND(ISNUMBER(E70),ISNUMBER(F70)),E70*F70,\" \")","v":" "},null,{"$f":"IF(OR(ISNUMBER(G70),ISNUMBER(H70)),ROUND(IF(ISNUMBER(G70),G70,0)-IF(ISNUMBER(H70),H70,0),2),\" \")","v":" "}]
[null,null,null,null,null,null," ",null," "]
[null,null,null,null,null,null," ",null," "]
[null,null,null,null,null,null," ",null," "]
[null,null,null,null,null,null," ",null," "]
[null,null,null,null,null,null," ",null," "]
[null,null,null,null,null,null," ",null," "]
[null,null,null,null,null,null," ",null," "]
[null,null,null,null,null,null," ",null," "]
[null,"Sous-total autres dépenses externes",null,null,null,null,{"$f":"SUM(G70:G78)","v":0},0,0]
[null,null,null,null,null,null,"Coût total","Partie aidée","Apport"]
[null,"Total fonctionnement",null,null,null,null,{"$f":"G79+G68+G58","v":0},{"$f":"H79+H68+H58","v":0},{"$f":"I79+I68+I58","v":0}]
[null,"Facturation interne"]
[null,"Description",null,null,null,null,"Coût total","Partie aidée","Apport"]
[null," ",null,null,null,null," ",null,{"$f":"IF(OR(ISNUMBER(G84),ISNUMBER(H84)),ROUND(IF(ISNUMBER(G84),G84,0)-IF(ISNUMBER(H84),H84,0),2),\" \")","v":" "}]
[null," ",null,null,null,null,null,null," "]
[null," ",null,null,null,null,null,null," "]
[null," ",null,null,null,null,null,null," "]
[null," ",null,null,null,null," "," "," "]
[null," ",null,null,null,null," "," "," "]
[null," ",null,null,null,null," "," "," "]
[null," ",null,null,null,null," "," "," "]
[null,"Total facturation interne",null,null,null,null,{"$f":"SUM(G84:G91)","v":0},{"$f":"SUM(H84:H91)","v":0},0]
[null,"Frais de structure"]
[null,"Description",null,null,null,null,"Coût total","Partie aidée","Apport"]
[null," ",null,null,null,null," ",null,{"$f":"IF(OR(ISNUMBER(G95),ISNUMBER(H95)),ROUND(IF(ISNUMBER(G95),G95,0)-IF(ISNUMBER(H95),H95,0),2),\" \")","v":" "}]
[null," ",null,null,null,null,null,null," "]
[null," ",null,null,null,null,null,null," "]
[null," ",null,null,null,null," "," "," "]
[null," ",null,null,null,null," "," "," "]
[null," ",null,null,null,null," "," "," "]
[null," ",null,null,null,null," "," "," "]
[null," ",null,null,null,null," "," "," "]
[null,"Total frais de structure",null,null,null,null,{"$f":"SUM(G95:G102)","v":0},{"$f":"SUM(H95:H102)","v":0},0]
[]
[null,"Synthèse de la demande financière"]
[]
[null,null,null,null,null,null,"Coût complet","Aide demandée","Apport"]
[null,"Total hors frais de gestion",null,null,null,null,{"$f":"G34+G46+G81+G92+G103","v":0},{"$f":"IF(D10=\"Privé\",0,H34+H46+H81+H92+H103)","v":0},{"$f":"I34+I46+I81+I92+I103","v":0}]
[null,"Frais de gestion (max : 8%) (hors frais de structure)",null,null,null,null,{"$f":"H109","v":0},{"$f":"IF(D10=\"Privé\",0,((H108-H103)*E109))","v":0},0]
[null,"Taux d'environnement",null,null,null,null,{"$f":"(G46-G45)*E110","v":0},null,{"$f":"G110","v":0},null,null,{"$f":"(IF($D$11=listesDeroulantes!$A$6,0.7,0)+IF($D$11=listesDeroulantes!$A$7,0.6,0)+IF($D$11=listesDeroulantes!$A$8,0.5,0))","v":0}]
[null,"Total",null,null,null,null,{"$f":"G108+G109+G110","v":0},{"$f":"H108+H109","v":0},{"$f":"I108+I109+I110","v":0}]
[]
[null,"Autres soutiens financiers sollicités ou obtenus pour le projet"]
[]
[null,{"$f":"\"                                   Nom des financeurs\"","v":"                                   Nom des financeurs"},null,"Nature et objet du financement",null,null,null,"Sollicité","Obtenu"]
[null,{"$f":"COUNTA(B$115:B115)","v":1}," "," "]
[null,{"$f":"COUNTA(B$115:B116)","v":2}," "," "]
[null,{"$f":"COUNTA(B$115:B117)","v":3}," "," "]
[null,{"$f":"COUNTA(B$115:B118)","v":4}," "," ",null,null,null," "," "]
[null,{"$f":"COUNTA(B$115:B119)","v":5}," "," ",null,null,null," "," "]
[null,{"$f":"COUNTA(B$115:B120)","v":6}," "," ",null,null,null," "," "]
[null,{"$f":"COUNTA(B$115:B121)","v":7}," "," ",null,null,null," "," "]
[null,{"$f":"COUNTA(B$115:B122)","v":8}," "," ",null,null,null," "," "]
[null,"Total des autres financements",null,null,null,null,null,{"$f":"SUM(H116:H123)","v":0},0]
[]
[null,"Commentaires (le cas échéant)"]
[]
[]
[]
[]
[]
[]
[]
[]
[null,"Les informations personnelles transmises dans ces documents sont obligatoires et seront conservées en fichiers par l'ANR pour assurer la conduite opérationnelle de l'évaluation et l'administration des dossiers.\nConformément à la loi n° 78-17 du 6 janvier 1978 modifiée, relative à l'Informatique, aux Fichiers et aux Libertés, les personnes concernées disposent d'un droit d'accès et de rectification des données personnelles les concernant. Les personnes concernées peuvent exercer ce droit en s'adressant à l'ANR (voir coordonnées dans le texte de l’appel à projets)."]

{"sheet":"part4","index":8,"n_rows":135,"n_cols":12,"rows_kept":135,"cut":false,"hidden":false,"merged":[[123,1,123,3],[125,1,125,8],[127,1,133,8],[134,1,136,8],[117,3,117,6],[118,3,118,6],[119,3,119,6],[120,3,120,6],[121,3,121,6],[122,3,122,6],[110,1,110,5],[112,1,112,8],[114,1,114,2],[114,3,114,6],[115,3,115,6],[116,3,116,6],[104,1,104,8],[105,1,105,8],[106,2,106,5],[107,1,107,5],[108,1,108,3],[109,1,109,3],[97,1,97,5],[98,1,98,5],[99,1,99,5],[100,1,100,5],[101,1,101,5],[102,1,102,3],[91,1,91,3],[92,1,92,8],[93,1,93,5],[94,1,94,5],[95,1,95,5],[96,1,96,5],[85,1,85,5],[86,1,86,5],[87,1,87,5],[88,1,88,5],[89,1,89,5],[90,1,90,5],[79,1,79,3],[80,1,80,3],[81,1,81,8],[82,1,82,5],[83,1,83,5],[84,1,84,5],[73,1,73,3],[74,1,74,3],[75,1,75,3],[76,1,76,3],[77,1,77,3],[78,1,78,3],[67,1,67,3],[68,1,68,3],[69,1,69,3],[70,1,70,3],[71,1,71,3],[72,1,72,3],[61,1,61,3],[62,1,62,3],[63,1,63,3],[64,1,64,3],[65,1,65,3],[66,1,66,3],[55,1,55,3],[56,1,56,3],[57,1,57,3],[58,1,58,3],[59,1,59,3],[60,1,60,3],[49,1,49,3],[50,1,50,3],[51,1,51,3],[52,1,52,3],[53,1,53,3],[54,1,54,3],[42,1,42,2],[43,1,43,2],[45,1,45,3],[46,1,46,8],[47,1,47,3],[48,1,48,3],[36,1,36,2],[37,1,37,2],[38,1,38,2],[39,1,39,2],[40,1,40,2],[41,1,41,2],[30,1,30,3],[31,1,31,3],[32,1,32,3],[33,1,33,3],[34,1,34,8],[35,1,35,2],[26,1,26,3],[27,1,27,3],[28,1,28,3],[29,1,29,3],[17,3,17,8],[18,3,18,8],[19,3,19,8],[20,3,20,4],[22,1,22,8],[23,1,23,8],[11,3,11,5],[13,1,13,8],[16,3,16,8],[0,0,2,4],[0,5,0,8],[1,5,1,6],[1,7,1,8],[24,1,24,3],[25,1,25,3],[2,5,2,6],[2,7,2,8],[4,1,4,8],[6,2,7,2],[6,3,7,8],[8,3,8,5],[9,3,9,5],[10,3,10,5]]}
["Identification de l'établissement partenaire",null,null,null,null,"Réservé à l'organisme gestionnaire du programme",null,null,null,{"$f":"G34","v":0},{"$f":"H34","v":0}]
[null,null,null,null,null,"N° de dossier",null,{"$f":"voletGeneral!$M$2&\"-\"&TEXT(NUM_PARTENAIRE(C2),\"0000\")","v":"ANR-17-EUR-XXXX-0004"},null,{"$f":"G46","v":0},{"$f":"H46","v":0},"Public"]
[null,null,null,null,null,"Acronyme",null,{"$f":"IF(voletGeneral!H10<>\"\",voletGeneral!H10,\"\")","v":""},null,{"$f":"G81","v":0},{"$f":"H81","v":0},"Privé"]
[null,null,20408,{"$f":"C4&\"-0\"","v":"20408-0"},null,null,null,null,null,{"$f":"G92","v":0},{"$f":"H92","v":0}]
[null,"Nom complet du partenaire",null,null,null,null,null,null,null,{"$f":"G103","v":0},{"$f":"H103","v":0}]
[null,null,null,null,null,null,null,null,null,{"$f":"G109","v":0},{"$f":"H109","v":0},"EPSCP"]
[null,null,"Nom complet du partenaire",null,null,null,null,null,null,{"$f":"G110","v":0},0,"EPST"]
[null,null,null,null,null,null,null,null,null,{"$f":"G111","v":0},{"$f":"H111","v":0},"EPA"]
[null,null,"Sigle du partenaire ",null,null,null,null,null,null,{"$f":"H124","v":0},{"$f":"I124","v":0},"EPIC"]
[null,null,"Secteur d'activité du partenaire",null,null,null,null,"co-porteur de l'EUR :",null,null,null,"Autre établissement public"]
[null,null,"Type de partenaire",null,null,null,null,null,null,null,null,"Groupement d'établissements"]
[null,null,"Numéro SIRET",null,null,null,null,null,null,null,null,"Fondation"]
[null,null,null,null,null,null,null,null,null,null,null,"Association"]
[null,"Personne habilitée à engager juridiquement l'établissement partenaire",null,null,null,null,null,null,null,null,null,"Petite entreprise "]
[null,null,null,null,null,null,null,null,null,null,null,"Moyenne entreprise"]
[null,null,"Genre",null,null,null,null,null,null,null,null,"Grande entreprise"]
[null,null,"Nom",null,null,null,null,null,null,null,null,"Statutaire"]
[null,null,"Prénom",null,null,null,null,null,null,null,null,"Non statutaire avec financement"]
[null,null,"Qualité",null,null,null,null,null,null,null,null,"Non statutaire sans financement"]
[null,null,"Courriel"]
[null,null,"Téléphone"]
[]
[null,"Demande financière ANR détaillée du projet"]
[null,"Equipement (coût unitaire HT > 4000 € - si le partenaire récupére la TVA, indiquer le coût hors TVA)"]
[null,"Description",null,null,"Coût unitaire","Quantité","Coût total","Partie aidée","Apport"]
[null,null,null,null,null,null,{"$f":"IF(AND(ISNUMBER(E26),ISNUMBER(F26)),E26*F26,\" \")","v":" "},null,{"$f":"IF(OR(ISNUMBER(G26),ISNUMBER(H26)),ROUND(IF(ISNUMBER(G26),G26,0)-IF(ISNUMBER(H26),H26,0),2),\" \")","v":" "}]
[null,null,null,null,null,null," ",null," "]
[null,null,null,null,null,null," ",null," "]
[null,null,null,null,null,null," ",null," "]
[null,null,null,null,null,null," ",null," "]
[null,null,null,null,null,null," ",null," "]
[null,null,null,null,null,null," ",null," "]
[null,null,null,null,null,null," ",null," "]
[null,"Total équipement",null,null,null,null,{"$f":"SUM(G26:G33)","v":0},{"$f":"SUM(H26:H33)","v":0},0]
[null,"Personnel"]
[null,"Description",null,"Statut","Coût unitaire","Nb. h.mois","Coût total","Aide","Apport"]
[null,null,null,null,null,null,{"$f":"IF(AND(ISNUMBER(E37),ISNUMBER(F37)),E37*F37,\" \")","v":" "},null,{"$f":"IF(OR(ISNUMBER(G37),ISNUMBER(H37)),ROUND(IF(ISNUMBER(G37),G37,0)-IF(ISNUMBER(H37),H37,0),2),\" \")","v":" "}]
[null,null,null,null,null,null," ",null," "]
[null,null,null,null,null,null," ",null," "]
[null,null,null,null,null,null," ",null," "]
[null,null,null,null,null,null," ",null,{"$f":"IF(OR(ISNUMBER(G41),ISNUMBER(H41)),ROUND(IF(ISNUMBER(G41),G41,0)-IF(ISNUMBER(H41),H41,0),2),\" \")","v":" "}]
[null,null,null,null,null,null," ",null," "]
[null,null,null,null,null,null," ",null," "]
[null,null,null,null,null,null," ",null," "]
[null,"Primes et heures complémentaires pour le personnel statutaire",null,null,null,null,null,{"$f":"IF(G45<>\" \",G45,\" \")","v":0}]
[null,"Total personnel",null,null,null,{"$f":"SUM(F37:F44)","v":0},{"$f":"SUM(G37:G45)","v":0},{"$f":"SUM(H37:H45)","v":0},{"$f":"SUM(I37:I44)","v":0}]
[null,"Fonctionnement (si le partenaire récupère la TVA, indiquer le coût hors TVA)"]
[null,"Description",null,null,"Coût unitaire","Quantité","Coût total","Partie aidée","Apport"]
[null,"Prestations de service externes"]
[null,null,null,null,null,null,null,null,{"$f":"IF(OR(ISNUMBER(G50),ISNUMBER(H50)),ROUND(IF(ISNUMBER(G50),G50,0)-IF(ISNUMBER(H50),H50,0),2),\" \")","v":" "}]
[null,null,null,null,null,null,null,null," "]
[null,null,null,null,null,null,null,null," "]
[null,null,null,null,null,null,null,null," "]
[null,null,null,null,null,null,null,null," "]
[null,null,null,null,null,null,null,null," "]
[null,null,null,null,null,null,null,null," "]
[null,null,null,null,null,null,null,null," "]
[null,"Sous-total prestations de service externes",null,null,null,null,{"$f":"SUM(G50:G57)","v":0},{"$f":"SUM(H50:H57)","v":0},{"$f":"SUM(I50:I57)","v":0}]
[null,"Missions",null,null,"Coût unitaire","Quantité","Coût total","Partie aidée","Apport"]
[null,null,null,null,null,null,null,null,{"$f":"IF(OR(ISNUMBER(G60),ISNUMBER(H60)),ROUND(IF(ISNUMBER(G60),G60,0)-IF(ISNUMBER(H60),H60,0),2),\" \")","v":" "}]
[null,null,null,null,null,null,null,null," "]
[null,null,null,null,null,null,null,null," "]
[null,null,null,null,null,null,null,null," "]
[null,null,null,null,null,null,null,null," "]
[null,null,null,null,null,null,null,null," "]
[null,null,null,null,null,null,null,null," "]
[null,null,null,null,null,null,null,null," "]
[null,"Sous-total missions",null,null,null,null,{"$f":"SUM(G60:G67)","v":0},0,0]
[null,"Autres dépenses externes",null,null,"Coût unitaire","Quantité","Coût total","Partie aidée","Apport"]
[null,null,null,null,null,null,{"$f":"IF(AND(ISNUMBER(E70),ISNUMBER(F70)),E70*F70,\" \")","v":" "},null,{"$f":"IF(OR(ISNUMBER(G70),ISNUMBER(H70)),ROUND(IF(ISNUMBER(G70),G70,0)-IF(ISNUMBER(H70),H70,0),2),\" \")","v":" "}]
[null,null,null,null,null,null," ",null," "]
[null,null,null,null,null,null," ",null," "]
[null,null,null,null,null,null," ",null," "]
[null,null,null,null,null,null," ",null," "]
[null,null,null,null,null,null," ",null," "]
[null,null,null,null,null,null," ",null," "]
[null,null,null,null,null,null," ",null," "]
[null,null,null,null,null,null," ",null," "]
[null,"Sous-total autres dépenses externes",null,null,null,null,{"$f":"SUM(G70:G78)","v":0},0,0]
[null,null,null,null,null,null,"Coût total","Partie aidée","Apport"]
[null,"Total fonctionnement",null,null,null,null,{"$f":"G79+G68+G58","v":0},{"$f":"H79+H68+H58","v":0},{"$f":"I79+I68+I58","v":0}]
[null,"Facturation interne"]
[null,"Description",null,null,null,null,"Coût total","Partie aidée","Apport"]
[null," ",null,null,null,null," ",null,{"$f":"IF(OR(ISNUMBER(G84),ISNUMBER(H84)),ROUND(IF(ISNUMBER(G84),G84,0)-IF(ISNUMBER(H84),H84,0),2),\" \")","v":" "}]
[null," ",null,null,null,null,null,null," "]
[null," ",null,null,null,null,null,null," "]
[null," ",null,null,null,null,null,null," "]
[null," ",null,null,null,null," "," "," "]
[null," ",null,null,null,null," "," "," "]
[null," ",null,null,null,null," "," "," "]
[null," ",null,null,null,null," "," "," "]
[null,"Total facturation interne",null,null,null,null,{"$f":"SUM(G84:G91)","v":0},{"$f":"SUM(H84:H91)","v":0},0]
[null,"Frais de structure"]
[null,"Description",null,null,null,null,"Coût total","Partie aidée","Apport"]
[null," ",null,null,null,null," ",null,{"$f":"IF(OR(ISNUMBER(G95),ISNUMBER(H95)),ROUND(IF(ISNUMBER(G95),G95,0)-IF(ISNUMBER(H95),H95,0),2),\" \")","v":" "}]
[null," ",null,null,null,null,null,null," "]
[null," ",null,null,null,null,null,null," "]
[null," ",null,null,null,null," "," "," "]
[null," ",null,null,null,null," "," "," "]
[null," ",null,null,null,null," "," "," "]
[null," ",null,null,null,null," "," "," "]
[null," ",null,null,null,null," "," "," "]
[null,"Total frais de structure",null,null,null,null,{"$f":"SUM(G95:G102)","v":0},{"$f":"SUM(H95:H102)","v":0},0]
[]
[null,"Synthèse de la demande financière"]
[]
[null,null,null,null,null,null,"Coût complet","Aide demandée","Apport"]
[null,"Total hors frais de gestion",null,null,null,null,{"$f":"G34+G46+G81+G92+G103","v":0},{"$f":"IF(D10=\"Privé\",0,H34+H46+H81+H92+H103)","v":0},{"$f":"I34+I46+I81+I92+I103","v":0}]
[null,"Frais de gestion (max : 8%) (hors frais de structure)",null,null,null,null,{"$f":"H109","v":0},{"$f":"IF(D10=\"Privé\",0,((H108-H103)*E109))","v":0},0]
[null,"Taux d'environnement",null,null,null,null,{"$f":"(G46-G45)*E110","v":0},null,{"$f":"G110","v":0},null,null,{"$f":"(IF($D$11=listesDeroulantes!$A$6,0.7,0)+IF($D$11=listesDeroulantes!$A$7,0.6,0)+IF($D$11=listesDeroulantes!$A$8,0.5,0))","v":0}]
[null,"Total",null,null,null,null,{"$f":"G108+G109+G110","v":0},{"$f":"H108+H109","v":0},{"$f":"I108+I109+I110","v":0}]
[]
[null,"Autres soutiens financiers sollicités ou obtenus pour le projet"]
[]
[null,{"$f":"\"                                   Nom des financeurs\"","v":"                                   Nom des financeurs"},null,"Nature et objet du financement",null,null,null,"Sollicité","Obtenu"]
[null,{"$f":"COUNTA(B$115:B115)","v":1}," "," "]
[null,{"$f":"COUNTA(B$115:B116)","v":2}," "," "]
[null,{"$f":"COUNTA(B$115:B117)","v":3}," "," "]
[null,{"$f":"COUNTA(B$115:B118)","v":4}," "," ",null,null,null," "," "]
[null,{"$f":"COUNTA(B$115:B119)","v":5}," "," ",null,null,null," "," "]
[null,{"$f":"COUNTA(B$115:B120)","v":6}," "," ",null,null,null," "," "]
[null,{"$f":"COUNTA(B$115:B121)","v":7}," "," ",null,null,null," "," "]
[null,{"$f":"COUNTA(B$115:B122)","v":8}," "," ",null,null,null," "," "]
[null,"Total des autres financements",null,null,null,null,null,{"$f":"SUM(H116:H123)","v":0},0]
[]
[null,"Commentaires (le cas échéant)"]
[]
[]
[]
[]
[]
[]
[]
[]
[null,"Les informations personnelles transmises dans ces documents sont obligatoires et seront conservées en fichiers par l'ANR pour assurer la conduite opérationnelle de l'évaluation et l'administration des dossiers.\nConformément à la loi n° 78-17 du 6 janvier 1978 modifiée, relative à l'Informatique, aux Fichiers et aux Libertés, les personnes concernées disposent d'un droit d'accès et de rectification des données personnelles les concernant. Les personnes concernées peuvent exercer ce droit en s'adressant à l'ANR (voir coordonnées dans le texte de l’appel à projets)."]

{"sheet":"part5","index":9,"n_rows":135,"n_cols":12,"rows_kept":135,"cut":false,"hidden":false,"merged":[[123,1,123,3],[125,1,125,8],[127,1,133,8],[134,1,136,8],[117,3,117,6],[118,3,118,6],[119,3,119,6],[120,3,120,6],[121,3,121,6],[122,3,122,6],[110,1,110,5],[112,1,112,8],[114,1,114,2],[114,3,114,6],[115,3,115,6],[116,3,116,6],[104,1,104,8],[105,1,105,8],[106,2,106,5],[107,1,107,5],[108,1,108,3],[109,1,109,3],[97,1,97,5],[98,1,98,5],[99,1,99,5],[100,1,100,5],[101,1,101,5],[102,1,102,3],[91,1,91,3],[92,1,92,8],[93,1,93,5],[94,1,94,5],[95,1,95,5],[96,1,96,5],[85,1,85,5],[86,1,86,5],[87,1,87,5],[88,1,88,5],[89,1,89,5],[90,1,90,5],[79,1,79,3],[80,1,80,3],[81,1,81,8],[82,1,82,5],[83,1,83,5],[84,1,84,5],[73,1,73,3],[74,1,74,3],[75,1,75,3],[76,1,76,3],[77,1,77,3],[78,1,78,3],[67,1,67,3],[68,1,68,3],[69,1,69,3],[70,1,70,3],[71,1,71,3],[72,1,72,3],[61,1,61,3],[62,1,62,3],[63,1,63,3],[64,1,64,3],[65,1,65,3],[66,1,66,3],[55,1,55,3],[56,1,56,3],[57,1,57,3],[58,1,58,3],[59,1,59,3],[60,1,60,3],[49,1,49,3],[50,1,50,3],[51,1,51,3],[52,1,52,3],[53,1,53,3],[54,1,54,3],[42,1,42,2],[43,1,43,2],[45,1,45,3],[46,1,46,8],[47,1,47,3],[48,1,48,3],[36,1,36,2],[37,1,37,2],[38,1,38,2],[39,1,39,2],[40,1,40,2],[41,1,41,2],[30,1,30,3],[31,1,31,3],[32,1,32,3],[33,1,33,3],[34,1,34,8],[35,1,35,2],[26,1,26,3],[27,1,27,3],[28,1,28,3],[29,1,29,3],[17,3,17,8],[18,3,18,8],[19,3,19,8],[20,3,20,4],[22,1,22,8],[23,1,23,8],[11,3,11,5],[13,1,13,8],[16,3,16,8],[0,0,2,4],[0,5,0,8],[1,5,1,6],[1,7,1,8],[24,1,24,3],[25,1,25,3],[2,5,2,6],[2,7,2,8],[4,1,4,8],[6,2,7,2],[6,3,7,8],[8,3,8,5],[9,3,9,5],[10,3,10,5]]}
["Identification de l'établissement partenaire",null,null,null,null,"Réservé à l'organisme gestionnaire du programme",null,null,null,{"$f":"G34","v":0},{"$f":"H34","v":0}]
[null,null,null,null,null,"N° de dossier",null,{"$f":"voletGeneral!$M$2&\"-\"&TEXT(NUM_PARTENAIRE(C2),\"0000\")","v":"ANR-17-EUR-XXXX-0005"},null,{"$f":"G46","v":0},{"$f":"H46","v":0},"Public"]
[null,null,null,null,null,"Acronyme",null,{"$f":"IF(voletGeneral!H10<>\"\",voletGeneral!H10,\"\")","v":""},null,{"$f":"G81","v":0},{"$f":"H81","v":0},"Privé"]
[null,null,20408,{"$f":"C4&\"-0\"","v":"20408-0"},null,null,null,null,null,{"$f":"G92","v":0},{"$f":"H92","v":0}]
[null,"Nom complet du partenaire",null,null,null,null,null,null,null,{"$f":"G103","v":0},{"$f":"H103","v":0}]
[null,null,null,null,null,null,null,null,null,{"$f":"G109","v":0},{"$f":"H109","v":0},"EPSCP"]
[null,null,"Nom complet du partenaire",null,null,null,null,null,null,{"$f":"G110","v":0},0,"EPST"]
[null,null,null,null,null,null,null,null,null,{"$f":"G111","v":0},{"$f":"H111","v":0},"EPA"]
[null,null,"Sigle du partenaire ",null,null,null,null,null,null,{"$f":"H124","v":0},{"$f":"I124","v":0},"EPIC"]
[null,null,"Secteur d'activité du partenaire",null,null,null,null,"co-porteur de l'EUR :",null,null,null,"Autre établissement public"]
[null,null,"Type de partenaire",null,null,null,null,null,null,null,null,"Groupement d'établissements"]
[null,null,"Numéro SIRET",null,null,null,null,null,null,null,null,"Fondation"]
[null,null,null,null,null,null,null,null,null,null,null,"Association"]
[null,"Personne habilitée à engager juridiquement l'établissement partenaire",null,null,null,null,null,null,null,null,null,"Petite entreprise "]
[null,null,null,null,null,null,null,null,null,null,null,"Moyenne entreprise"]
[null,null,"Genre",null,null,null,null,null,null,null,null,"Grande entreprise"]
[null,null,"Nom",null,null,null,null,null,null,null,null,"Statutaire"]
[null,null,"Prénom",null,null,null,null,null,null,null,null,"Non statutaire avec financement"]
[null,null,"Qualité",null,null,null,null,null,null,null,null,"Non statutaire sans financement"]
[null,null,"Courriel"]
[null,null,"Téléphone"]
[]
[null,"Demande financière ANR détaillée du projet"]
[null,"Equipement (coût unitaire HT > 4000 € - si le partenaire récupére la TVA, indiquer le coût hors TVA)"]
[null,"Description",null,null,"Coût unitaire","Quantité","Coût total","Partie aidée","Apport"]
[null,null,null,null,null,null,{"$f":"IF(AND(ISNUMBER(E26),ISNUMBER(F26)),E26*F26,\" \")","v":" "},null,{"$f":"IF(OR(ISNUMBER(G26),ISNUMBER(H26)),ROUND(IF(ISNUMBER(G26),G26,0)-IF(ISNUMBER(H26),H26,0),2),\" \")","v":" "}]
[null,null,null,null,null,null," ",null," "]
[null,null,null,null,null,null," ",null," "]
[null,null,null,null,null,null," ",null," "]
[null,null,null,null,null,null," ",null," "]
[null,null,null,null,null,null," ",null," "]
[null,null,null,null,null,null," ",null," "]
[null,null,null,null,null,null," ",null," "]
[null,"Total équipement",null,null,null,null,{"$f":"SUM(G26:G33)","v":0},{"$f":"SUM(H26:H33)","v":0},0]
[null,"Personnel"]
[null,"Description",null,"Statut","Coût unitaire","Nb. h.mois","Coût total","Aide","Apport"]
[null,null,null,null,null,null,{"$f":"IF(AND(ISNUMBER(E37),ISNUMBER(F37)),E37*F37,\" \")","v":" "},null,{"$f":"IF(OR(ISNUMBER(G37),ISNUMBER(H37)),ROUND(IF(ISNUMBER(G37),G37,0)-IF(ISNUMBER(H37),H37,0),2),\" \")","v":" "}]
[null,null,null,null,null,null," ",null," "]
[null,null,null,null,null,null," ",null," "]
[null,null,null,null,null,null," ",null," "]
[null,null,null,null,null,null," ",null,{"$f":"IF(OR(ISNUMBER(G41),ISNUMBER(H41)),ROUND(IF(ISNUMBER(G41),G41,0)-IF(ISNUMBER(H41),H41,0),2),\" \")","v":" "}]
[null,null,null,null,null,null," ",null," "]
[null,null,null,null,null,null," ",null," "]
[null,null,null,null,null,null," ",null," "]
[null,"Primes et heures complémentaires pour le personnel statutaire",null,null,null,null,null,{"$f":"IF(G45<>\" \",G45,\" \")","v":0}]
[null,"Total personnel",null,null,null,{"$f":"SUM(F37:F44)","v":0},{"$f":"SUM(G37:G45)","v":0},{"$f":"SUM(H37:H45)","v":0},{"$f":"SUM(I37:I44)","v":0}]
[null,"Fonctionnement (si le partenaire récupère la TVA, indiquer le coût hors TVA)"]
[null,"Description",null,null,"Coût unitaire","Quantité","Coût total","Partie aidée","Apport"]
[null,"Prestations de service externes"]
[null,null,null,null,null,null,null,null,{"$f":"IF(OR(ISNUMBER(G50),ISNUMBER(H50)),ROUND(IF(ISNUMBER(G50),G50,0)-IF(ISNUMBER(H50),H50,0),2),\" \")","v":" "}]
[null,null,null,null,null,null,null,null," "]
[null,null,null,null,null,null,null,null," "]
[null,null,null,null,null,null,null,null," "]
[null,null,null,null,null,null,null,null," "]
[null,null,null,null,null,null,null,null," "]
[null,null,null,null,null,null,null,null," "]
[null,null,null,null,null,null,null,null," "]
[null,"Sous-total prestations de service externes",null,null,null,null,{"$f":"SUM(G50:G57)","v":0},{"$f":"SUM(H50:H57)","v":0},{"$f":"SUM(I50:I57)","v":0}]
[null,"Missions",null,null,"Coût unitaire","Quantité","Coût total","Partie aidée","Apport"]
[null,null,null,null,null,null,null,null,{"$f":"IF(OR(ISNUMBER(G60),ISNUMBER(H60)),ROUND(IF(ISNUMBER(G60),G60,0)-IF(ISNUMBER(H60),H60,0),2),\" \")","v":" "}]
[null,null,null,null,null,null,null,null," "]
[null,null,null,null,null,null,null,null," "]
[null,null,null,null,null,null,null,null," "]
[null,null,null,null,null,null,null,null," "]
[null,null,null,null,null,null,null,null," "]
[null,null,null,null,null,null,null,null," "]
[null,null,null,null,null,null,null,null," "]
[null,"Sous-total missions",null,null,null,null,{"$f":"SUM(G60:G67)","v":0},0,0]
[null,"Autres dépenses externes",null,null,"Coût unitaire","Quantité","Coût total","Partie aidée","Apport"]
[null,null,null,null,null,null,{"$f":"IF(AND(ISNUMBER(E70),ISNUMBER(F70)),E70*F70,\" \")","v":" "},null,{"$f":"IF(OR(ISNUMBER(G70),ISNUMBER(H70)),ROUND(IF(ISNUMBER(G70),G70,0)-IF(ISNUMBER(H70),H70,0),2),\" \")","v":" "}]
[null,null,null,null,null,null," ",null," "]
[null,null,null,null,null,null," ",null," "]
[null,null,null,null,null,null," ",null," "]
[null,null,null,null,null,null," ",null," "]
[null,null,null,null,null,null," ",null," "]
[null,null,null,null,null,null," ",null," "]
[null,null,null,null,null,null," ",null," "]
[null,null,null,null,null,null," ",null," "]
[null,"Sous-total autres dépenses externes",null,null,null,null,{"$f":"SUM(G70:G78)","v":0},0,0]
[null,null,null,null,null,null,"Coût total","Partie aidée","Apport"]
[null,"Total fonctionnement",null,null,null,null,{"$f":"G79+G68+G58","v":0},{"$f":"H79+H68+H58","v":0},{"$f":"I79+I68+I58","v":0}]
[null,"Facturation interne"]
[null,"Description",null,null,null,null,"Coût total","Partie aidée","Apport"]
[null," ",null,null,null,null," ",null,{"$f":"IF(OR(ISNUMBER(G84),ISNUMBER(H84)),ROUND(IF(ISNUMBER(G84),G84,0)-IF(ISNUMBER(H84),H84,0),2),\" \")","v":" "}]
[null," ",null,null,null,null,null,null," "]
[null," ",null,null,null,null,null,null," "]
[null," ",null,null,null,null,null,null," "]
[null," ",null,null,null,null," "," "," "]
[null," ",null,null,null,null," "," "," "]
[null," ",null,null,null,null," "," "," "]
[null," ",null,null,null,null," "," "," "]
[null,"Total facturation interne",null,null,null,null,{"$f":"SUM(G84:G91)","v":0},{"$f":"SUM(H84:H91)","v":0},0]
[null,"Frais de structure"]
[null,"Description",null,null,null,null,"Coût total","Partie aidée","Apport"]
[null," ",null,null,null,null," ",null,{"$f":"IF(OR(ISNUMBER(G95),ISNUMBER(H95)),ROUND(IF(ISNUMBER(G95),G95,0)-IF(ISNUMBER(H95),H95,0),2),\" \")","v":" "}]
[null," ",null,null,null,null,null,null," "]
[null," ",null,null,null,null,null,null," "]
[null," ",null,null,null,null," "," "," "]
[null," ",null,null,null,null," "," "," "]
[null," ",null,null,null,null," "," "," "]
[null," ",null,null,null,null," "," "," "]
[null," ",null,null,null,null," "," "," "]
[null,"Total frais de structure",null,null,null,null,{"$f":"SUM(G95:G102)","v":0},{"$f":"SUM(H95:H102)","v":0},0]
[]
[null,"Synthèse de la demande financière"]
[]
[null,null,null,null,null,null,"Coût complet","Aide demandée","Apport"]
[null,"Total hors frais de gestion",null,null,null,null,{"$f":"G34+G46+G81+G92+G103","v":0},{"$f":"IF(D10=\"Privé\",0,H34+H46+H81+H92+H103)","v":0},{"$f":"I34+I46+I81+I92+I103","v":0}]
[null,"Frais de gestion (max : 8%) (hors frais de structure)",null,null,null,null,{"$f":"H109","v":0},{"$f":"IF(D10=\"Privé\",0,((H108-H103)*E109))","v":0},0]
[null,"Taux d'environnement",null,null,null,null,{"$f":"(G46-G45)*E110","v":0},null,{"$f":"G110","v":0},null,null,{"$f":"(IF($D$11=listesDeroulantes!$A$6,0.7,0)+IF($D$11=listesDeroulantes!$A$7,0.6,0)+IF($D$11=listesDeroulantes!$A$8,0.5,0))","v":0}]
[null,"Total",null,null,null,null,{"$f":"G108+G109+G110","v":0},{"$f":"H108+H109","v":0},{"$f":"I108+I109+I110","v":0}]
[]
[null,"Autres soutiens financiers sollicités ou obtenus pour le projet"]
[]
[null,{"$f":"\"                                   Nom des financeurs\"","v":"                                   Nom des financeurs"},null,"Nature et objet du financement",null,null,null,"Sollicité","Obtenu"]
[null,{"$f":"COUNTA(B$115:B115)","v":1}," "," "]
[null,{"$f":"COUNTA(B$115:B116)","v":2}," "," "]
[null,{"$f":"COUNTA(B$115:B117)","v":3}," "," "]
[null,{"$f":"COUNTA(B$115:B118)","v":4}," "," ",null,null,null," "," "]
[null,{"$f":"COUNTA(B$115:B119)","v":5}," "," ",null,null,null," "," "]
[null,{"$f":"COUNTA(B$115:B120)","v":6}," "," ",null,null,null," "," "]
[null,{"$f":"COUNTA(B$115:B121)","v":7}," "," ",null,null,null," "," "]
[null,{"$f":"COUNTA(B$115:B122)","v":8}," "," ",null,null,null," "," "]
[null,"Total des autres financements",null,null,null,null,null,{"$f":"SUM(H116:H123)","v":0},0]
[]
[null,"Commentaires (le cas échéant)"]
[]
[]
[]
[]
[]
[]
[]
[]
[null,"Les informations personnelles transmises dans ces documents sont obligatoires et seront conservées en fichiers par l'ANR pour assurer la conduite opérationnelle de l'évaluation et l'administration des dossiers.\nConformément à la loi n° 78-17 du 6 janvier 1978 modifiée, relative à l'Informatique, aux Fichiers et aux Libertés, les personnes concernées disposent d'un droit d'accès et de rectification des données personnelles les concernant. Les personnes concernées peuvent exercer ce droit en s'adressant à l'ANR (voir coordonnées dans le texte de l’appel à projets)."]

{"sheet":"part6","index":10,"n_rows":135,"n_cols":12,"rows_kept":135,"cut":false,"hidden":false,"merged":[[123,1,123,3],[125,1,125,8],[127,1,133,8],[134,1,136,8],[117,3,117,6],[118,3,118,6],[119,3,119,6],[120,3,120,6],[121,3,121,6],[122,3,122,6],[110,1,110,5],[112,1,112,8],[114,1,114,2],[114,3,114,6],[115,3,115,6],[116,3,116,6],[104,1,104,8],[105,1,105,8],[106,2,106,5],[107,1,107,5],[108,1,108,3],[109,1,109,3],[97,1,97,5],[98,1,98,5],[99,1,99,5],[100,1,100,5],[101,1,101,5],[102,1,102,3],[91,1,91,3],[92,1,92,8],[93,1,93,5],[94,1,94,5],[95,1,95,5],[96,1,96,5],[85,1,85,5],[86,1,86,5],[87,1,87,5],[88,1,88,5],[89,1,89,5],[90,1,90,5],[79,1,79,3],[80,1,80,3],[81,1,81,8],[82,1,82,5],[83,1,83,5],[84,1,84,5],[73,1,73,3],[74,1,74,3],[75,1,75,3],[76,1,76,3],[77,1,77,3],[78,1,78,3],[67,1,67,3],[68,1,68,3],[69,1,69,3],[70,1,70,3],[71,1,71,3],[72,1,72,3],[61,1,61,3],[62,1,62,3],[63,1,63,3],[64,1,64,3],[65,1,65,3],[66,1,66,3],[55,1,55,3],[56,1,56,3],[57,1,57,3],[58,1,58,3],[59,1,59,3],[60,1,60,3],[49,1,49,3],[50,1,50,3],[51,1,51,3],[52,1,52,3],[53,1,53,3],[54,1,54,3],[42,1,42,2],[43,1,43,2],[45,1,45,3],[46,1,46,8],[47,1,47,3],[48,1,48,3],[36,1,36,2],[37,1,37,2],[38,1,38,2],[39,1,39,2],[40,1,40,2],[41,1,41,2],[30,1,30,3],[31,1,31,3],[32,1,32,3],[33,1,33,3],[34,1,34,8],[35,1,35,2],[26,1,26,3],[27,1,27,3],[28,1,28,3],[29,1,29,3],[17,3,17,8],[18,3,18,8],[19,3,19,8],[20,3,20,4],[22,1,22,8],[23,1,23,8],[11,3,11,5],[13,1,13,8],[16,3,16,8],[0,0,2,4],[0,5,0,8],[1,5,1,6],[1,7,1,8],[24,1,24,3],[25,1,25,3],[2,5,2,6],[2,7,2,8],[4,1,4,8],[6,2,7,2],[6,3,7,8],[8,3,8,5],[9,3,9,5],[10,3,10,5]]}
["Identification de l'établissement partenaire",null,null,null,null,"Réservé à l'organisme gestionnaire du programme",null,null,null,{"$f":"G34","v":0},{"$f":"H34","v":0}]
[null,null,null,null,null,"N° de dossier",null,{"$f":"voletGeneral!$M$2&\"-\"&TEXT(NUM_PARTENAIRE(C2),\"0000\")","v":"ANR-17-EUR-XXXX-0006"},null,{"$f":"G46","v":0},{"$f":"H46","v":0},"Public"]
[null,null,null,null,null,"Acronyme",null,{"$f":"IF(voletGeneral!H10<>\"\",voletGeneral!H10,\"\")","v":""},null,{"$f":"G81","v":0},{"$f":"H81","v":0},"Privé"]
[null,null,20408,{"$f":"C4&\"-0\"","v":"20408-0"},null,null,null,null,null,{"$f":"G92","v":0},{"$f":"H92","v":0}]
[null,"Nom complet du partenaire",null,null,null,null,null,null,null,{"$f":"G103","v":0},{"$f":"H103","v":0}]
[null,null,null,null,null,null,null,null,null,{"$f":"G109","v":0},{"$f":"H109","v":0},"EPSCP"]
[null,null,"Nom complet du partenaire",null,null,null,null,null,null,{"$f":"G110","v":0},0,"EPST"]
[null,null,null,null,null,null,null,null,null,{"$f":"G111","v":0},{"$f":"H111","v":0},"EPA"]
[null,null,"Sigle du partenaire ",null,null,null,null,null,null,{"$f":"H124","v":0},{"$f":"I124","v":0},"EPIC"]
[null,null,"Secteur d'activité du partenaire",null,null,null,null,"co-porteur de l'EUR :",null,null,null,"Autre établissement public"]
[null,null,"Type de partenaire",null,null,null,null,null,null,null,null,"Groupement d'établissements"]
[null,null,"Numéro SIRET",null,null,null,null,null,null,null,null,"Fondation"]
[null,null,null,null,null,null,null,null,null,null,null,"Association"]
[null,"Personne habilitée à engager juridiquement l'établissement partenaire",null,null,null,null,null,null,null,null,null,"Petite entreprise "]
[null,null,null,null,null,null,null,null,null,null,null,"Moyenne entreprise"]
[null,null,"Genre",null,null,null,null,null,null,null,null,"Grande entreprise"]
[null,null,"Nom",null,null,null,null,null,null,null,null,"Statutaire"]
[null,null,"Prénom",null,null,null,null,null,null,null,null,"Non statutaire avec financement"]
[null,null,"Qualité",null,null,null,null,null,null,null,null,"Non statutaire sans financement"]
[null,null,"Courriel"]
[null,null,"Téléphone"]
[]
[null,"Demande financière ANR détaillée du projet"]
[null,"Equipement (coût unitaire HT > 4000 € - si le partenaire récupére la TVA, indiquer le coût hors TVA)"]
[null,"Description",null,null,"Coût unitaire","Quantité","Coût total","Partie aidée","Apport"]
[null,null,null,null,null,null,{"$f":"IF(AND(ISNUMBER(E26),ISNUMBER(F26)),E26*F26,\" \")","v":" "},null,{"$f":"IF(OR(ISNUMBER(G26),ISNUMBER(H26)),ROUND(IF(ISNUMBER(G26),G26,0)-IF(ISNUMBER(H26),H26,0),2),\" \")","v":" "}]
[null,null,null,null,null,null," ",null," "]
[null,null,null,null,null,null," ",null," "]
[null,null,null,null,null,null," ",null," "]
[null,null,null,null,null,null," ",null," "]
[null,null,null,null,null,null," ",null," "]
[null,null,null,null,null,null," ",null," "]
[null,null,null,null,null,null," ",null," "]
[null,"Total équipement",null,null,null,null,{"$f":"SUM(G26:G33)","v":0},{"$f":"SUM(H26:H33)","v":0},0]
[null,"Personnel"]
[null,"Description",null,"Statut","Coût unitaire","Nb. h.mois","Coût total","Aide","Apport"]
[null,null,null,null,null,null,{"$f":"IF(AND(ISNUMBER(E37),ISNUMBER(F37)),E37*F37,\" \")","v":" "},null,{"$f":"IF(OR(ISNUMBER(G37),ISNUMBER(H37)),ROUND(IF(ISNUMBER(G37),G37,0)-IF(ISNUMBER(H37),H37,0),2),\" \")","v":" "}]
[null,null,null,null,null,null," ",null," "]
[null,null,null,null,null,null," ",null," "]
[null,null,null,null,null,null," ",null," "]
[null,null,null,null,null,null," ",null,{"$f":"IF(OR(ISNUMBER(G41),ISNUMBER(H41)),ROUND(IF(ISNUMBER(G41),G41,0)-IF(ISNUMBER(H41),H41,0),2),\" \")","v":" "}]
[null,null,null,null,null,null," ",null," "]
[null,null,null,null,null,null," ",null," "]
[null,null,null,null,null,null," ",null," "]
[null,"Primes et heures complémentaires pour le personnel statutaire",null,null,null,null,null,{"$f":"IF(G45<>\" \",G45,\" \")","v":0}]
[null,"Total personnel",null,null,null,{"$f":"SUM(F37:F44)","v":0},{"$f":"SUM(G37:G45)","v":0},{"$f":"SUM(H37:H45)","v":0},{"$f":"SUM(I37:I44)","v":0}]
[null,"Fonctionnement (si le partenaire récupère la TVA, indiquer le coût hors TVA)"]
[null,"Description",null,null,"Coût unitaire","Quantité","Coût total","Partie aidée","Apport"]
[null,"Prestations de service externes"]
[null,null,null,null,null,null,null,null,{"$f":"IF(OR(ISNUMBER(G50),ISNUMBER(H50)),ROUND(IF(ISNUMBER(G50),G50,0)-IF(ISNUMBER(H50),H50,0),2),\" \")","v":" "}]
[null,null,null,null,null,null,null,null," "]
[null,null,null,null,null,null,null,null," "]
[null,null,null,null,null,null,null,null," "]
[null,null,null,null,null,null,null,null," "]
[null,null,null,null,null,null,null,null," "]
[null,null,null,null,null,null,null,null," "]
[null,null,null,null,null,null,null,null," "]
[null,"Sous-total prestations de service externes",null,null,null,null,{"$f":"SUM(G50:G57)","v":0},{"$f":"SUM(H50:H57)","v":0},{"$f":"SUM(I50:I57)","v":0}]
[null,"Missions",null,null,"Coût unitaire","Quantité","Coût total","Partie aidée","Apport"]
[null,null,null,null,null,null,null,null,{"$f":"IF(OR(ISNUMBER(G60),ISNUMBER(H60)),ROUND(IF(ISNUMBER(G60),G60,0)-IF(ISNUMBER(H60),H60,0),2),\" \")","v":" "}]
[null,null,null,null,null,null,null,null," "]
[null,null,null,null,null,null,null,null," "]
[null,null,null,null,null,null,null,null," "]
[null,null,null,null,null,null,null,null," "]
[null,null,null,null,null,null,null,null," "]
[null,null,null,null,null,null,null,null," "]
[null,null,null,null,null,null,null,null," "]
[null,"Sous-total missions",null,null,null,null,{"$f":"SUM(G60:G67)","v":0},0,0]
[null,"Autres dépenses externes",null,null,"Coût unitaire","Quantité","Coût total","Partie aidée","Apport"]
[null,null,null,null,null,null,{"$f":"IF(AND(ISNUMBER(E70),ISNUMBER(F70)),E70*F70,\" \")","v":" "},null,{"$f":"IF(OR(ISNUMBER(G70),ISNUMBER(H70)),ROUND(IF(ISNUMBER(G70),G70,0)-IF(ISNUMBER(H70),H70,0),2),\" \")","v":" "}]
[null,null,null,null,null,null," ",null," "]
[null,null,null,null,null,null," ",null," "]
[null,null,null,null,null,null," ",null," "]
[null,null,null,null,null,null," ",null," "]
[null,null,null,null,null,null," ",null," "]
[null,null,null,null,null,null," ",null," "]
[null,null,null,null,null,null," ",null," "]
[null,null,null,null,null,null," ",null," "]
[null,"Sous-total autres dépenses externes",null,null,null,null,{"$f":"SUM(G70:G78)","v":0},0,0]
[null,null,null,null,null,null,"Coût total","Partie aidée","Apport"]
[null,"Total fonctionnement",null,null,null,null,{"$f":"G79+G68+G58","v":0},{"$f":"H79+H68+H58","v":0},{"$f":"I79+I68+I58","v":0}]
[null,"Facturation interne"]
[null,"Description",null,null,null,null,"Coût total","Partie aidée","Apport"]
[null," ",null,null,null,null," ",null,{"$f":"IF(OR(ISNUMBER(G84),ISNUMBER(H84)),ROUND(IF(ISNUMBER(G84),G84,0)-IF(ISNUMBER(H84),H84,0),2),\" \")","v":" "}]
[null," ",null,null,null,null,null,null," "]
[null," ",null,null,null,null,null,null," "]
[null," ",null,null,null,null,null,null," "]
[null," ",null,null,null,null," "," "," "]
[null," ",null,null,null,null," "," "," "]
[null," ",null,null,null,null," "," "," "]
[null," ",null,null,null,null," "," "," "]
[null,"Total facturation interne",null,null,null,null,{"$f":"SUM(G84:G91)","v":0},{"$f":"SUM(H84:H91)","v":0},0]
[null,"Frais de structure"]
[null,"Description",null,null,null,null,"Coût total","Partie aidée","Apport"]
[null," ",null,null,null,null," ",null,{"$f":"IF(OR(ISNUMBER(G95),ISNUMBER(H95)),ROUND(IF(ISNUMBER(G95),G95,0)-IF(ISNUMBER(H95),H95,0),2),\" \")","v":" "}]
[null," ",null,null,null,null,null,null," "]
[null," ",null,null,null,null,null,null," "]
[null," ",null,null,null,null," "," "," "]
[null," ",null,null,null,null," "," "," "]
[null," ",null,null,null,null," "," "," "]
[null," ",null,null,null,null," "," "," "]
[null," ",null,null,null,null," "," "," "]
[null,"Total frais de structure",null,null,null,null,{"$f":"SUM(G95:G102)","v":0},{"$f":"SUM(H95:H102)","v":0},0]
[]
[null,"Synthèse de la demande financière"]
[]
[null,null,null,null,null,null,"Coût complet","Aide demandée","Apport"]
[null,"Total hors frais de gestion",null,null,null,null,{"$f":"G34+G46+G81+G92+G103","v":0},{"$f":"IF(D10=\"Privé\",0,H34+H46+H81+H92+H103)","v":0},{"$f":"I34+I46+I81+I92+I103","v":0}]
[null,"Frais de gestion (max : 8%) (hors frais de structure)",null,null,null,null,{"$f":"H109","v":0},{"$f":"IF(D10=\"Privé\",0,((H108-H103)*E109))","v":0},0]
[null,"Taux d'environnement",null,null,null,null,{"$f":"(G46-G45)*E110","v":0},null,{"$f":"G110","v":0},null,null,{"$f":"(IF($D$11=listesDeroulantes!$A$6,0.7,0)+IF($D$11=listesDeroulantes!$A$7,0.6,0)+IF($D$11=listesDeroulantes!$A$8,0.5,0))","v":0}]
[null,"Total",null,null,null,null,{"$f":"G108+G109+G110","v":0},{"$f":"H108+H109","v":0},{"$f":"I108+I109+I110","v":0}]
[]
[null,"Autres soutiens financiers sollicités ou obtenus pour le projet"]
[]
[null,{"$f":"\"                                   Nom des financeurs\"","v":"                                   Nom des financeurs"},null,"Nature et objet du financement",null,null,null,"Sollicité","Obtenu"]
[null,{"$f":"COUNTA(B$115:B115)","v":1}," "," "]
[null,{"$f":"COUNTA(B$115:B116)","v":2}," "," "]
[null,{"$f":"COUNTA(B$115:B117)","v":3}," "," "]
[null,{"$f":"COUNTA(B$115:B118)","v":4}," "," ",null,null,null," "," "]
[null,{"$f":"COUNTA(B$115:B119)","v":5}," "," ",null,null,null," "," "]
[null,{"$f":"COUNTA(B$115:B120)","v":6}," "," ",null,null,null," "," "]
[null,{"$f":"COUNTA(B$115:B121)","v":7}," "," ",null,null,null," "," "]
[null,{"$f":"COUNTA(B$115:B122)","v":8}," "," ",null,null,null," "," "]
[null,"Total des autres financements",null,null,null,null,null,{"$f":"SUM(H116:H123)","v":0},0]
[]
[null,"Commentaires (le cas échéant)"]
[]
[]
[]
[]
[]
[]
[]
[]
[null,"Les informations personnelles transmises dans ces documents sont obligatoires et seront conservées en fichiers par l'ANR pour assurer la conduite opérationnelle de l'évaluation et l'administration des dossiers.\nConformément à la loi n° 78-17 du 6 janvier 1978 modifiée, relative à l'Informatique, aux Fichiers et aux Libertés, les personnes concernées disposent d'un droit d'accès et de rectification des données personnelles les concernant. Les personnes concernées peuvent exercer ce droit en s'adressant à l'ANR (voir coordonnées dans le texte de l’appel à projets)."]

{"sheet":"part7","index":11,"n_rows":135,"n_cols":12,"rows_kept":135,"cut":false,"hidden":false,"merged":[[123,1,123,3],[125,1,125,8],[127,1,133,8],[134,1,136,8],[117,3,117,6],[118,3,118,6],[119,3,119,6],[120,3,120,6],[121,3,121,6],[122,3,122,6],[110,1,110,5],[112,1,112,8],[114,1,114,2],[114,3,114,6],[115,3,115,6],[116,3,116,6],[104,1,104,8],[105,1,105,8],[106,2,106,5],[107,1,107,5],[108,1,108,3],[109,1,109,3],[97,1,97,5],[98,1,98,5],[99,1,99,5],[100,1,100,5],[101,1,101,5],[102,1,102,3],[91,1,91,3],[92,1,92,8],[93,1,93,5],[94,1,94,5],[95,1,95,5],[96,1,96,5],[85,1,85,5],[86,1,86,5],[87,1,87,5],[88,1,88,5],[89,1,89,5],[90,1,90,5],[79,1,79,3],[80,1,80,3],[81,1,81,8],[82,1,82,5],[83,1,83,5],[84,1,84,5],[73,1,73,3],[74,1,74,3],[75,1,75,3],[76,1,76,3],[77,1,77,3],[78,1,78,3],[67,1,67,3],[68,1,68,3],[69,1,69,3],[70,1,70,3],[71,1,71,3],[72,1,72,3],[61,1,61,3],[62,1,62,3],[63,1,63,3],[64,1,64,3],[65,1,65,3],[66,1,66,3],[55,1,55,3],[56,1,56,3],[57,1,57,3],[58,1,58,3],[59,1,59,3],[60,1,60,3],[49,1,49,3],[50,1,50,3],[51,1,51,3],[52,1,52,3],[53,1,53,3],[54,1,54,3],[42,1,42,2],[43,1,43,2],[45,1,45,3],[46,1,46,8],[47,1,47,3],[48,1,48,3],[36,1,36,2],[37,1,37,2],[38,1,38,2],[39,1,39,2],[40,1,40,2],[41,1,41,2],[30,1,30,3],[31,1,31,3],[32,1,32,3],[33,1,33,3],[34,1,34,8],[35,1,35,2],[26,1,26,3],[27,1,27,3],[28,1,28,3],[29,1,29,3],[17,3,17,8],[18,3,18,8],[19,3,19,8],[20,3,20,4],[22,1,22,8],[23,1,23,8],[11,3,11,5],[13,1,13,8],[16,3,16,8],[0,0,2,4],[0,5,0,8],[1,5,1,6],[1,7,1,8],[24,1,24,3],[25,1,25,3],[2,5,2,6],[2,7,2,8],[4,1,4,8],[6,2,7,2],[6,3,7,8],[8,3,8,5],[9,3,9,5],[10,3,10,5]]}
["Identification de l'établissement partenaire",null,null,null,null,"Réservé à l'organisme gestionnaire du programme",null,null,null,{"$f":"G34","v":0},{"$f":"H34","v":0}]
[null,null,null,null,null,"N° de dossier",null,{"$f":"voletGeneral!$M$2&\"-\"&TEXT(NUM_PARTENAIRE(C2),\"0000\")","v":"ANR-17-EUR-XXXX-0007"},null,{"$f":"G46","v":0},{"$f":"H46","v":0},"Public"]
[null,null,null,null,null,"Acronyme",null,{"$f":"IF(voletGeneral!H10<>\"\",voletGeneral!H10,\"\")","v":""},null,{"$f":"G81","v":0},{"$f":"H81","v":0},"Privé"]
[null,null,20408,{"$f":"C4&\"-0\"","v":"20408-0"},null,null,null,null,null,{"$f":"G92","v":0},{"$f":"H92","v":0}]
[null,"Nom complet du partenaire",null,null,null,null,null,null,null,{"$f":"G103","v":0},{"$f":"H103","v":0}]
[null,null,null,null,null,null,null,null,null,{"$f":"G109","v":0},{"$f":"H109","v":0},"EPSCP"]
[null,null,"Nom complet du partenaire",null,null,null,null,null,null,{"$f":"G110","v":0},0,"EPST"]
[null,null,null,null,null,null,null,null,null,{"$f":"G111","v":0},{"$f":"H111","v":0},"EPA"]
[null,null,"Sigle du partenaire ",null,null,null,null,null,null,{"$f":"H124","v":0},{"$f":"I124","v":0},"EPIC"]
[null,null,"Secteur d'activité du partenaire",null,null,null,null,"co-porteur de l'EUR :",null,null,null,"Autre établissement public"]
[null,null,"Type de partenaire",null,null,null,null,null,null,null,null,"Groupement d'établissements"]
[null,null,"Numéro SIRET",null,null,null,null,null,null,null,null,"Fondation"]
[null,null,null,null,null,null,null,null,null,null,null,"Association"]
[null,"Personne habilitée à engager juridiquement l'établissement partenaire",null,null,null,null,null,null,null,null,null,"Petite entreprise "]
[null,null,null,null,null,null,null,null,null,null,null,"Moyenne entreprise"]
[null,null,"Genre",null,null,null,null,null,null,null,null,"Grande entreprise"]
[null,null,"Nom",null,null,null,null,null,null,null,null,"Statutaire"]
[null,null,"Prénom",null,null,null,null,null,null,null,null,"Non statutaire avec financement"]
[null,null,"Qualité",null,null,null,null,null,null,null,null,"Non statutaire sans financement"]
[null,null,"Courriel"]
[null,null,"Téléphone"]
[]
[null,"Demande financière ANR détaillée du projet"]
[null,"Equipement (coût unitaire HT > 4000 € - si le partenaire récupére la TVA, indiquer le coût hors TVA)"]
[null,"Description",null,null,"Coût unitaire","Quantité","Coût total","Partie aidée","Apport"]
[null,null,null,null,null,null,{"$f":"IF(AND(ISNUMBER(E26),ISNUMBER(F26)),E26*F26,\" \")","v":" "},null,{"$f":"IF(OR(ISNUMBER(G26),ISNUMBER(H26)),ROUND(IF(ISNUMBER(G26),G26,0)-IF(ISNUMBER(H26),H26,0),2),\" \")","v":" "}]
[null,null,null,null,null,null," ",null," "]
[null,null,null,null,null,null," ",null," "]
[null,null,null,null,null,null," ",null," "]
[null,null,null,null,null,null," ",null," "]
[null,null,null,null,null,null," ",null," "]
[null,null,null,null,null,null," ",null," "]
[null,null,null,null,null,null," ",null," "]
[null,"Total équipement",null,null,null,null,{"$f":"SUM(G26:G33)","v":0},{"$f":"SUM(H26:H33)","v":0},0]
[null,"Personnel"]
[null,"Description",null,"Statut","Coût unitaire","Nb. h.mois","Coût total","Aide","Apport"]
[null,null,null,null,null,null,{"$f":"IF(AND(ISNUMBER(E37),ISNUMBER(F37)),E37*F37,\" \")","v":" "},null,{"$f":"IF(OR(ISNUMBER(G37),ISNUMBER(H37)),ROUND(IF(ISNUMBER(G37),G37,0)-IF(ISNUMBER(H37),H37,0),2),\" \")","v":" "}]
[null,null,null,null,null,null," ",null," "]
[null,null,null,null,null,null," ",null," "]
[null,null,null,null,null,null," ",null," "]
[null,null,null,null,null,null," ",null,{"$f":"IF(OR(ISNUMBER(G41),ISNUMBER(H41)),ROUND(IF(ISNUMBER(G41),G41,0)-IF(ISNUMBER(H41),H41,0),2),\" \")","v":" "}]
[null,null,null,null,null,null," ",null," "]
[null,null,null,null,null,null," ",null," "]
[null,null,null,null,null,null," ",null," "]
[null,"Primes et heures complémentaires pour le personnel statutaire",null,null,null,null,null,{"$f":"IF(G45<>\" \",G45,\" \")","v":0}]
[null,"Total personnel",null,null,null,{"$f":"SUM(F37:F44)","v":0},{"$f":"SUM(G37:G45)","v":0},{"$f":"SUM(H37:H45)","v":0},{"$f":"SUM(I37:I44)","v":0}]
[null,"Fonctionnement (si le partenaire récupère la TVA, indiquer le coût hors TVA)"]
[null,"Description",null,null,"Coût unitaire","Quantité","Coût total","Partie aidée","Apport"]
[null,"Prestations de service externes"]
[null,null,null,null,null,null,null,null,{"$f":"IF(OR(ISNUMBER(G50),ISNUMBER(H50)),ROUND(IF(ISNUMBER(G50),G50,0)-IF(ISNUMBER(H50),H50,0),2),\" \")","v":" "}]
[null,null,null,null,null,null,null,null," "]
[null,null,null,null,null,null,null,null," "]
[null,null,null,null,null,null,null,null," "]
[null,null,null,null,null,null,null,null," "]
[null,null,null,null,null,null,null,null," "]
[null,null,null,null,null,null,null,null," "]
[null,null,null,null,null,null,null,null," "]
[null,"Sous-total prestations de service externes",null,null,null,null,{"$f":"SUM(G50:G57)","v":0},{"$f":"SUM(H50:H57)","v":0},{"$f":"SUM(I50:I57)","v":0}]
[null,"Missions",null,null,"Coût unitaire","Quantité","Coût total","Partie aidée","Apport"]
[null,null,null,null,null,null,null,null,{"$f":"IF(OR(ISNUMBER(G60),ISNUMBER(H60)),ROUND(IF(ISNUMBER(G60),G60,0)-IF(ISNUMBER(H60),H60,0),2),\" \")","v":" "}]
[null,null,null,null,null,null,null,null," "]
[null,null,null,null,null,null,null,null," "]
[null,null,null,null,null,null,null,null," "]
[null,null,null,null,null,null,null,null," "]
[null,null,null,null,null,null,null,null," "]
[null,null,null,null,null,null,null,null," "]
[null,null,null,null,null,null,null,null," "]
[null,"Sous-total missions",null,null,null,null,{"$f":"SUM(G60:G67)","v":0},0,0]
[null,"Autres dépenses externes",null,null,"Coût unitaire","Quantité","Coût total","Partie aidée","Apport"]
[null,null,null,null,null,null,{"$f":"IF(AND(ISNUMBER(E70),ISNUMBER(F70)),E70*F70,\" \")","v":" "},null,{"$f":"IF(OR(ISNUMBER(G70),ISNUMBER(H70)),ROUND(IF(ISNUMBER(G70),G70,0)-IF(ISNUMBER(H70),H70,0),2),\" \")","v":" "}]
[null,null,null,null,null,null," ",null," "]
[null,null,null,null,null,null," ",null," "]
[null,null,null,null,null,null," ",null," "]
[null,null,null,null,null,null," ",null," "]
[null,null,null,null,null,null," ",null," "]
[null,null,null,null,null,null," ",null," "]
[null,null,null,null,null,null," ",null," "]
[null,null,null,null,null,null," ",null," "]
[null,"Sous-total autres dépenses externes",null,null,null,null,{"$f":"SUM(G70:G78)","v":0},0,0]
[null,null,null,null,null,null,"Coût total","Partie aidée","Apport"]
[null,"Total fonctionnement",null,null,null,null,{"$f":"G79+G68+G58","v":0},{"$f":"H79+H68+H58","v":0},{"$f":"I79+I68+I58","v":0}]
[null,"Facturation interne"]
[null,"Description",null,null,null,null,"Coût total","Partie aidée","Apport"]
[null," ",null,null,null,null," ",null,{"$f":"IF(OR(ISNUMBER(G84),ISNUMBER(H84)),ROUND(IF(ISNUMBER(G84),G84,0)-IF(ISNUMBER(H84),H84,0),2),\" \")","v":" "}]
[null," ",null,null,null,null,null,null," "]
[null," ",null,null,null,null,null,null," "]
[null," ",null,null,null,null,null,null," "]
[null," ",null,null,null,null," "," "," "]
[null," ",null,null,null,null," "," "," "]
[null," ",null,null,null,null," "," "," "]
[null," ",null,null,null,null," "," "," "]
[null,"Total facturation interne",null,null,null,null,{"$f":"SUM(G84:G91)","v":0},{"$f":"SUM(H84:H91)","v":0},0]
[null,"Frais de structure"]
[null,"Description",null,null,null,null,"Coût total","Partie aidée","Apport"]
[null," ",null,null,null,null," ",null,{"$f":"IF(OR(ISNUMBER(G95),ISNUMBER(H95)),ROUND(IF(ISNUMBER(G95),G95,0)-IF(ISNUMBER(H95),H95,0),2),\" \")","v":" "}]
[null," ",null,null,null,null,null,null," "]
[null," ",null,null,null,null,null,null," "]
[null," ",null,null,null,null," "," "," "]
[null," ",null,null,null,null," "," "," "]
[null," ",null,null,null,null," "," "," "]
[null," ",null,null,null,null," "," "," "]
[null," ",null,null,null,null," "," "," "]
[null,"Total frais de structure",null,null,null,null,{"$f":"SUM(G95:G102)","v":0},{"$f":"SUM(H95:H102)","v":0},0]
[]
[null,"Synthèse de la demande financière"]
[]
[null,null,null,null,null,null,"Coût complet","Aide demandée","Apport"]
[null,"Total hors frais de gestion",null,null,null,null,{"$f":"G34+G46+G81+G92+G103","v":0},{"$f":"IF(D10=\"Privé\",0,H34+H46+H81+H92+H103)","v":0},{"$f":"I34+I46+I81+I92+I103","v":0}]
[null,"Frais de gestion (max : 8%) (hors frais de structure)",null,null,null,null,{"$f":"H109","v":0},{"$f":"IF(D10=\"Privé\",0,((H108-H103)*E109))","v":0},0]
[null,"Taux d'environnement",null,null,null,null,{"$f":"(G46-G45)*E110","v":0},null,{"$f":"G110","v":0},null,null,{"$f":"(IF($D$11=listesDeroulantes!$A$6,0.7,0)+IF($D$11=listesDeroulantes!$A$7,0.6,0)+IF($D$11=listesDeroulantes!$A$8,0.5,0))","v":0}]
[null,"Total",null,null,null,null,{"$f":"G108+G109+G110","v":0},{"$f":"H108+H109","v":0},{"$f":"I108+I109+I110","v":0}]
[]
[null,"Autres soutiens financiers sollicités ou obtenus pour le projet"]
[]
[null,{"$f":"\"                                   Nom des financeurs\"","v":"                                   Nom des financeurs"},null,"Nature et objet du financement",null,null,null,"Sollicité","Obtenu"]
[null,{"$f":"COUNTA(B$115:B115)","v":1}," "," "]
[null,{"$f":"COUNTA(B$115:B116)","v":2}," "," "]
[null,{"$f":"COUNTA(B$115:B117)","v":3}," "," "]
[null,{"$f":"COUNTA(B$115:B118)","v":4}," "," ",null,null,null," "," "]
[null,{"$f":"COUNTA(B$115:B119)","v":5}," "," ",null,null,null," "," "]
[null,{"$f":"COUNTA(B$115:B120)","v":6}," "," ",null,null,null," "," "]
[null,{"$f":"COUNTA(B$115:B121)","v":7}," "," ",null,null,null," "," "]
[null,{"$f":"COUNTA(B$115:B122)","v":8}," "," ",null,null,null," "," "]
[null,"Total des autres financements",null,null,null,null,null,{"$f":"SUM(H116:H123)","v":0},0]
[]
[null,"Commentaires (le cas échéant)"]
[]
[]
[]
[]
[]
[]
[]
[]
[null,"Les informations personnelles transmises dans ces documents sont obligatoires et seront conservées en fichiers par l'ANR pour assurer la conduite opérationnelle de l'évaluation et l'administration des dossiers.\nConformément à la loi n° 78-17 du 6 janvier 1978 modifiée, relative à l'Informatique, aux Fichiers et aux Libertés, les personnes concernées disposent d'un droit d'accès et de rectification des données personnelles les concernant. Les personnes concernées peuvent exercer ce droit en s'adressant à l'ANR (voir coordonnées dans le texte de l’appel à projets)."]

{"sheet":"part8","index":12,"n_rows":135,"n_cols":12,"rows_kept":135,"cut":false,"hidden":false,"merged":[[123,1,123,3],[125,1,125,8],[127,1,133,8],[134,1,136,8],[117,3,117,6],[118,3,118,6],[119,3,119,6],[120,3,120,6],[121,3,121,6],[122,3,122,6],[110,1,110,5],[112,1,112,8],[114,1,114,2],[114,3,114,6],[115,3,115,6],[116,3,116,6],[104,1,104,8],[105,1,105,8],[106,2,106,5],[107,1,107,5],[108,1,108,3],[109,1,109,3],[97,1,97,5],[98,1,98,5],[99,1,99,5],[100,1,100,5],[101,1,101,5],[102,1,102,3],[91,1,91,3],[92,1,92,8],[93,1,93,5],[94,1,94,5],[95,1,95,5],[96,1,96,5],[85,1,85,5],[86,1,86,5],[87,1,87,5],[88,1,88,5],[89,1,89,5],[90,1,90,5],[79,1,79,3],[80,1,80,3],[81,1,81,8],[82,1,82,5],[83,1,83,5],[84,1,84,5],[73,1,73,3],[74,1,74,3],[75,1,75,3],[76,1,76,3],[77,1,77,3],[78,1,78,3],[67,1,67,3],[68,1,68,3],[69,1,69,3],[70,1,70,3],[71,1,71,3],[72,1,72,3],[61,1,61,3],[62,1,62,3],[63,1,63,3],[64,1,64,3],[65,1,65,3],[66,1,66,3],[55,1,55,3],[56,1,56,3],[57,1,57,3],[58,1,58,3],[59,1,59,3],[60,1,60,3],[49,1,49,3],[50,1,50,3],[51,1,51,3],[52,1,52,3],[53,1,53,3],[54,1,54,3],[42,1,42,2],[43,1,43,2],[45,1,45,3],[46,1,46,8],[47,1,47,3],[48,1,48,3],[36,1,36,2],[37,1,37,2],[38,1,38,2],[39,1,39,2],[40,1,40,2],[41,1,41,2],[30,1,30,3],[31,1,31,3],[32,1,32,3],[33,1,33,3],[34,1,34,8],[35,1,35,2],[26,1,26,3],[27,1,27,3],[28,1,28,3],[29,1,29,3],[17,3,17,8],[18,3,18,8],[19,3,19,8],[20,3,20,4],[22,1,22,8],[23,1,23,8],[11,3,11,5],[13,1,13,8],[16,3,16,8],[0,0,2,4],[0,5,0,8],[1,5,1,6],[1,7,1,8],[24,1,24,3],[25,1,25,3],[2,5,2,6],[2,7,2,8],[4,1,4,8],[6,2,7,2],[6,3,7,8],[8,3,8,5],[9,3,9,5],[10,3,10,5]]}
["Identification de l'établissement partenaire",null,null,null,null,"Réservé à l'organisme gestionnaire du programme",null,null,null,{"$f":"G34","v":0},{"$f":"H34","v":0}]
[null,null,null,null,null,"N° de dossier",null,{"$f":"voletGeneral!$M$2&\"-\"&TEXT(NUM_PARTENAIRE(C2),\"0000\")","v":"ANR-17-EUR-XXXX-0008"},null,{"$f":"G46","v":0},{"$f":"H46","v":0},"Public"]
[null,null,null,null,null,"Acronyme",null,{"$f":"IF(voletGeneral!H10<>\"\",voletGeneral!H10,\"\")","v":""},null,{"$f":"G81","v":0},{"$f":"H81","v":0},"Privé"]
[null,null,20408,{"$f":"C4&\"-0\"","v":"20408-0"},null,null,null,null,null,{"$f":"G92","v":0},{"$f":"H92","v":0}]
[null,"Nom complet du partenaire",null,null,null,null,null,null,null,{"$f":"G103","v":0},{"$f":"H103","v":0}]
[null,null,null,null,null,null,null,null,null,{"$f":"G109","v":0},{"$f":"H109","v":0},"EPSCP"]
[null,null,"Nom complet du partenaire",null,null,null,null,null,null,{"$f":"G110","v":0},0,"EPST"]
[null,null,null,null,null,null,null,null,null,{"$f":"G111","v":0},{"$f":"H111","v":0},"EPA"]
[null,null,"Sigle du partenaire ",null,null,null,null,null,null,{"$f":"H124","v":0},{"$f":"I124","v":0},"EPIC"]
[null,null,"Secteur d'activité du partenaire",null,null,null,null,"co-porteur de l'EUR :",null,null,null,"Autre établissement public"]
[null,null,"Type de partenaire",null,null,null,null,null,null,null,null,"Groupement d'établissements"]
[null,null,"Numéro SIRET",null,null,null,null,null,null,null,null,"Fondation"]
[null,null,null,null,null,null,null,null,null,null,null,"Association"]
[null,"Personne habilitée à engager juridiquement l'établissement partenaire",null,null,null,null,null,null,null,null,null,"Petite entreprise "]
[null,null,null,null,null,null,null,null,null,null,null,"Moyenne entreprise"]
[null,null,"Genre",null,null,null,null,null,null,null,null,"Grande entreprise"]
[null,null,"Nom",null,null,null,null,null,null,null,null,"Statutaire"]
[null,null,"Prénom",null,null,null,null,null,null,null,null,"Non statutaire avec financement"]
[null,null,"Qualité",null,null,null,null,null,null,null,null,"Non statutaire sans financement"]
[null,null,"Courriel"]
[null,null,"Téléphone"]
[]
[null,"Demande financière ANR détaillée du projet"]
[null,"Equipement (coût unitaire HT > 4000 € - si le partenaire récupére la TVA, indiquer le coût hors TVA)"]
[null,"Description",null,null,"Coût unitaire","Quantité","Coût total","Partie aidée","Apport"]
[null,null,null,null,null,null,{"$f":"IF(AND(ISNUMBER(E26),ISNUMBER(F26)),E26*F26,\" \")","v":" "},null,{"$f":"IF(OR(ISNUMBER(G26),ISNUMBER(H26)),ROUND(IF(ISNUMBER(G26),G26,0)-IF(ISNUMBER(H26),H26,0),2),\" \")","v":" "}]
[null,null,null,null,null,null," ",null," "]
[null,null,null,null,null,null," ",null," "]
[null,null,null,null,null,null," ",null," "]
[null,null,null,null,null,null," ",null," "]
[null,null,null,null,null,null," ",null," "]
[null,null,null,null,null,null," ",null," "]
[null,null,null,null,null,null," ",null," "]
[null,"Total équipement",null,null,null,null,{"$f":"SUM(G26:G33)","v":0},{"$f":"SUM(H26:H33)","v":0},0]
[null,"Personnel"]
[null,"Description",null,"Statut","Coût unitaire","Nb. h.mois","Coût total","Aide","Apport"]
[null,null,null,null,null,null,{"$f":"IF(AND(ISNUMBER(E37),ISNUMBER(F37)),E37*F37,\" \")","v":" "},null,{"$f":"IF(OR(ISNUMBER(G37),ISNUMBER(H37)),ROUND(IF(ISNUMBER(G37),G37,0)-IF(ISNUMBER(H37),H37,0),2),\" \")","v":" "}]
[null,null,null,null,null,null," ",null," "]
[null,null,null,null,null,null," ",null," "]
[null,null,null,null,null,null," ",null," "]
[null,null,null,null,null,null," ",null,{"$f":"IF(OR(ISNUMBER(G41),ISNUMBER(H41)),ROUND(IF(ISNUMBER(G41),G41,0)-IF(ISNUMBER(H41),H41,0),2),\" \")","v":" "}]
[null,null,null,null,null,null," ",null," "]
[null,null,null,null,null,null," ",null," "]
[null,null,null,null,null,null," ",null," "]
[null,"Primes et heures complémentaires pour le personnel statutaire",null,null,null,null,null,{"$f":"IF(G45<>\" \",G45,\" \")","v":0}]
[null,"Total personnel",null,null,null,{"$f":"SUM(F37:F44)","v":0},{"$f":"SUM(G37:G45)","v":0},{"$f":"SUM(H37:H45)","v":0},{"$f":"SUM(I37:I44)","v":0}]
[null,"Fonctionnement (si le partenaire récupère la TVA, indiquer le coût hors TVA)"]
[null,"Description",null,null,"Coût unitaire","Quantité","Coût total","Partie aidée","Apport"]
[null,"Prestations de service externes"]
[null,null,null,null,null,null,null,null,{"$f":"IF(OR(ISNUMBER(G50),ISNUMBER(H50)),ROUND(IF(ISNUMBER(G50),G50,0)-IF(ISNUMBER(H50),H50,0),2),\" \")","v":" "}]
[null,null,null,null,null,null,null,null," "]
[null,null,null,null,null,null,null,null," "]
[null,null,null,null,null,null,null,null," "]
[null,null,null,null,null,null,null,null," "]
[null,null,null,null,null,null,null,null," "]
[null,null,null,null,null,null,null,null," "]
[null,null,null,null,null,null,null,null," "]
[null,"Sous-total prestations de service externes",null,null,null,null,{"$f":"SUM(G50:G57)","v":0},{"$f":"SUM(H50:H57)","v":0},{"$f":"SUM(I50:I57)","v":0}]
[null,"Missions",null,null,"Coût unitaire","Quantité","Coût total","Partie aidée","Apport"]
[null,null,null,null,null,null,null,null,{"$f":"IF(OR(ISNUMBER(G60),ISNUMBER(H60)),ROUND(IF(ISNUMBER(G60),G60,0)-IF(ISNUMBER(H60),H60,0),2),\" \")","v":" "}]
[null,null,null,null,null,null,null,null," "]
[null,null,null,null,null,null,null,null," "]
[null,null,null,null,null,null,null,null," "]
[null,null,null,null,null,null,null,null," "]
[null,null,null,null,null,null,null,null," "]
[null,null,null,null,null,null,null,null," "]
[null,null,null,null,null,null,null,null," "]
[null,"Sous-total missions",null,null,null,null,{"$f":"SUM(G60:G67)","v":0},0,0]
[null,"Autres dépenses externes",null,null,"Coût unitaire","Quantité","Coût total","Partie aidée","Apport"]
[null,null,null,null,null,null,{"$f":"IF(AND(ISNUMBER(E70),ISNUMBER(F70)),E70*F70,\" \")","v":" "},null,{"$f":"IF(OR(ISNUMBER(G70),ISNUMBER(H70)),ROUND(IF(ISNUMBER(G70),G70,0)-IF(ISNUMBER(H70),H70,0),2),\" \")","v":" "}]
[null,null,null,null,null,null," ",null," "]
[null,null,null,null,null,null," ",null," "]
[null,null,null,null,null,null," ",null," "]
[null,null,null,null,null,null," ",null," "]
[null,null,null,null,null,null," ",null," "]
[null,null,null,null,null,null," ",null," "]
[null,null,null,null,null,null," ",null," "]
[null,null,null,null,null,null," ",null," "]
[null,"Sous-total autres dépenses externes",null,null,null,null,{"$f":"SUM(G70:G78)","v":0},0,0]
[null,null,null,null,null,null,"Coût total","Partie aidée","Apport"]
[null,"Total fonctionnement",null,null,null,null,{"$f":"G79+G68+G58","v":0},{"$f":"H79+H68+H58","v":0},{"$f":"I79+I68+I58","v":0}]
[null,"Facturation interne"]
[null,"Description",null,null,null,null,"Coût total","Partie aidée","Apport"]
[null," ",null,null,null,null," ",null,{"$f":"IF(OR(ISNUMBER(G84),ISNUMBER(H84)),ROUND(IF(ISNUMBER(G84),G84,0)-IF(ISNUMBER(H84),H84,0),2),\" \")","v":" "}]
[null," ",null,null,null,null,null,null," "]
[null," ",null,null,null,null,null,null," "]
[null," ",null,null,null,null,null,null," "]
[null," ",null,null,null,null," "," "," "]
[null," ",null,null,null,null," "," "," "]
[null," ",null,null,null,null," "," "," "]
[null," ",null,null,null,null," "," "," "]
[null,"Total facturation interne",null,null,null,null,{"$f":"SUM(G84:G91)","v":0},{"$f":"SUM(H84:H91)","v":0},0]
[null,"Frais de structure"]
[null,"Description",null,null,null,null,"Coût total","Partie aidée","Apport"]
[null," ",null,null,null,null," ",null,{"$f":"IF(OR(ISNUMBER(G95),ISNUMBER(H95)),ROUND(IF(ISNUMBER(G95),G95,0)-IF(ISNUMBER(H95),H95,0),2),\" \")","v":" "}]
[null," ",null,null,null,null,null,null," "]
[null," ",null,null,null,null,null,null," "]
[null," ",null,null,null,null," "," "," "]
[null," ",null,null,null,null," "," "," "]
[null," ",null,null,null,null," "," "," "]
[null," ",null,null,null,null," "," "," "]
[null," ",null,null,null,null," "," "," "]
[null,"Total frais de structure",null,null,null,null,{"$f":"SUM(G95:G102)","v":0},{"$f":"SUM(H95:H102)","v":0},0]
[]
[null,"Synthèse de la demande financière"]
[]
[null,null,null,null,null,null,"Coût complet","Aide demandée","Apport"]
[null,"Total hors frais de gestion",null,null,null,null,{"$f":"G34+G46+G81+G92+G103","v":0},{"$f":"IF(D10=\"Privé\",0,H34+H46+H81+H92+H103)","v":0},{"$f":"I34+I46+I81+I92+I103","v":0}]
[null,"Frais de gestion (max : 8%) (hors frais de structure)",null,null,null,null,{"$f":"H109","v":0},{"$f":"IF(D10=\"Privé\",0,((H108-H103)*E109))","v":0},0]
[null,"Taux d'environnement",null,null,null,null,{"$f":"(G46-G45)*E110","v":0},null,{"$f":"G110","v":0},null,null,{"$f":"(IF($D$11=listesDeroulantes!$A$6,0.7,0)+IF($D$11=listesDeroulantes!$A$7,0.6,0)+IF($D$11=listesDeroulantes!$A$8,0.5,0))","v":0}]
[null,"Total",null,null,null,null,{"$f":"G108+G109+G110","v":0},{"$f":"H108+H109","v":0},{"$f":"I108+I109+I110","v":0}]
[]
[null,"Autres soutiens financiers sollicités ou obtenus pour le projet"]
[]
[null,{"$f":"\"                                   Nom des financeurs\"","v":"                                   Nom des financeurs"},null,"Nature et objet du financement",null,null,null,"Sollicité","Obtenu"]
[null,{"$f":"COUNTA(B$115:B115)","v":1}," "," "]
[null,{"$f":"COUNTA(B$115:B116)","v":2}," "," "]
[null,{"$f":"COUNTA(B$115:B117)","v":3}," "," "]
[null,{"$f":"COUNTA(B$115:B118)","v":4}," "," ",null,null,null," "," "]
[null,{"$f":"COUNTA(B$115:B119)","v":5}," "," ",null,null,null," "," "]
[null,{"$f":"COUNTA(B$115:B120)","v":6}," "," ",null,null,null," "," "]
[null,{"$f":"COUNTA(B$115:B121)","v":7}," "," ",null,null,null," "," "]
[null,{"$f":"COUNTA(B$115:B122)","v":8}," "," ",null,null,null," "," "]
[null,"Total des autres financements",null,null,null,null,null,{"$f":"SUM(H116:H123)","v":0},0]
[]
[null,"Commentaires (le cas échéant)"]
[]
[]
[]
[]
[]
[]
[]
[]
[null,"Les informations personnelles transmises dans ces documents sont obligatoires et seront conservées en fichiers par l'ANR pour assurer la conduite opérationnelle de l'évaluation et l'administration des dossiers.\nConformément à la loi n° 78-17 du 6 janvier 1978 modifiée, relative à l'Informatique, aux Fichiers et aux Libertés, les personnes concernées disposent d'un droit d'accès et de rectification des données personnelles les concernant. Les personnes concernées peuvent exercer ce droit en s'adressant à l'ANR (voir coordonnées dans le texte de l’appel à projets)."]

{"sheet":"part9","index":13,"n_rows":135,"n_cols":12,"rows_kept":135,"cut":false,"hidden":false,"merged":[[123,1,123,3],[125,1,125,8],[127,1,133,8],[134,1,136,8],[117,3,117,6],[118,3,118,6],[119,3,119,6],[120,3,120,6],[121,3,121,6],[122,3,122,6],[110,1,110,5],[112,1,112,8],[114,1,114,2],[114,3,114,6],[115,3,115,6],[116,3,116,6],[104,1,104,8],[105,1,105,8],[106,2,106,5],[107,1,107,5],[108,1,108,3],[109,1,109,3],[97,1,97,5],[98,1,98,5],[99,1,99,5],[100,1,100,5],[101,1,101,5],[102,1,102,3],[91,1,91,3],[92,1,92,8],[93,1,93,5],[94,1,94,5],[95,1,95,5],[96,1,96,5],[85,1,85,5],[86,1,86,5],[87,1,87,5],[88,1,88,5],[89,1,89,5],[90,1,90,5],[79,1,79,3],[80,1,80,3],[81,1,81,8],[82,1,82,5],[83,1,83,5],[84,1,84,5],[73,1,73,3],[74,1,74,3],[75,1,75,3],[76,1,76,3],[77,1,77,3],[78,1,78,3],[67,1,67,3],[68,1,68,3],[69,1,69,3],[70,1,70,3],[71,1,71,3],[72,1,72,3],[61,1,61,3],[62,1,62,3],[63,1,63,3],[64,1,64,3],[65,1,65,3],[66,1,66,3],[55,1,55,3],[56,1,56,3],[57,1,57,3],[58,1,58,3],[59,1,59,3],[60,1,60,3],[49,1,49,3],[50,1,50,3],[51,1,51,3],[52,1,52,3],[53,1,53,3],[54,1,54,3],[42,1,42,2],[43,1,43,2],[45,1,45,3],[46,1,46,8],[47,1,47,3],[48,1,48,3],[36,1,36,2],[37,1,37,2],[38,1,38,2],[39,1,39,2],[40,1,40,2],[41,1,41,2],[30,1,30,3],[31,1,31,3],[32,1,32,3],[33,1,33,3],[34,1,34,8],[35,1,35,2],[26,1,26,3],[27,1,27,3],[28,1,28,3],[29,1,29,3],[17,3,17,8],[18,3,18,8],[19,3,19,8],[20,3,20,4],[22,1,22,8],[23,1,23,8],[11,3,11,5],[13,1,13,8],[16,3,16,8],[0,0,2,4],[0,5,0,8],[1,5,1,6],[1,7,1,8],[24,1,24,3],[25,1,25,3],[2,5,2,6],[2,7,2,8],[4,1,4,8],[6,2,7,2],[6,3,7,8],[8,3,8,5],[9,3,9,5],[10,3,10,5]]}
["Identification de l'établissement partenaire",null,null,null,null,"Réservé à l'organisme gestionnaire du programme",null,null,null,{"$f":"G34","v":0},{"$f":"H34","v":0}]
[null,null,null,null,null,"N° de dossier",null,{"$f":"voletGeneral!$M$2&\"-\"&TEXT(NUM_PARTENAIRE(C2),\"0000\")","v":"ANR-17-EUR-XXXX-0009"},null,{"$f":"G46","v":0},{"$f":"H46","v":0},"Public"]
[null,null,null,null,null,"Acronyme",null,{"$f":"IF(voletGeneral!H10<>\"\",voletGeneral!H10,\"\")","v":""},null,{"$f":"G81","v":0},{"$f":"H81","v":0},"Privé"]
[null,null,20408,{"$f":"C4&\"-0\"","v":"20408-0"},null,null,null,null,null,{"$f":"G92","v":0},{"$f":"H92","v":0}]
[null,"Nom complet du partenaire",null,null,null,null,null,null,null,{"$f":"G103","v":0},{"$f":"H103","v":0}]
[null,null,null,null,null,null,null,null,null,{"$f":"G109","v":0},{"$f":"H109","v":0},"EPSCP"]
[null,null,"Nom complet du partenaire",null,null,null,null,null,null,{"$f":"G110","v":0},0,"EPST"]
[null,null,null,null,null,null,null,null,null,{"$f":"G111","v":0},{"$f":"H111","v":0},"EPA"]
[null,null,"Sigle du partenaire ",null,null,null,null,null,null,{"$f":"H124","v":0},{"$f":"I124","v":0},"EPIC"]
[null,null,"Secteur d'activité du partenaire",null,null,null,null,"co-porteur de l'EUR :",null,null,null,"Autre établissement public"]
[null,null,"Type de partenaire",null,null,null,null,null,null,null,null,"Groupement d'établissements"]
[null,null,"Numéro SIRET",null,null,null,null,null,null,null,null,"Fondation"]
[null,null,null,null,null,null,null,null,null,null,null,"Association"]
[null,"Personne habilitée à engager juridiquement l'établissement partenaire",null,null,null,null,null,null,null,null,null,"Petite entreprise "]
[null,null,null,null,null,null,null,null,null,null,null,"Moyenne entreprise"]
[null,null,"Genre",null,null,null,null,null,null,null,null,"Grande entreprise"]
[null,null,"Nom",null,null,null,null,null,null,null,null,"Statutaire"]
[null,null,"Prénom",null,null,null,null,null,null,null,null,"Non statutaire avec financement"]
[null,null,"Qualité",null,null,null,null,null,null,null,null,"Non statutaire sans financement"]
[null,null,"Courriel"]
[null,null,"Téléphone"]
[]
[null,"Demande financière ANR détaillée du projet"]
[null,"Equipement (coût unitaire HT > 4000 € - si le partenaire récupére la TVA, indiquer le coût hors TVA)"]
[null,"Description",null,null,"Coût unitaire","Quantité","Coût total","Partie aidée","Apport"]
[null,null,null,null,null,null,{"$f":"IF(AND(ISNUMBER(E26),ISNUMBER(F26)),E26*F26,\" \")","v":" "},null,{"$f":"IF(OR(ISNUMBER(G26),ISNUMBER(H26)),ROUND(IF(ISNUMBER(G26),G26,0)-IF(ISNUMBER(H26),H26,0),2),\" \")","v":" "}]
[null,null,null,null,null,null," ",null," "]
[null,null,null,null,null,null," ",null," "]
[null,null,null,null,null,null," ",null," "]
[null,null,null,null,null,null," ",null," "]
[null,null,null,null,null,null," ",null," "]
[null,null,null,null,null,null," ",null," "]
[null,null,null,null,null,null," ",null," "]
[null,"Total équipement",null,null,null,null,{"$f":"SUM(G26:G33)","v":0},{"$f":"SUM(H26:H33)","v":0},0]
[null,"Personnel"]
[null,"Description",null,"Statut","Coût unitaire","Nb. h.mois","Coût total","Aide","Apport"]
[null,null,null,null,null,null,{"$f":"IF(AND(ISNUMBER(E37),ISNUMBER(F37)),E37*F37,\" \")","v":" "},null,{"$f":"IF(OR(ISNUMBER(G37),ISNUMBER(H37)),ROUND(IF(ISNUMBER(G37),G37,0)-IF(ISNUMBER(H37),H37,0),2),\" \")","v":" "}]
[null,null,null,null,null,null," ",null," "]
[null,null,null,null,null,null," ",null," "]
[null,null,null,null,null,null," ",null," "]
[null,null,null,null,null,null," ",null,{"$f":"IF(OR(ISNUMBER(G41),ISNUMBER(H41)),ROUND(IF(ISNUMBER(G41),G41,0)-IF(ISNUMBER(H41),H41,0),2),\" \")","v":" "}]
[null,null,null,null,null,null," ",null," "]
[null,null,null,null,null,null," ",null," "]
[null,null,null,null,null,null," ",null," "]
[null,"Primes et heures complémentaires pour le personnel statutaire",null,null,null,null,null,{"$f":"IF(G45<>\" \",G45,\" \")","v":0}]
[null,"Total personnel",null,null,null,{"$f":"SUM(F37:F44)","v":0},{"$f":"SUM(G37:G45)","v":0},{"$f":"SUM(H37:H45)","v":0},{"$f":"SUM(I37:I44)","v":0}]
[null,"Fonctionnement (si le partenaire récupère la TVA, indiquer le coût hors TVA)"]
[null,"Description",null,null,"Coût unitaire","Quantité","Coût total","Partie aidée","Apport"]
[null,"Prestations de service externes"]
[null,null,null,null,null,null,null,null,{"$f":"IF(OR(ISNUMBER(G50),ISNUMBER(H50)),ROUND(IF(ISNUMBER(G50),G50,0)-IF(ISNUMBER(H50),H50,0),2),\" \")","v":" "}]
[null,null,null,null,null,null,null,null," "]
[null,null,null,null,null,null,null,null," "]
[null,null,null,null,null,null,null,null," "]
[null,null,null,null,null,null,null,null," "]
[null,null,null,null,null,null,null,null," "]
[null,null,null,null,null,null,null,null," "]
[null,null,null,null,null,null,null,null," "]
[null,"Sous-total prestations de service externes",null,null,null,null,{"$f":"SUM(G50:G57)","v":0},{"$f":"SUM(H50:H57)","v":0},{"$f":"SUM(I50:I57)","v":0}]
[null,"Missions",null,null,"Coût unitaire","Quantité","Coût total","Partie aidée","Apport"]
[null,null,null,null,null,null,null,null,{"$f":"IF(OR(ISNUMBER(G60),ISNUMBER(H60)),ROUND(IF(ISNUMBER(G60),G60,0)-IF(ISNUMBER(H60),H60,0),2),\" \")","v":" "}]
[null,null,null,null,null,null,null,null," "]
[null,null,null,null,null,null,null,null," "]
[null,null,null,null,null,null,null,null," "]
[null,null,null,null,null,null,null,null," "]
[null,null,null,null,null,null,null,null," "]
[null,null,null,null,null,null,null,null," "]
[null,null,null,null,null,null,null,null," "]
[null,"Sous-total missions",null,null,null,null,{"$f":"SUM(G60:G67)","v":0},0,0]
[null,"Autres dépenses externes",null,null,"Coût unitaire","Quantité","Coût total","Partie aidée","Apport"]
[null,null,null,null,null,null,{"$f":"IF(AND(ISNUMBER(E70),ISNUMBER(F70)),E70*F70,\" \")","v":" "},null,{"$f":"IF(OR(ISNUMBER(G70),ISNUMBER(H70)),ROUND(IF(ISNUMBER(G70),G70,0)-IF(ISNUMBER(H70),H70,0),2),\" \")","v":" "}]
[null,null,null,null,null,null," ",null," "]
[null,null,null,null,null,null," ",null," "]
[null,null,null,null,null,null," ",null," "]
[null,null,null,null,null,null," ",null," "]
[null,null,null,null,null,null," ",null," "]
[null,null,null,null,null,null," ",null," "]
[null,null,null,null,null,null," ",null," "]
[null,null,null,null,null,null," ",null," "]
[null,"Sous-total autres dépenses externes",null,null,null,null,{"$f":"SUM(G70:G78)","v":0},0,0]
[null,null,null,null,null,null,"Coût total","Partie aidée","Apport"]
[null,"Total fonctionnement",null,null,null,null,{"$f":"G79+G68+G58","v":0},{"$f":"H79+H68+H58","v":0},{"$f":"I79+I68+I58","v":0}]
[null,"Facturation interne"]
[null,"Description",null,null,null,null,"Coût total","Partie aidée","Apport"]
[null," ",null,null,null,null," ",null,{"$f":"IF(OR(ISNUMBER(G84),ISNUMBER(H84)),ROUND(IF(ISNUMBER(G84),G84,0)-IF(ISNUMBER(H84),H84,0),2),\" \")","v":" "}]
[null," ",null,null,null,null,null,null," "]
[null," ",null,null,null,null,null,null," "]
[null," ",null,null,null,null,null,null," "]
[null," ",null,null,null,null," "," "," "]
[null," ",null,null,null,null," "," "," "]
[null," ",null,null,null,null," "," "," "]
[null," ",null,null,null,null," "," "," "]
[null,"Total facturation interne",null,null,null,null,{"$f":"SUM(G84:G91)","v":0},{"$f":"SUM(H84:H91)","v":0},0]
[null,"Frais de structure"]
[null,"Description",null,null,null,null,"Coût total","Partie aidée","Apport"]
[null," ",null,null,null,null," ",null,{"$f":"IF(OR(ISNUMBER(G95),ISNUMBER(H95)),ROUND(IF(ISNUMBER(G95),G95,0)-IF(ISNUMBER(H95),H95,0),2),\" \")","v":" "}]
[null," ",null,null,null,null,null,null," "]
[null," ",null,null,null,null,null,null," "]
[null," ",null,null,null,null," "," "," "]
[null," ",null,null,null,null," "," "," "]
[null," ",null,null,null,null," "," "," "]
[null," ",null,null,null,null," "," "," "]
[null," ",null,null,null,null," "," "," "]
[null,"Total frais de structure",null,null,null,null,{"$f":"SUM(G95:G102)","v":0},{"$f":"SUM(H95:H102)","v":0},0]
[]
[null,"Synthèse de la demande financière"]
[]
[null,null,null,null,null,null,"Coût complet","Aide demandée","Apport"]
[null,"Total hors frais de gestion",null,null,null,null,{"$f":"G34+G46+G81+G92+G103","v":0},{"$f":"IF(D10=\"Privé\",0,H34+H46+H81+H92+H103)","v":0},{"$f":"I34+I46+I81+I92+I103","v":0}]
[null,"Frais de gestion (max : 8%) (hors frais de structure)",null,null,null,null,{"$f":"H109","v":0},{"$f":"IF(D10=\"Privé\",0,((H108-H103)*E109))","v":0},0]
[null,"Taux d'environnement",null,null,null,null,{"$f":"(G46-G45)*E110","v":0},null,{"$f":"G110","v":0},null,null,{"$f":"(IF($D$11=listesDeroulantes!$A$6,0.7,0)+IF($D$11=listesDeroulantes!$A$7,0.6,0)+IF($D$11=listesDeroulantes!$A$8,0.5,0))","v":0}]
[null,"Total",null,null,null,null,{"$f":"G108+G109+G110","v":0},{"$f":"H108+H109","v":0},{"$f":"I108+I109+I110","v":0}]
[]
[null,"Autres soutiens financiers sollicités ou obtenus pour le projet"]
[]
[null,{"$f":"\"                                   Nom des financeurs\"","v":"                                   Nom des financeurs"},null,"Nature et objet du financement",null,null,null,"Sollicité","Obtenu"]
[null,{"$f":"COUNTA(B$115:B115)","v":1}," "," "]
[null,{"$f":"COUNTA(B$115:B116)","v":2}," "," "]
[null,{"$f":"COUNTA(B$115:B117)","v":3}," "," "]
[null,{"$f":"COUNTA(B$115:B118)","v":4}," "," ",null,null,null," "," "]
[null,{"$f":"COUNTA(B$115:B119)","v":5}," "," ",null,null,null," "," "]
[null,{"$f":"COUNTA(B$115:B120)","v":6}," "," ",null,null,null," "," "]
[null,{"$f":"COUNTA(B$115:B121)","v":7}," "," ",null,null,null," "," "]
[null,{"$f":"COUNTA(B$115:B122)","v":8}," "," ",null,null,null," "," "]
[null,"Total des autres financements",null,null,null,null,null,{"$f":"SUM(H116:H123)","v":0},0]
[]
[null,"Commentaires (le cas échéant)"]
[]
[]
[]
[]
[]
[]
[]
[]
[null,"Les informations personnelles transmises dans ces documents sont obligatoires et seront conservées en fichiers par l'ANR pour assurer la conduite opérationnelle de l'évaluation et l'administration des dossiers.\nConformément à la loi n° 78-17 du 6 janvier 1978 modifiée, relative à l'Informatique, aux Fichiers et aux Libertés, les personnes concernées disposent d'un droit d'accès et de rectification des données personnelles les concernant. Les personnes concernées peuvent exercer ce droit en s'adressant à l'ANR (voir coordonnées dans le texte de l’appel à projets)."]

{"sheet":"part10","index":14,"n_rows":135,"n_cols":12,"rows_kept":135,"cut":false,"hidden":false,"merged":[[123,1,123,3],[125,1,125,8],[127,1,133,8],[134,1,136,8],[117,3,117,6],[118,3,118,6],[119,3,119,6],[120,3,120,6],[121,3,121,6],[122,3,122,6],[110,1,110,5],[112,1,112,8],[114,1,114,2],[114,3,114,6],[115,3,115,6],[116,3,116,6],[104,1,104,8],[105,1,105,8],[106,2,106,5],[107,1,107,5],[108,1,108,3],[109,1,109,3],[97,1,97,5],[98,1,98,5],[99,1,99,5],[100,1,100,5],[101,1,101,5],[102,1,102,3],[91,1,91,3],[92,1,92,8],[93,1,93,5],[94,1,94,5],[95,1,95,5],[96,1,96,5],[85,1,85,5],[86,1,86,5],[87,1,87,5],[88,1,88,5],[89,1,89,5],[90,1,90,5],[79,1,79,3],[80,1,80,3],[81,1,81,8],[82,1,82,5],[83,1,83,5],[84,1,84,5],[73,1,73,3],[74,1,74,3],[75,1,75,3],[76,1,76,3],[77,1,77,3],[78,1,78,3],[67,1,67,3],[68,1,68,3],[69,1,69,3],[70,1,70,3],[71,1,71,3],[72,1,72,3],[61,1,61,3],[62,1,62,3],[63,1,63,3],[64,1,64,3],[65,1,65,3],[66,1,66,3],[55,1,55,3],[56,1,56,3],[57,1,57,3],[58,1,58,3],[59,1,59,3],[60,1,60,3],[49,1,49,3],[50,1,50,3],[51,1,51,3],[52,1,52,3],[53,1,53,3],[54,1,54,3],[42,1,42,2],[43,1,43,2],[45,1,45,3],[46,1,46,8],[47,1,47,3],[48,1,48,3],[36,1,36,2],[37,1,37,2],[38,1,38,2],[39,1,39,2],[40,1,40,2],[41,1,41,2],[30,1,30,3],[31,1,31,3],[32,1,32,3],[33,1,33,3],[34,1,34,8],[35,1,35,2],[26,1,26,3],[27,1,27,3],[28,1,28,3],[29,1,29,3],[17,3,17,8],[18,3,18,8],[19,3,19,8],[20,3,20,4],[22,1,22,8],[23,1,23,8],[11,3,11,5],[13,1,13,8],[16,3,16,8],[0,0,2,4],[0,5,0,8],[1,5,1,6],[1,7,1,8],[24,1,24,3],[25,1,25,3],[2,5,2,6],[2,7,2,8],[4,1,4,8],[6,2,7,2],[6,3,7,8],[8,3,8,5],[9,3,9,5],[10,3,10,5]]}
["Identification de l'établissement partenaire",null,null,null,null,"Réservé à l'organisme gestionnaire du programme",null,null,null,{"$f":"G34","v":0},{"$f":"H34","v":0}]
[null,null,null,null,null,"N° de dossier",null,{"$f":"voletGeneral!$M$2&\"-\"&TEXT(NUM_PARTENAIRE(C2),\"0000\")","v":"ANR-17-EUR-XXXX-0010"},null,{"$f":"G46","v":0},{"$f":"H46","v":0},"Public"]
[null,null,null,null,null,"Acronyme",null,{"$f":"IF(voletGeneral!H10<>\"\",voletGeneral!H10,\"\")","v":""},null,{"$f":"G81","v":0},{"$f":"H81","v":0},"Privé"]
[null,null,20408,{"$f":"C4&\"-0\"","v":"20408-0"},null,null,null,null,null,{"$f":"G92","v":0},{"$f":"H92","v":0}]
[null,"Nom complet du partenaire",null,null,null,null,null,null,null,{"$f":"G103","v":0},{"$f":"H103","v":0}]
[null,null,null,null,null,null,null,null,null,{"$f":"G109","v":0},{"$f":"H109","v":0},"EPSCP"]
[null,null,"Nom complet du partenaire",null,null,null,null,null,null,{"$f":"G110","v":0},0,"EPST"]
[null,null,null,null,null,null,null,null,null,{"$f":"G111","v":0},{"$f":"H111","v":0},"EPA"]
[null,null,"Sigle du partenaire ",null,null,null,null,null,null,{"$f":"H124","v":0},{"$f":"I124","v":0},"EPIC"]
[null,null,"Secteur d'activité du partenaire",null,null,null,null,"co-porteur de l'EUR :",null,null,null,"Autre établissement public"]
[null,null,"Type de partenaire",null,null,null,null,null,null,null,null,"Groupement d'établissements"]
[null,null,"Numéro SIRET",null,null,null,null,null,null,null,null,"Fondation"]
[null,null,null,null,null,null,null,null,null,null,null,"Association"]
[null,"Personne habilitée à engager juridiquement l'établissement partenaire",null,null,null,null,null,null,null,null,null,"Petite entreprise "]
[null,null,null,null,null,null,null,null,null,null,null,"Moyenne entreprise"]
[null,null,"Genre",null,null,null,null,null,null,null,null,"Grande entreprise"]
[null,null,"Nom",null,null,null,null,null,null,null,null,"Statutaire"]
[null,null,"Prénom",null,null,null,null,null,null,null,null,"Non statutaire avec financement"]
[null,null,"Qualité",null,null,null,null,null,null,null,null,"Non statutaire sans financement"]
[null,null,"Courriel"]
[null,null,"Téléphone"]
[]
[null,"Demande financière ANR détaillée du projet"]
[null,"Equipement (coût unitaire HT > 4000 € - si le partenaire récupére la TVA, indiquer le coût hors TVA)"]
[null,"Description",null,null,"Coût unitaire","Quantité","Coût total","Partie aidée","Apport"]
[null,null,null,null,null,null,{"$f":"IF(AND(ISNUMBER(E26),ISNUMBER(F26)),E26*F26,\" \")","v":" "},null,{"$f":"IF(OR(ISNUMBER(G26),ISNUMBER(H26)),ROUND(IF(ISNUMBER(G26),G26,0)-IF(ISNUMBER(H26),H26,0),2),\" \")","v":" "}]
[null,null,null,null,null,null," ",null," "]
[null,null,null,null,null,null," ",null," "]
[null,null,null,null,null,null," ",null," "]
[null,null,null,null,null,null," ",null," "]
[null,null,null,null,null,null," ",null," "]
[null,null,null,null,null,null," ",null," "]
[null,null,null,null,null,null," ",null," "]
[null,"Total équipement",null,null,null,null,{"$f":"SUM(G26:G33)","v":0},{"$f":"SUM(H26:H33)","v":0},0]
[null,"Personnel"]
[null,"Description",null,"Statut","Coût unitaire","Nb. h.mois","Coût total","Aide","Apport"]
[null,null,null,null,null,null,{"$f":"IF(AND(ISNUMBER(E37),ISNUMBER(F37)),E37*F37,\" \")","v":" "},null,{"$f":"IF(OR(ISNUMBER(G37),ISNUMBER(H37)),ROUND(IF(ISNUMBER(G37),G37,0)-IF(ISNUMBER(H37),H37,0),2),\" \")","v":" "}]
[null,null,null,null,null,null," ",null," "]
[null,null,null,null,null,null," ",null," "]
[null,null,null,null,null,null," ",null," "]
[null,null,null,null,null,null," ",null,{"$f":"IF(OR(ISNUMBER(G41),ISNUMBER(H41)),ROUND(IF(ISNUMBER(G41),G41,0)-IF(ISNUMBER(H41),H41,0),2),\" \")","v":" "}]
[null,null,null,null,null,null," ",null," "]
[null,null,null,null,null,null," ",null," "]
[null,null,null,null,null,null," ",null," "]
[null,"Primes et heures complémentaires pour le personnel statutaire",null,null,null,null,null,{"$f":"IF(G45<>\" \",G45,\" \")","v":0}]
[null,"Total personnel",null,null,null,{"$f":"SUM(F37:F44)","v":0},{"$f":"SUM(G37:G45)","v":0},{"$f":"SUM(H37:H45)","v":0},{"$f":"SUM(I37:I44)","v":0}]
[null,"Fonctionnement (si le partenaire récupère la TVA, indiquer le coût hors TVA)"]
[null,"Description",null,null,"Coût unitaire","Quantité","Coût total","Partie aidée","Apport"]
[null,"Prestations de service externes"]
[null,null,null,null,null,null,null,null,{"$f":"IF(OR(ISNUMBER(G50),ISNUMBER(H50)),ROUND(IF(ISNUMBER(G50),G50,0)-IF(ISNUMBER(H50),H50,0),2),\" \")","v":" "}]
[null,null,null,null,null,null,null,null," "]
[null,null,null,null,null,null,null,null," "]
[null,null,null,null,null,null,null,null," "]
[null,null,null,null,null,null,null,null," "]
[null,null,null,null,null,null,null,null," "]
[null,null,null,null,null,null,null,null," "]
[null,null,null,null,null,null,null,null," "]
[null,"Sous-total prestations de service externes",null,null,null,null,{"$f":"SUM(G50:G57)","v":0},{"$f":"SUM(H50:H57)","v":0},{"$f":"SUM(I50:I57)","v":0}]
[null,"Missions",null,null,"Coût unitaire","Quantité","Coût total","Partie aidée","Apport"]
[null,null,null,null,null,null,null,null,{"$f":"IF(OR(ISNUMBER(G60),ISNUMBER(H60)),ROUND(IF(ISNUMBER(G60),G60,0)-IF(ISNUMBER(H60),H60,0),2),\" \")","v":" "}]
[null,null,null,null,null,null,null,null," "]
[null,null,null,null,null,null,null,null," "]
[null,null,null,null,null,null,null,null," "]
[null,null,null,null,null,null,null,null," "]
[null,null,null,null,null,null,null,null," "]
[null,null,null,null,null,null,null,null," "]
[null,null,null,null,null,null,null,null," "]
[null,"Sous-total missions",null,null,null,null,{"$f":"SUM(G60:G67)","v":0},0,0]
[null,"Autres dépenses externes",null,null,"Coût unitaire","Quantité","Coût total","Partie aidée","Apport"]
[null,null,null,null,null,null,{"$f":"IF(AND(ISNUMBER(E70),ISNUMBER(F70)),E70*F70,\" \")","v":" "},null,{"$f":"IF(OR(ISNUMBER(G70),ISNUMBER(H70)),ROUND(IF(ISNUMBER(G70),G70,0)-IF(ISNUMBER(H70),H70,0),2),\" \")","v":" "}]
[null,null,null,null,null,null," ",null," "]
[null,null,null,null,null,null," ",null," "]
[null,null,null,null,null,null," ",null," "]
[null,null,null,null,null,null," ",null," "]
[null,null,null,null,null,null," ",null," "]
[null,null,null,null,null,null," ",null," "]
[null,null,null,null,null,null," ",null," "]
[null,null,null,null,null,null," ",null," "]
[null,"Sous-total autres dépenses externes",null,null,null,null,{"$f":"SUM(G70:G78)","v":0},0,0]
[null,null,null,null,null,null,"Coût total","Partie aidée","Apport"]
[null,"Total fonctionnement",null,null,null,null,{"$f":"G79+G68+G58","v":0},{"$f":"H79+H68+H58","v":0},{"$f":"I79+I68+I58","v":0}]
[null,"Facturation interne"]
[null,"Description",null,null,null,null,"Coût total","Partie aidée","Apport"]
[null," ",null,null,null,null," ",null,{"$f":"IF(OR(ISNUMBER(G84),ISNUMBER(H84)),ROUND(IF(ISNUMBER(G84),G84,0)-IF(ISNUMBER(H84),H84,0),2),\" \")","v":" "}]
[null," ",null,null,null,null,null,null," "]
[null," ",null,null,null,null,null,null," "]
[null," ",null,null,null,null,null,null," "]
[null," ",null,null,null,null," "," "," "]
[null," ",null,null,null,null," "," "," "]
[null," ",null,null,null,null," "," "," "]
[null," ",null,null,null,null," "," "," "]
[null,"Total facturation interne",null,null,null,null,{"$f":"SUM(G84:G91)","v":0},{"$f":"SUM(H84:H91)","v":0},0]
[null,"Frais de structure"]
[null,"Description",null,null,null,null,"Coût total","Partie aidée","Apport"]
[null," ",null,null,null,null," ",null,{"$f":"IF(OR(ISNUMBER(G95),ISNUMBER(H95)),ROUND(IF(ISNUMBER(G95),G95,0)-IF(ISNUMBER(H95),H95,0),2),\" \")","v":" "}]
[null," ",null,null,null,null,null,null," "]
[null," ",null,null,null,null,null,null," "]
[null," ",null,null,null,null," "," "," "]
[null," ",null,null,null,null," "," "," "]
[null," ",null,null,null,null," "," "," "]
[null," ",null,null,null,null," "," "," "]
[null," ",null,null,null,null," "," "," "]
[null,"Total frais de structure",null,null,null,null,{"$f":"SUM(G95:G102)","v":0},{"$f":"SUM(H95:H102)","v":0},0]
[]
[null,"Synthèse de la demande financière"]
[]
[null,null,null,null,null,null,"Coût complet","Aide demandée","Apport"]
[null,"Total hors frais de gestion",null,null,null,null,{"$f":"G34+G46+G81+G92+G103","v":0},{"$f":"IF(D10=\"Privé\",0,H34+H46+H81+H92+H103)","v":0},{"$f":"I34+I46+I81+I92+I103","v":0}]
[null,"Frais de gestion (max : 8%) (hors frais de structure)",null,null,null,null,{"$f":"H109","v":0},{"$f":"IF(D10=\"Privé\",0,((H108-H103)*E109))","v":0},0]
[null,"Taux d'environnement",null,null,null,null,{"$f":"(G46-G45)*E110","v":0},null,{"$f":"G110","v":0},null,null,{"$f":"(IF($D$11=listesDeroulantes!$A$6,0.7,0)+IF($D$11=listesDeroulantes!$A$7,0.6,0)+IF($D$11=listesDeroulantes!$A$8,0.5,0))","v":0}]
[null,"Total",null,null,null,null,{"$f":"G108+G109+G110","v":0},{"$f":"H108+H109","v":0},{"$f":"I108+I109+I110","v":0}]
[]
[null,"Autres soutiens financiers sollicités ou obtenus pour le projet"]
[]
[null,{"$f":"\"                                   Nom des financeurs\"","v":"                                   Nom des financeurs"},null,"Nature et objet du financement",null,null,null,"Sollicité","Obtenu"]
[null,{"$f":"COUNTA(B$115:B115)","v":1}," "," "]
[null,{"$f":"COUNTA(B$115:B116)","v":2}," "," "]
[null,{"$f":"COUNTA(B$115:B117)","v":3}," "," "]
[null,{"$f":"COUNTA(B$115:B118)","v":4}," "," ",null,null,null," "," "]
[null,{"$f":"COUNTA(B$115:B119)","v":5}," "," ",null,null,null," "," "]
[null,{"$f":"COUNTA(B$115:B120)","v":6}," "," ",null,null,null," "," "]
[null,{"$f":"COUNTA(B$115:B121)","v":7}," "," ",null,null,null," "," "]
[null,{"$f":"COUNTA(B$115:B122)","v":8}," "," ",null,null,null," "," "]
[null,"Total des autres financements",null,null,null,null,null,{"$f":"SUM(H116:H123)","v":0},0]
[]
[null,"Commentaires (le cas échéant)"]
[]
[]
[]
[]
[]
[]
[]
[]
[null,"Les informations personnelles transmises dans ces documents sont obligatoires et seront conservées en fichiers par l'ANR pour assurer la conduite opérationnelle de l'évaluation et l'administration des dossiers.\nConformément à la loi n° 78-17 du 6 janvier 1978 modifiée, relative à l'Informatique, aux Fichiers et aux Libertés, les personnes concernées disposent d'un droit d'accès et de rectification des données personnelles les concernant. Les personnes concernées peuvent exercer ce droit en s'adressant à l'ANR (voir coordonnées dans le texte de l’appel à projets)."]

{"sheet":"part11","index":15,"n_rows":135,"n_cols":12,"rows_kept":135,"cut":false,"hidden":false,"merged":[[123,1,123,3],[125,1,125,8],[127,1,133,8],[134,1,136,8],[117,3,117,6],[118,3,118,6],[119,3,119,6],[120,3,120,6],[121,3,121,6],[122,3,122,6],[110,1,110,5],[112,1,112,8],[114,1,114,2],[114,3,114,6],[115,3,115,6],[116,3,116,6],[104,1,104,8],[105,1,105,8],[106,2,106,5],[107,1,107,5],[108,1,108,3],[109,1,109,3],[97,1,97,5],[98,1,98,5],[99,1,99,5],[100,1,100,5],[101,1,101,5],[102,1,102,3],[91,1,91,3],[92,1,92,8],[93,1,93,5],[94,1,94,5],[95,1,95,5],[96,1,96,5],[85,1,85,5],[86,1,86,5],[87,1,87,5],[88,1,88,5],[89,1,89,5],[90,1,90,5],[79,1,79,3],[80,1,80,3],[81,1,81,8],[82,1,82,5],[83,1,83,5],[84,1,84,5],[73,1,73,3],[74,1,74,3],[75,1,75,3],[76,1,76,3],[77,1,77,3],[78,1,78,3],[67,1,67,3],[68,1,68,3],[69,1,69,3],[70,1,70,3],[71,1,71,3],[72,1,72,3],[61,1,61,3],[62,1,62,3],[63,1,63,3],[64,1,64,3],[65,1,65,3],[66,1,66,3],[55,1,55,3],[56,1,56,3],[57,1,57,3],[58,1,58,3],[59,1,59,3],[60,1,60,3],[49,1,49,3],[50,1,50,3],[51,1,51,3],[52,1,52,3],[53,1,53,3],[54,1,54,3],[42,1,42,2],[43,1,43,2],[45,1,45,3],[46,1,46,8],[47,1,47,3],[48,1,48,3],[36,1,36,2],[37,1,37,2],[38,1,38,2],[39,1,39,2],[40,1,40,2],[41,1,41,2],[30,1,30,3],[31,1,31,3],[32,1,32,3],[33,1,33,3],[34,1,34,8],[35,1,35,2],[26,1,26,3],[27,1,27,3],[28,1,28,3],[29,1,29,3],[17,3,17,8],[18,3,18,8],[19,3,19,8],[20,3,20,4],[22,1,22,8],[23,1,23,8],[11,3,11,5],[13,1,13,8],[16,3,16,8],[0,0,2,4],[0,5,0,8],[1,5,1,6],[1,7,1,8],[24,1,24,3],[25,1,25,3],[2,5,2,6],[2,7,2,8],[4,1,4,8],[6,2,7,2],[6,3,7,8],[8,3,8,5],[9,3,9,5],[10,3,10,5]]}
["Identification de l'établissement partenaire",null,null,null,null,"Réservé à l'organisme gestionnaire du programme",null,null,null,{"$f":"G34","v":0},{"$f":"H34","v":0}]
[null,null,null,null,null,"N° de dossier",null,{"$f":"voletGeneral!$M$2&\"-\"&TEXT(NUM_PARTENAIRE(C2),\"0000\")","v":"ANR-17-EUR-XXXX-0011"},null,{"$f":"G46","v":0},{"$f":"H46","v":0},"Public"]
[null,null,null,null,null,"Acronyme",null,{"$f":"IF(voletGeneral!H10<>\"\",voletGeneral!H10,\"\")","v":""},null,{"$f":"G81","v":0},{"$f":"H81","v":0},"Privé"]
[null,null,20408,{"$f":"C4&\"-0\"","v":"20408-0"},null,null,null,null,null,{"$f":"G92","v":0},{"$f":"H92","v":0}]
[null,"Nom complet du partenaire",null,null,null,null,null,null,null,{"$f":"G103","v":0},{"$f":"H103","v":0}]
[null,null,null,null,null,null,null,null,null,{"$f":"G109","v":0},{"$f":"H109","v":0},"EPSCP"]
[null,null,"Nom complet du partenaire",null,null,null,null,null,null,{"$f":"G110","v":0},0,"EPST"]
[null,null,null,null,null,null,null,null,null,{"$f":"G111","v":0},{"$f":"H111","v":0},"EPA"]
[null,null,"Sigle du partenaire ",null,null,null,null,null,null,{"$f":"H124","v":0},{"$f":"I124","v":0},"EPIC"]
[null,null,"Secteur d'activité du partenaire",null,null,null,null,"co-porteur de l'EUR :",null,null,null,"Autre établissement public"]
[null,null,"Type de partenaire",null,null,null,null,null,null,null,null,"Groupement d'établissements"]
[null,null,"Numéro SIRET",null,null,null,null,null,null,null,null,"Fondation"]
[null,null,null,null,null,null,null,null,null,null,null,"Association"]
[null,"Personne habilitée à engager juridiquement l'établissement partenaire",null,null,null,null,null,null,null,null,null,"Petite entreprise "]
[null,null,null,null,null,null,null,null,null,null,null,"Moyenne entreprise"]
[null,null,"Genre",null,null,null,null,null,null,null,null,"Grande entreprise"]
[null,null,"Nom",null,null,null,null,null,null,null,null,"Statutaire"]
[null,null,"Prénom",null,null,null,null,null,null,null,null,"Non statutaire avec financement"]
[null,null,"Qualité",null,null,null,null,null,null,null,null,"Non statutaire sans financement"]
[null,null,"Courriel"]
[null,null,"Téléphone"]
[]
[null,"Demande financière ANR détaillée du projet"]
[null,"Equipement (coût unitaire HT > 4000 € - si le partenaire récupére la TVA, indiquer le coût hors TVA)"]
[null,"Description",null,null,"Coût unitaire","Quantité","Coût total","Partie aidée","Apport"]
[null,null,null,null,null,null,{"$f":"IF(AND(ISNUMBER(E26),ISNUMBER(F26)),E26*F26,\" \")","v":" "},null,{"$f":"IF(OR(ISNUMBER(G26),ISNUMBER(H26)),ROUND(IF(ISNUMBER(G26),G26,0)-IF(ISNUMBER(H26),H26,0),2),\" \")","v":" "}]
[null,null,null,null,null,null," ",null," "]
[null,null,null,null,null,null," ",null," "]
[null,null,null,null,null,null," ",null," "]
[null,null,null,null,null,null," ",null," "]
[null,null,null,null,null,null," ",null," "]
[null,null,null,null,null,null," ",null," "]
[null,null,null,null,null,null," ",null," "]
[null,"Total équipement",null,null,null,null,{"$f":"SUM(G26:G33)","v":0},{"$f":"SUM(H26:H33)","v":0},0]
[null,"Personnel"]
[null,"Description",null,"Statut","Coût unitaire","Nb. h.mois","Coût total","Aide","Apport"]
[null,null,null,null,null,null,{"$f":"IF(AND(ISNUMBER(E37),ISNUMBER(F37)),E37*F37,\" \")","v":" "},null,{"$f":"IF(OR(ISNUMBER(G37),ISNUMBER(H37)),ROUND(IF(ISNUMBER(G37),G37,0)-IF(ISNUMBER(H37),H37,0),2),\" \")","v":" "}]
[null,null,null,null,null,null," ",null," "]
[null,null,null,null,null,null," ",null," "]
[null,null,null,null,null,null," ",null," "]
[null,null,null,null,null,null," ",null,{"$f":"IF(OR(ISNUMBER(G41),ISNUMBER(H41)),ROUND(IF(ISNUMBER(G41),G41,0)-IF(ISNUMBER(H41),H41,0),2),\" \")","v":" "}]
[null,null,null,null,null,null," ",null," "]
[null,null,null,null,null,null," ",null," "]
[null,null,null,null,null,null," ",null," "]
[null,"Primes et heures complémentaires pour le personnel statutaire",null,null,null,null,null,{"$f":"IF(G45<>\" \",G45,\" \")","v":0}]
[null,"Total personnel",null,null,null,{"$f":"SUM(F37:F44)","v":0},{"$f":"SUM(G37:G45)","v":0},{"$f":"SUM(H37:H45)","v":0},{"$f":"SUM(I37:I44)","v":0}]
[null,"Fonctionnement (si le partenaire récupère la TVA, indiquer le coût hors TVA)"]
[null,"Description",null,null,"Coût unitaire","Quantité","Coût total","Partie aidée","Apport"]
[null,"Prestations de service externes"]
[null,null,null,null,null,null,null,null,{"$f":"IF(OR(ISNUMBER(G50),ISNUMBER(H50)),ROUND(IF(ISNUMBER(G50),G50,0)-IF(ISNUMBER(H50),H50,0),2),\" \")","v":" "}]
[null,null,null,null,null,null,null,null," "]
[null,null,null,null,null,null,null,null," "]
[null,null,null,null,null,null,null,null," "]
[null,null,null,null,null,null,null,null," "]
[null,null,null,null,null,null,null,null," "]
[null,null,null,null,null,null,null,null," "]
[null,null,null,null,null,null,null,null," "]
[null,"Sous-total prestations de service externes",null,null,null,null,{"$f":"SUM(G50:G57)","v":0},{"$f":"SUM(H50:H57)","v":0},{"$f":"SUM(I50:I57)","v":0}]
[null,"Missions",null,null,"Coût unitaire","Quantité","Coût total","Partie aidée","Apport"]
[null,null,null,null,null,null,null,null,{"$f":"IF(OR(ISNUMBER(G60),ISNUMBER(H60)),ROUND(IF(ISNUMBER(G60),G60,0)-IF(ISNUMBER(H60),H60,0),2),\" \")","v":" "}]
[null,null,null,null,null,null,null,null," "]
[null,null,null,null,null,null,null,null," "]
[null,null,null,null,null,null,null,null," "]
[null,null,null,null,null,null,null,null," "]
[null,null,null,null,null,null,null,null," "]
[null,null,null,null,null,null,null,null," "]
[null,null,null,null,null,null,null,null," "]
[null,"Sous-total missions",null,null,null,null,{"$f":"SUM(G60:G67)","v":0},0,0]
[null,"Autres dépenses externes",null,null,"Coût unitaire","Quantité","Coût total","Partie aidée","Apport"]
[null,null,null,null,null,null,{"$f":"IF(AND(ISNUMBER(E70),ISNUMBER(F70)),E70*F70,\" \")","v":" "},null,{"$f":"IF(OR(ISNUMBER(G70),ISNUMBER(H70)),ROUND(IF(ISNUMBER(G70),G70,0)-IF(ISNUMBER(H70),H70,0),2),\" \")","v":" "}]
[null,null,null,null,null,null," ",null," "]
[null,null,null,null,null,null," ",null," "]
[null,null,null,null,null,null," ",null," "]
[null,null,null,null,null,null," ",null," "]
[null,null,null,null,null,null," ",null," "]
[null,null,null,null,null,null," ",null," "]
[null,null,null,null,null,null," ",null," "]
[null,null,null,null,null,null," ",null," "]
[null,"Sous-total autres dépenses externes",null,null,null,null,{"$f":"SUM(G70:G78)","v":0},0,0]
[null,null,null,null,null,null,"Coût total","Partie aidée","Apport"]
[null,"Total fonctionnement",null,null,null,null,{"$f":"G79+G68+G58","v":0},{"$f":"H79+H68+H58","v":0},{"$f":"I79+I68+I58","v":0}]
[null,"Facturation interne"]
[null,"Description",null,null,null,null,"Coût total","Partie aidée","Apport"]
[null," ",null,null,null,null," ",null,{"$f":"IF(OR(ISNUMBER(G84),ISNUMBER(H84)),ROUND(IF(ISNUMBER(G84),G84,0)-IF(ISNUMBER(H84),H84,0),2),\" \")","v":" "}]
[null," ",null,null,null,null,null,null," "]
[null," ",null,null,null,null,null,null," "]
[null," ",null,null,null,null,null,null," "]
[null," ",null,null,null,null," "," "," "]
[null," ",null,null,null,null," "," "," "]
[null," ",null,null,null,null," "," "," "]
[null," ",null,null,null,null," "," "," "]
[null,"Total facturation interne",null,null,null,null,{"$f":"SUM(G84:G91)","v":0},{"$f":"SUM(H84:H91)","v":0},0]
[null,"Frais de structure"]
[null,"Description",null,null,null,null,"Coût total","Partie aidée","Apport"]
[null," ",null,null,null,null," ",null,{"$f":"IF(OR(ISNUMBER(G95),ISNUMBER(H95)),ROUND(IF(ISNUMBER(G95),G95,0)-IF(ISNUMBER(H95),H95,0),2),\" \")","v":" "}]
[null," ",null,null,null,null,null,null," "]
[null," ",null,null,null,null,null,null," "]
[null," ",null,null,null,null," "," "," "]
[null," ",null,null,null,null," "," "," "]
[null," ",null,null,null,null," "," "," "]
[null," ",null,null,null,null," "," "," "]
[null," ",null,null,null,null," "," "," "]
[null,"Total frais de structure",null,null,null,null,{"$f":"SUM(G95:G102)","v":0},{"$f":"SUM(H95:H102)","v":0},0]
[]
[null,"Synthèse de la demande financière"]
[]
[null,null,null,null,null,null,"Coût complet","Aide demandée","Apport"]
[null,"Total hors frais de gestion",null,null,null,null,{"$f":"G34+G46+G81+G92+G103","v":0},{"$f":"IF(D10=\"Privé\",0,H34+H46+H81+H92+H103)","v":0},{"$f":"I34+I46+I81+I92+I103","v":0}]
[null,"Frais de gestion (max : 8%) (hors frais de structure)",null,null,null,null,{"$f":"H109","v":0},{"$f":"IF(D10=\"Privé\",0,((H108-H103)*E109))","v":0},0]
[null,"Taux d'environnement",null,null,null,null,{"$f":"(G46-G45)*E110","v":0},null,{"$f":"G110","v":0},null,null,{"$f":"(IF($D$11=listesDeroulantes!$A$6,0.7,0)+IF($D$11=listesDeroulantes!$A$7,0.6,0)+IF($D$11=listesDeroulantes!$A$8,0.5,0))","v":0}]
[null,"Total",null,null,null,null,{"$f":"G108+G109+G110","v":0},{"$f":"H108+H109","v":0},{"$f":"I108+I109+I110","v":0}]
[]
[null,"Autres soutiens financiers sollicités ou obtenus pour le projet"]
[]
[null,{"$f":"\"                                   Nom des financeurs\"","v":"                                   Nom des financeurs"},null,"Nature et objet du financement",null,null,null,"Sollicité","Obtenu"]
[null,{"$f":"COUNTA(B$115:B115)","v":1}," "," "]
[null,{"$f":"COUNTA(B$115:B116)","v":2}," "," "]
[null,{"$f":"COUNTA(B$115:B117)","v":3}," "," "]
[null,{"$f":"COUNTA(B$115:B118)","v":4}," "," ",null,null,null," "," "]
[null,{"$f":"COUNTA(B$115:B119)","v":5}," "," ",null,null,null," "," "]
[null,{"$f":"COUNTA(B$115:B120)","v":6}," "," ",null,null,null," "," "]
[null,{"$f":"COUNTA(B$115:B121)","v":7}," "," ",null,null,null," "," "]
[null,{"$f":"COUNTA(B$115:B122)","v":8}," "," ",null,null,null," "," "]
[null,"Total des autres financements",null,null,null,null,null,{"$f":"SUM(H116:H123)","v":0},0]
[]
[null,"Commentaires (le cas échéant)"]
[]
[]
[]
[]
[]
[]
[]
[]
[null,"Les informations personnelles transmises dans ces documents sont obligatoires et seront conservées en fichiers par l'ANR pour assurer la conduite opérationnelle de l'évaluation et l'administration des dossiers.\nConformément à la loi n° 78-17 du 6 janvier 1978 modifiée, relative à l'Informatique, aux Fichiers et aux Libertés, les personnes concernées disposent d'un droit d'accès et de rectification des données personnelles les concernant. Les personnes concernées peuvent exercer ce droit en s'adressant à l'ANR (voir coordonnées dans le texte de l’appel à projets)."]

{"sheet":"part12","index":16,"n_rows":135,"n_cols":12,"rows_kept":135,"cut":false,"hidden":false,"merged":[[123,1,123,3],[125,1,125,8],[127,1,133,8],[134,1,136,8],[117,3,117,6],[118,3,118,6],[119,3,119,6],[120,3,120,6],[121,3,121,6],[122,3,122,6],[110,1,110,5],[112,1,112,8],[114,1,114,2],[114,3,114,6],[115,3,115,6],[116,3,116,6],[104,1,104,8],[105,1,105,8],[106,2,106,5],[107,1,107,5],[108,1,108,3],[109,1,109,3],[97,1,97,5],[98,1,98,5],[99,1,99,5],[100,1,100,5],[101,1,101,5],[102,1,102,3],[91,1,91,3],[92,1,92,8],[93,1,93,5],[94,1,94,5],[95,1,95,5],[96,1,96,5],[85,1,85,5],[86,1,86,5],[87,1,87,5],[88,1,88,5],[89,1,89,5],[90,1,90,5],[79,1,79,3],[80,1,80,3],[81,1,81,8],[82,1,82,5],[83,1,83,5],[84,1,84,5],[73,1,73,3],[74,1,74,3],[75,1,75,3],[76,1,76,3],[77,1,77,3],[78,1,78,3],[67,1,67,3],[68,1,68,3],[69,1,69,3],[70,1,70,3],[71,1,71,3],[72,1,72,3],[61,1,61,3],[62,1,62,3],[63,1,63,3],[64,1,64,3],[65,1,65,3],[66,1,66,3],[55,1,55,3],[56,1,56,3],[57,1,57,3],[58,1,58,3],[59,1,59,3],[60,1,60,3],[49,1,49,3],[50,1,50,3],[51,1,51,3],[52,1,52,3],[53,1,53,3],[54,1,54,3],[42,1,42,2],[43,1,43,2],[45,1,45,3],[46,1,46,8],[47,1,47,3],[48,1,48,3],[36,1,36,2],[37,1,37,2],[38,1,38,2],[39,1,39,2],[40,1,40,2],[41,1,41,2],[30,1,30,3],[31,1,31,3],[32,1,32,3],[33,1,33,3],[34,1,34,8],[35,1,35,2],[26,1,26,3],[27,1,27,3],[28,1,28,3],[29,1,29,3],[17,3,17,8],[18,3,18,8],[19,3,19,8],[20,3,20,4],[22,1,22,8],[23,1,23,8],[11,3,11,5],[13,1,13,8],[16,3,16,8],[0,0,2,4],[0,5,0,8],[1,5,1,6],[1,7,1,8],[24,1,24,3],[25,1,25,3],[2,5,2,6],[2,7,2,8],[4,1,4,8],[6,2,7,2],[6,3,7,8],[8,3,8,5],[9,3,9,5],[10,3,10,5]]}
["Identification de l'établissement partenaire",null,null,null,null,"Réservé à l'organisme gestionnaire du programme",null,null,null,{"$f":"G34","v":0},{"$f":"H34","v":0}]
[null,null,null,null,null,"N° de dossier",null,{"$f":"voletGeneral!$M$2&\"-\"&TEXT(NUM_PARTENAIRE(C2),\"0000\")","v":"ANR-17-EUR-XXXX-0012"},null,{"$f":"G46","v":0},{"$f":"H46","v":0},"Public"]
[null,null,null,null,null,"Acronyme",null,{"$f":"IF(voletGeneral!H10<>\"\",voletGeneral!H10,\"\")","v":""},null,{"$f":"G81","v":0},{"$f":"H81","v":0},"Privé"]
[null,null,20408,{"$f":"C4&\"-0\"","v":"20408-0"},null,null,null,null,null,{"$f":"G92","v":0},{"$f":"H92","v":0}]
[null,"Nom complet du partenaire",null,null,null,null,null,null,null,{"$f":"G103","v":0},{"$f":"H103","v":0}]
[null,null,null,null,null,null,null,null,null,{"$f":"G109","v":0},{"$f":"H109","v":0},"EPSCP"]
[null,null,"Nom complet du partenaire",null,null,null,null,null,null,{"$f":"G110","v":0},0,"EPST"]
[null,null,null,null,null,null,null,null,null,{"$f":"G111","v":0},{"$f":"H111","v":0},"EPA"]
[null,null,"Sigle du partenaire ",null,null,null,null,null,null,{"$f":"H124","v":0},{"$f":"I124","v":0},"EPIC"]
[null,null,"Secteur d'activité du partenaire",null,null,null,null,"co-porteur de l'EUR :",null,null,null,"Autre établissement public"]
[null,null,"Type de partenaire",null,null,null,null,null,null,null,null,"Groupement d'établissements"]
[null,null,"Numéro SIRET",null,null,null,null,null,null,null,null,"Fondation"]
[null,null,null,null,null,null,null,null,null,null,null,"Association"]
[null,"Personne habilitée à engager juridiquement l'établissement partenaire",null,null,null,null,null,null,null,null,null,"Petite entreprise "]
[null,null,null,null,null,null,null,null,null,null,null,"Moyenne entreprise"]
[null,null,"Genre",null,null,null,null,null,null,null,null,"Grande entreprise"]
[null,null,"Nom",null,null,null,null,null,null,null,null,"Statutaire"]
[null,null,"Prénom",null,null,null,null,null,null,null,null,"Non statutaire avec financement"]
[null,null,"Qualité",null,null,null,null,null,null,null,null,"Non statutaire sans financement"]
[null,null,"Courriel"]
[null,null,"Téléphone"]
[]
[null,"Demande financière ANR détaillée du projet"]
[null,"Equipement (coût unitaire HT > 4000 € - si le partenaire récupére la TVA, indiquer le coût hors TVA)"]
[null,"Description",null,null,"Coût unitaire","Quantité","Coût total","Partie aidée","Apport"]
[null,null,null,null,null,null,{"$f":"IF(AND(ISNUMBER(E26),ISNUMBER(F26)),E26*F26,\" \")","v":" "},null,{"$f":"IF(OR(ISNUMBER(G26),ISNUMBER(H26)),ROUND(IF(ISNUMBER(G26),G26,0)-IF(ISNUMBER(H26),H26,0),2),\" \")","v":" "}]
[null,null,null,null,null,null," ",null," "]
[null,null,null,null,null,null," ",null," "]
[null,null,null,null,null,null," ",null," "]
[null,null,null,null,null,null," ",null," "]
[null,null,null,null,null,null," ",null," "]
[null,null,null,null,null,null," ",null," "]
[null,null,null,null,null,null," ",null," "]
[null,"Total équipement",null,null,null,null,{"$f":"SUM(G26:G33)","v":0},{"$f":"SUM(H26:H33)","v":0},0]
[null,"Personnel"]
[null,"Description",null,"Statut","Coût unitaire","Nb. h.mois","Coût total","Aide","Apport"]
[null,null,null,null,null,null,{"$f":"IF(AND(ISNUMBER(E37),ISNUMBER(F37)),E37*F37,\" \")","v":" "},null,{"$f":"IF(OR(ISNUMBER(G37),ISNUMBER(H37)),ROUND(IF(ISNUMBER(G37),G37,0)-IF(ISNUMBER(H37),H37,0),2),\" \")","v":" "}]
[null,null,null,null,null,null," ",null," "]
[null,null,null,null,null,null," ",null," "]
[null,null,null,null,null,null," ",null," "]
[null,null,null,null,null,null," ",null,{"$f":"IF(OR(ISNUMBER(G41),ISNUMBER(H41)),ROUND(IF(ISNUMBER(G41),G41,0)-IF(ISNUMBER(H41),H41,0),2),\" \")","v":" "}]
[null,null,null,null,null,null," ",null," "]
[null,null,null,null,null,null," ",null," "]
[null,null,null,null,null,null," ",null," "]
[null,"Primes et heures complémentaires pour le personnel statutaire",null,null,null,null,null,{"$f":"IF(G45<>\" \",G45,\" \")","v":0}]
[null,"Total personnel",null,null,null,{"$f":"SUM(F37:F44)","v":0},{"$f":"SUM(G37:G45)","v":0},{"$f":"SUM(H37:H45)","v":0},{"$f":"SUM(I37:I44)","v":0}]
[null,"Fonctionnement (si le partenaire récupère la TVA, indiquer le coût hors TVA)"]
[null,"Description",null,null,"Coût unitaire","Quantité","Coût total","Partie aidée","Apport"]
[null,"Prestations de service externes"]
[null,null,null,null,null,null,null,null,{"$f":"IF(OR(ISNUMBER(G50),ISNUMBER(H50)),ROUND(IF(ISNUMBER(G50),G50,0)-IF(ISNUMBER(H50),H50,0),2),\" \")","v":" "}]
[null,null,null,null,null,null,null,null," "]
[null,null,null,null,null,null,null,null," "]
[null,null,null,null,null,null,null,null," "]
[null,null,null,null,null,null,null,null," "]
[null,null,null,null,null,null,null,null," "]
[null,null,null,null,null,null,null,null," "]
[null,null,null,null,null,null,null,null," "]
[null,"Sous-total prestations de service externes",null,null,null,null,{"$f":"SUM(G50:G57)","v":0},{"$f":"SUM(H50:H57)","v":0},{"$f":"SUM(I50:I57)","v":0}]
[null,"Missions",null,null,"Coût unitaire","Quantité","Coût total","Partie aidée","Apport"]
[null,null,null,null,null,null,null,null,{"$f":"IF(OR(ISNUMBER(G60),ISNUMBER(H60)),ROUND(IF(ISNUMBER(G60),G60,0)-IF(ISNUMBER(H60),H60,0),2),\" \")","v":" "}]
[null,null,null,null,null,null,null,null," "]
[null,null,null,null,null,null,null,null," "]
[null,null,null,null,null,null,null,null," "]
[null,null,null,null,null,null,null,null," "]
[null,null,null,null,null,null,null,null," "]
[null,null,null,null,null,null,null,null," "]
[null,null,null,null,null,null,null,null," "]
[null,"Sous-total missions",null,null,null,null,{"$f":"SUM(G60:G67)","v":0},0,0]
[null,"Autres dépenses externes",null,null,"Coût unitaire","Quantité","Coût total","Partie aidée","Apport"]
[null,null,null,null,null,null,{"$f":"IF(AND(ISNUMBER(E70),ISNUMBER(F70)),E70*F70,\" \")","v":" "},null,{"$f":"IF(OR(ISNUMBER(G70),ISNUMBER(H70)),ROUND(IF(ISNUMBER(G70),G70,0)-IF(ISNUMBER(H70),H70,0),2),\" \")","v":" "}]
[null,null,null,null,null,null," ",null," "]
[null,null,null,null,null,null," ",null," "]
[null,null,null,null,null,null," ",null," "]
[null,null,null,null,null,null," ",null," "]
[null,null,null,null,null,null," ",null," "]
[null,null,null,null,null,null," ",null," "]
[null,null,null,null,null,null," ",null," "]
[null,null,null,null,null,null," ",null," "]
[null,"Sous-total autres dépenses externes",null,null,null,null,{"$f":"SUM(G70:G78)","v":0},0,0]
[null,null,null,null,null,null,"Coût total","Partie aidée","Apport"]
[null,"Total fonctionnement",null,null,null,null,{"$f":"G79+G68+G58","v":0},{"$f":"H79+H68+H58","v":0},{"$f":"I79+I68+I58","v":0}]
[null,"Facturation interne"]
[null,"Description",null,null,null,null,"Coût total","Partie aidée","Apport"]
[null," ",null,null,null,null," ",null,{"$f":"IF(OR(ISNUMBER(G84),ISNUMBER(H84)),ROUND(IF(ISNUMBER(G84),G84,0)-IF(ISNUMBER(H84),H84,0),2),\" \")","v":" "}]
[null," ",null,null,null,null,null,null," "]
[null," ",null,null,null,null,null,null," "]
[null," ",null,null,null,null,null,null," "]
[null," ",null,null,null,null," "," "," "]
[null," ",null,null,null,null," "," "," "]
[null," ",null,null,null,null," "," "," "]
[null," ",null,null,null,null," "," "," "]
[null,"Total facturation interne",null,null,null,null,{"$f":"SUM(G84:G91)","v":0},{"$f":"SUM(H84:H91)","v":0},0]
[null,"Frais de structure"]
[null,"Description",null,null,null,null,"Coût total","Partie aidée","Apport"]
[null," ",null,null,null,null," ",null,{"$f":"IF(OR(ISNUMBER(G95),ISNUMBER(H95)),ROUND(IF(ISNUMBER(G95),G95,0)-IF(ISNUMBER(H95),H95,0),2),\" \")","v":" "}]
[null," ",null,null,null,null,null,null," "]
[null," ",null,null,null,null,null,null," "]
[null," ",null,null,null,null," "," "," "]
[null," ",null,null,null,null," "," "," "]
[null," ",null,null,null,null," "," "," "]
[null," ",null,null,null,null," "," "," "]
[null," ",null,null,null,null," "," "," "]
[null,"Total frais de structure",null,null,null,null,{"$f":"SUM(G95:G102)","v":0},{"$f":"SUM(H95:H102)","v":0},0]
[]
[null,"Synthèse de la demande financière"]
[]
[null,null,null,null,null,null,"Coût complet","Aide demandée","Apport"]
[null,"Total hors frais de gestion",null,null,null,null,{"$f":"G34+G46+G81+G92+G103","v":0},{"$f":"IF(D10=\"Privé\",0,H34+H46+H81+H92+H103)","v":0},{"$f":"I34+I46+I81+I92+I103","v":0}]
[null,"Frais de gestion (max : 8%) (hors frais de structure)",null,null,null,null,{"$f":"H109","v":0},{"$f":"IF(D10=\"Privé\",0,((H108-H103)*E109))","v":0},0]
[null,"Taux d'environnement",null,null,null,null,{"$f":"(G46-G45)*E110","v":0},null,{"$f":"G110","v":0},null,null,{"$f":"(IF($D$11=listesDeroulantes!$A$6,0.7,0)+IF($D$11=listesDeroulantes!$A$7,0.6,0)+IF($D$11=listesDeroulantes!$A$8,0.5,0))","v":0}]
[null,"Total",null,null,null,null,{"$f":"G108+G109+G110","v":0},{"$f":"H108+H109","v":0},{"$f":"I108+I109+I110","v":0}]
[]
[null,"Autres soutiens financiers sollicités ou obtenus pour le projet"]
[]
[null,{"$f":"\"                                   Nom des financeurs\"","v":"                                   Nom des financeurs"},null,"Nature et objet du financement",null,null,null,"Sollicité","Obtenu"]
[null,{"$f":"COUNTA(B$115:B115)","v":1}," "," "]
[null,{"$f":"COUNTA(B$115:B116)","v":2}," "," "]
[null,{"$f":"COUNTA(B$115:B117)","v":3}," "," "]
[null,{"$f":"COUNTA(B$115:B118)","v":4}," "," ",null,null,null," "," "]
[null,{"$f":"COUNTA(B$115:B119)","v":5}," "," ",null,null,null," "," "]
[null,{"$f":"COUNTA(B$115:B120)","v":6}," "," ",null,null,null," "," "]
[null,{"$f":"COUNTA(B$115:B121)","v":7}," "," ",null,null,null," "," "]
[null,{"$f":"COUNTA(B$115:B122)","v":8}," "," ",null,null,null," "," "]
[null,"Total des autres financements",null,null,null,null,null,{"$f":"SUM(H116:H123)","v":0},0]
[]
[null,"Commentaires (le cas échéant)"]
[]
[]
[]
[]
[]
[]
[]
[]
[null,"Les informations personnelles transmises dans ces documents sont obligatoires et seront conservées en fichiers par l'ANR pour assurer la conduite opérationnelle de l'évaluation et l'administration des dossiers.\nConformément à la loi n° 78-17 du 6 janvier 1978 modifiée, relative à l'Informatique, aux Fichiers et aux Libertés, les personnes concernées disposent d'un droit d'accès et de rectification des données personnelles les concernant. Les personnes concernées peuvent exercer ce droit en s'adressant à l'ANR (voir coordonnées dans le texte de l’appel à projets)."]

{"sheet":"part13","index":17,"n_rows":135,"n_cols":12,"rows_kept":135,"cut":false,"hidden":false,"merged":[[123,1,123,3],[125,1,125,8],[127,1,133,8],[134,1,136,8],[117,3,117,6],[118,3,118,6],[119,3,119,6],[120,3,120,6],[121,3,121,6],[122,3,122,6],[110,1,110,5],[112,1,112,8],[114,1,114,2],[114,3,114,6],[115,3,115,6],[116,3,116,6],[104,1,104,8],[105,1,105,8],[106,2,106,5],[107,1,107,5],[108,1,108,3],[109,1,109,3],[97,1,97,5],[98,1,98,5],[99,1,99,5],[100,1,100,5],[101,1,101,5],[102,1,102,3],[91,1,91,3],[92,1,92,8],[93,1,93,5],[94,1,94,5],[95,1,95,5],[96,1,96,5],[85,1,85,5],[86,1,86,5],[87,1,87,5],[88,1,88,5],[89,1,89,5],[90,1,90,5],[79,1,79,3],[80,1,80,3],[81,1,81,8],[82,1,82,5],[83,1,83,5],[84,1,84,5],[73,1,73,3],[74,1,74,3],[75,1,75,3],[76,1,76,3],[77,1,77,3],[78,1,78,3],[67,1,67,3],[68,1,68,3],[69,1,69,3],[70,1,70,3],[71,1,71,3],[72,1,72,3],[61,1,61,3],[62,1,62,3],[63,1,63,3],[64,1,64,3],[65,1,65,3],[66,1,66,3],[55,1,55,3],[56,1,56,3],[57,1,57,3],[58,1,58,3],[59,1,59,3],[60,1,60,3],[49,1,49,3],[50,1,50,3],[51,1,51,3],[52,1,52,3],[53,1,53,3],[54,1,54,3],[42,1,42,2],[43,1,43,2],[45,1,45,3],[46,1,46,8],[47,1,47,3],[48,1,48,3],[36,1,36,2],[37,1,37,2],[38,1,38,2],[39,1,39,2],[40,1,40,2],[41,1,41,2],[30,1,30,3],[31,1,31,3],[32,1,32,3],[33,1,33,3],[34,1,34,8],[35,1,35,2],[26,1,26,3],[27,1,27,3],[28,1,28,3],[29,1,29,3],[17,3,17,8],[18,3,18,8],[19,3,19,8],[20,3,20,4],[22,1,22,8],[23,1,23,8],[11,3,11,5],[13,1,13,8],[16,3,16,8],[0,0,2,4],[0,5,0,8],[1,5,1,6],[1,7,1,8],[24,1,24,3],[25,1,25,3],[2,5,2,6],[2,7,2,8],[4,1,4,8],[6,2,7,2],[6,3,7,8],[8,3,8,5],[9,3,9,5],[10,3,10,5]]}
["Identification de l'établissement partenaire",null,null,null,null,"Réservé à l'organisme gestionnaire du programme",null,null,null,{"$f":"G34","v":0},{"$f":"H34","v":0}]
[null,null,null,null,null,"N° de dossier",null,{"$f":"voletGeneral!$M$2&\"-\"&TEXT(NUM_PARTENAIRE(C2),\"0000\")","v":"ANR-17-EUR-XXXX-0013"},null,{"$f":"G46","v":0},{"$f":"H46","v":0},"Public"]
[null,null,null,null,null,"Acronyme",null,{"$f":"IF(voletGeneral!H10<>\"\",voletGeneral!H10,\"\")","v":""},null,{"$f":"G81","v":0},{"$f":"H81","v":0},"Privé"]
[null,null,20408,{"$f":"C4&\"-0\"","v":"20408-0"},null,null,null,null,null,{"$f":"G92","v":0},{"$f":"H92","v":0}]
[null,"Nom complet du partenaire",null,null,null,null,null,null,null,{"$f":"G103","v":0},{"$f":"H103","v":0}]
[null,null,null,null,null,null,null,null,null,{"$f":"G109","v":0},{"$f":"H109","v":0},"EPSCP"]
[null,null,"Nom complet du partenaire",null,null,null,null,null,null,{"$f":"G110","v":0},0,"EPST"]
[null,null,null,null,null,null,null,null,null,{"$f":"G111","v":0},{"$f":"H111","v":0},"EPA"]
[null,null,"Sigle du partenaire ",null,null,null,null,null,null,{"$f":"H124","v":0},{"$f":"I124","v":0},"EPIC"]
[null,null,"Secteur d'activité du partenaire",null,null,null,null,"co-porteur de l'EUR :",null,null,null,"Autre établissement public"]
[null,null,"Type de partenaire",null,null,null,null,null,null,null,null,"Groupement d'établissements"]
[null,null,"Numéro SIRET",null,null,null,null,null,null,null,null,"Fondation"]
[null,null,null,null,null,null,null,null,null,null,null,"Association"]
[null,"Personne habilitée à engager juridiquement l'établissement partenaire",null,null,null,null,null,null,null,null,null,"Petite entreprise "]
[null,null,null,null,null,null,null,null,null,null,null,"Moyenne entreprise"]
[null,null,"Genre",null,null,null,null,null,null,null,null,"Grande entreprise"]
[null,null,"Nom",null,null,null,null,null,null,null,null,"Statutaire"]
[null,null,"Prénom",null,null,null,null,null,null,null,null,"Non statutaire avec financement"]
[null,null,"Qualité",null,null,null,null,null,null,null,null,"Non statutaire sans financement"]
[null,null,"Courriel"]
[null,null,"Téléphone"]
[]
[null,"Demande financière ANR détaillée du projet"]
[null,"Equipement (coût unitaire HT > 4000 € - si le partenaire récupére la TVA, indiquer le coût hors TVA)"]
[null,"Description",null,null,"Coût unitaire","Quantité","Coût total","Partie aidée","Apport"]
[null,null,null,null,null,null,{"$f":"IF(AND(ISNUMBER(E26),ISNUMBER(F26)),E26*F26,\" \")","v":" "},null,{"$f":"IF(OR(ISNUMBER(G26),ISNUMBER(H26)),ROUND(IF(ISNUMBER(G26),G26,0)-IF(ISNUMBER(H26),H26,0),2),\" \")","v":" "}]
[null,null,null,null,null,null," ",null," "]
[null,null,null,null,null,null," ",null," "]
[null,null,null,null,null,null," ",null," "]
[null,null,null,null,null,null," ",null," "]
[null,null,null,null,null,null," ",null," "]
[null,null,null,null,null,null," ",null," "]
[null,null,null,null,null,null," ",null," "]
[null,"Total équipement",null,null,null,null,{"$f":"SUM(G26:G33)","v":0},{"$f":"SUM(H26:H33)","v":0},0]
[null,"Personnel"]
[null,"Description",null,"Statut","Coût unitaire","Nb. h.mois","Coût total","Aide","Apport"]
[null,null,null,null,null,null,{"$f":"IF(AND(ISNUMBER(E37),ISNUMBER(F37)),E37*F37,\" \")","v":" "},null,{"$f":"IF(OR(ISNUMBER(G37),ISNUMBER(H37)),ROUND(IF(ISNUMBER(G37),G37,0)-IF(ISNUMBER(H37),H37,0),2),\" \")","v":" "}]
[null,null,null,null,null,null," ",null," "]
[null,null,null,null,null,null," ",null," "]
[null,null,null,null,null,null," ",null," "]
[null,null,null,null,null,null," ",null,{"$f":"IF(OR(ISNUMBER(G41),ISNUMBER(H41)),ROUND(IF(ISNUMBER(G41),G41,0)-IF(ISNUMBER(H41),H41,0),2),\" \")","v":" "}]
[null,null,null,null,null,null," ",null," "]
[null,null,null,null,null,null," ",null," "]
[null,null,null,null,null,null," ",null," "]
[null,"Primes et heures complémentaires pour le personnel statutaire",null,null,null,null,null,{"$f":"IF(G45<>\" \",G45,\" \")","v":0}]
[null,"Total personnel",null,null,null,{"$f":"SUM(F37:F44)","v":0},{"$f":"SUM(G37:G45)","v":0},{"$f":"SUM(H37:H45)","v":0},{"$f":"SUM(I37:I44)","v":0}]
[null,"Fonctionnement (si le partenaire récupère la TVA, indiquer le coût hors TVA)"]
[null,"Description",null,null,"Coût unitaire","Quantité","Coût total","Partie aidée","Apport"]
[null,"Prestations de service externes"]
[null,null,null,null,null,null,null,null,{"$f":"IF(OR(ISNUMBER(G50),ISNUMBER(H50)),ROUND(IF(ISNUMBER(G50),G50,0)-IF(ISNUMBER(H50),H50,0),2),\" \")","v":" "}]
[null,null,null,null,null,null,null,null," "]
[null,null,null,null,null,null,null,null," "]
[null,null,null,null,null,null,null,null," "]
[null,null,null,null,null,null,null,null," "]
[null,null,null,null,null,null,null,null," "]
[null,null,null,null,null,null,null,null," "]
[null,null,null,null,null,null,null,null," "]
[null,"Sous-total prestations de service externes",null,null,null,null,{"$f":"SUM(G50:G57)","v":0},{"$f":"SUM(H50:H57)","v":0},{"$f":"SUM(I50:I57)","v":0}]
[null,"Missions",null,null,"Coût unitaire","Quantité","Coût total","Partie aidée","Apport"]
[null,null,null,null,null,null,null,null,{"$f":"IF(OR(ISNUMBER(G60),ISNUMBER(H60)),ROUND(IF(ISNUMBER(G60),G60,0)-IF(ISNUMBER(H60),H60,0),2),\" \")","v":" "}]
[null,null,null,null,null,null,null,null," "]
[null,null,null,null,null,null,null,null," "]
[null,null,null,null,null,null,null,null," "]
[null,null,null,null,null,null,null,null," "]
[null,null,null,null,null,null,null,null," "]
[null,null,null,null,null,null,null,null," "]
[null,null,null,null,null,null,null,null," "]
[null,"Sous-total missions",null,null,null,null,{"$f":"SUM(G60:G67)","v":0},0,0]
[null,"Autres dépenses externes",null,null,"Coût unitaire","Quantité","Coût total","Partie aidée","Apport"]
[null,null,null,null,null,null,{"$f":"IF(AND(ISNUMBER(E70),ISNUMBER(F70)),E70*F70,\" \")","v":" "},null,{"$f":"IF(OR(ISNUMBER(G70),ISNUMBER(H70)),ROUND(IF(ISNUMBER(G70),G70,0)-IF(ISNUMBER(H70),H70,0),2),\" \")","v":" "}]
[null,null,null,null,null,null," ",null," "]
[null,null,null,null,null,null," ",null," "]
[null,null,null,null,null,null," ",null," "]
[null,null,null,null,null,null," ",null," "]
[null,null,null,null,null,null," ",null," "]
[null,null,null,null,null,null," ",null," "]
[null,null,null,null,null,null," ",null," "]
[null,null,null,null,null,null," ",null," "]
[null,"Sous-total autres dépenses externes",null,null,null,null,{"$f":"SUM(G70:G78)","v":0},0,0]
[null,null,null,null,null,null,"Coût total","Partie aidée","Apport"]
[null,"Total fonctionnement",null,null,null,null,{"$f":"G79+G68+G58","v":0},{"$f":"H79+H68+H58","v":0},{"$f":"I79+I68+I58","v":0}]
[null,"Facturation interne"]
[null,"Description",null,null,null,null,"Coût total","Partie aidée","Apport"]
[null," ",null,null,null,null," ",null,{"$f":"IF(OR(ISNUMBER(G84),ISNUMBER(H84)),ROUND(IF(ISNUMBER(G84),G84,0)-IF(ISNUMBER(H84),H84,0),2),\" \")","v":" "}]
[null," ",null,null,null,null,null,null," "]
[null," ",null,null,null,null,null,null," "]
[null," ",null,null,null,null,null,null," "]
[null," ",null,null,null,null," "," "," "]
[null," ",null,null,null,null," "," "," "]
[null," ",null,null,null,null," "," "," "]
[null," ",null,null,null,null," "," "," "]
[null,"Total facturation interne",null,null,null,null,{"$f":"SUM(G84:G91)","v":0},{"$f":"SUM(H84:H91)","v":0},0]
[null,"Frais de structure"]
[null,"Description",null,null,null,null,"Coût total","Partie aidée","Apport"]
[null," ",null,null,null,null," ",null,{"$f":"IF(OR(ISNUMBER(G95),ISNUMBER(H95)),ROUND(IF(ISNUMBER(G95),G95,0)-IF(ISNUMBER(H95),H95,0),2),\" \")","v":" "}]
[null," ",null,null,null,null,null,null," "]
[null," ",null,null,null,null,null,null," "]
[null," ",null,null,null,null," "," "," "]
[null," ",null,null,null,null," "," "," "]
[null," ",null,null,null,null," "," "," "]
[null," ",null,null,null,null," "," "," "]
[null," ",null,null,null,null," "," "," "]
[null,"Total frais de structure",null,null,null,null,{"$f":"SUM(G95:G102)","v":0},{"$f":"SUM(H95:H102)","v":0},0]
[]
[null,"Synthèse de la demande financière"]
[]
[null,null,null,null,null,null,"Coût complet","Aide demandée","Apport"]
[null,"Total hors frais de gestion",null,null,null,null,{"$f":"G34+G46+G81+G92+G103","v":0},{"$f":"IF(D10=\"Privé\",0,H34+H46+H81+H92+H103)","v":0},{"$f":"I34+I46+I81+I92+I103","v":0}]
[null,"Frais de gestion (max : 8%) (hors frais de structure)",null,null,null,null,{"$f":"H109","v":0},{"$f":"IF(D10=\"Privé\",0,((H108-H103)*E109))","v":0},0]
[null,"Taux d'environnement",null,null,null,null,{"$f":"(G46-G45)*E110","v":0},null,{"$f":"G110","v":0},null,null,{"$f":"(IF($D$11=listesDeroulantes!$A$6,0.7,0)+IF($D$11=listesDeroulantes!$A$7,0.6,0)+IF($D$11=listesDeroulantes!$A$8,0.5,0))","v":0}]
[null,"Total",null,null,null,null,{"$f":"G108+G109+G110","v":0},{"$f":"H108+H109","v":0},{"$f":"I108+I109+I110","v":0}]
[]
[null,"Autres soutiens financiers sollicités ou obtenus pour le projet"]
[]
[null,{"$f":"\"                                   Nom des financeurs\"","v":"                                   Nom des financeurs"},null,"Nature et objet du financement",null,null,null,"Sollicité","Obtenu"]
[null,{"$f":"COUNTA(B$115:B115)","v":1}," "," "]
[null,{"$f":"COUNTA(B$115:B116)","v":2}," "," "]
[null,{"$f":"COUNTA(B$115:B117)","v":3}," "," "]
[null,{"$f":"COUNTA(B$115:B118)","v":4}," "," ",null,null,null," "," "]
[null,{"$f":"COUNTA(B$115:B119)","v":5}," "," ",null,null,null," "," "]
[null,{"$f":"COUNTA(B$115:B120)","v":6}," "," ",null,null,null," "," "]
[null,{"$f":"COUNTA(B$115:B121)","v":7}," "," ",null,null,null," "," "]
[null,{"$f":"COUNTA(B$115:B122)","v":8}," "," ",null,null,null," "," "]
[null,"Total des autres financements",null,null,null,null,null,{"$f":"SUM(H116:H123)","v":0},0]
[]
[null,"Commentaires (le cas échéant)"]
[]
[]
[]
[]
[]
[]
[]
[]
[null,"Les informations personnelles transmises dans ces documents sont obligatoires et seront conservées en fichiers par l'ANR pour assurer la conduite opérationnelle de l'évaluation et l'administration des dossiers.\nConformément à la loi n° 78-17 du 6 janvier 1978 modifiée, relative à l'Informatique, aux Fichiers et aux Libertés, les personnes concernées disposent d'un droit d'accès et de rectification des données personnelles les concernant. Les personnes concernées peuvent exercer ce droit en s'adressant à l'ANR (voir coordonnées dans le texte de l’appel à projets)."]

{"sheet":"part14","index":18,"n_rows":135,"n_cols":12,"rows_kept":135,"cut":false,"hidden":false,"merged":[[123,1,123,3],[125,1,125,8],[127,1,133,8],[134,1,136,8],[117,3,117,6],[118,3,118,6],[119,3,119,6],[120,3,120,6],[121,3,121,6],[122,3,122,6],[110,1,110,5],[112,1,112,8],[114,1,114,2],[114,3,114,6],[115,3,115,6],[116,3,116,6],[104,1,104,8],[105,1,105,8],[106,2,106,5],[107,1,107,5],[108,1,108,3],[109,1,109,3],[97,1,97,5],[98,1,98,5],[99,1,99,5],[100,1,100,5],[101,1,101,5],[102,1,102,3],[91,1,91,3],[92,1,92,8],[93,1,93,5],[94,1,94,5],[95,1,95,5],[96,1,96,5],[85,1,85,5],[86,1,86,5],[87,1,87,5],[88,1,88,5],[89,1,89,5],[90,1,90,5],[79,1,79,3],[80,1,80,3],[81,1,81,8],[82,1,82,5],[83,1,83,5],[84,1,84,5],[73,1,73,3],[74,1,74,3],[75,1,75,3],[76,1,76,3],[77,1,77,3],[78,1,78,3],[67,1,67,3],[68,1,68,3],[69,1,69,3],[70,1,70,3],[71,1,71,3],[72,1,72,3],[61,1,61,3],[62,1,62,3],[63,1,63,3],[64,1,64,3],[65,1,65,3],[66,1,66,3],[55,1,55,3],[56,1,56,3],[57,1,57,3],[58,1,58,3],[59,1,59,3],[60,1,60,3],[49,1,49,3],[50,1,50,3],[51,1,51,3],[52,1,52,3],[53,1,53,3],[54,1,54,3],[42,1,42,2],[43,1,43,2],[45,1,45,3],[46,1,46,8],[47,1,47,3],[48,1,48,3],[36,1,36,2],[37,1,37,2],[38,1,38,2],[39,1,39,2],[40,1,40,2],[41,1,41,2],[30,1,30,3],[31,1,31,3],[32,1,32,3],[33,1,33,3],[34,1,34,8],[35,1,35,2],[26,1,26,3],[27,1,27,3],[28,1,28,3],[29,1,29,3],[17,3,17,8],[18,3,18,8],[19,3,19,8],[20,3,20,4],[22,1,22,8],[23,1,23,8],[11,3,11,5],[13,1,13,8],[16,3,16,8],[0,0,2,4],[0,5,0,8],[1,5,1,6],[1,7,1,8],[24,1,24,3],[25,1,25,3],[2,5,2,6],[2,7,2,8],[4,1,4,8],[6,2,7,2],[6,3,7,8],[8,3,8,5],[9,3,9,5],[10,3,10,5]]}
["Identification de l'établissement partenaire",null,null,null,null,"Réservé à l'organisme gestionnaire du programme",null,null,null,{"$f":"G34","v":0},{"$f":"H34","v":0}]
[null,null,null,null,null,"N° de dossier",null,{"$f":"voletGeneral!$M$2&\"-\"&TEXT(NUM_PARTENAIRE(C2),\"0000\")","v":"ANR-17-EUR-XXXX-0014"},null,{"$f":"G46","v":0},{"$f":"H46","v":0},"Public"]
[null,null,null,null,null,"Acronyme",null,{"$f":"IF(voletGeneral!H10<>\"\",voletGeneral!H10,\"\")","v":""},null,{"$f":"G81","v":0},{"$f":"H81","v":0},"Privé"]
[null,null,20408,{"$f":"C4&\"-0\"","v":"20408-0"},null,null,null,null,null,{"$f":"G92","v":0},{"$f":"H92","v":0}]
[null,"Nom complet du partenaire",null,null,null,null,null,null,null,{"$f":"G103","v":0},{"$f":"H103","v":0}]
[null,null,null,null,null,null,null,null,null,{"$f":"G109","v":0},{"$f":"H109","v":0},"EPSCP"]
[null,null,"Nom complet du partenaire",null,null,null,null,null,null,{"$f":"G110","v":0},0,"EPST"]
[null,null,null,null,null,null,null,null,null,{"$f":"G111","v":0},{"$f":"H111","v":0},"EPA"]
[null,null,"Sigle du partenaire ",null,null,null,null,null,null,{"$f":"H124","v":0},{"$f":"I124","v":0},"EPIC"]
[null,null,"Secteur d'activité du partenaire",null,null,null,null,"co-porteur de l'EUR :",null,null,null,"Autre établissement public"]
[null,null,"Type de partenaire",null,null,null,null,null,null,null,null,"Groupement d'établissements"]
[null,null,"Numéro SIRET",null,null,null,null,null,null,null,null,"Fondation"]
[null,null,null,null,null,null,null,null,null,null,null,"Association"]
[null,"Personne habilitée à engager juridiquement l'établissement partenaire",null,null,null,null,null,null,null,null,null,"Petite entreprise "]
[null,null,null,null,null,null,null,null,null,null,null,"Moyenne entreprise"]
[null,null,"Genre",null,null,null,null,null,null,null,null,"Grande entreprise"]
[null,null,"Nom",null,null,null,null,null,null,null,null,"Statutaire"]
[null,null,"Prénom",null,null,null,null,null,null,null,null,"Non statutaire avec financement"]
[null,null,"Qualité",null,null,null,null,null,null,null,null,"Non statutaire sans financement"]
[null,null,"Courriel"]
[null,null,"Téléphone"]
[]
[null,"Demande financière ANR détaillée du projet"]
[null,"Equipement (coût unitaire HT > 4000 € - si le partenaire récupére la TVA, indiquer le coût hors TVA)"]
[null,"Description",null,null,"Coût unitaire","Quantité","Coût total","Partie aidée","Apport"]
[null,null,null,null,null,null,{"$f":"IF(AND(ISNUMBER(E26),ISNUMBER(F26)),E26*F26,\" \")","v":" "},null,{"$f":"IF(OR(ISNUMBER(G26),ISNUMBER(H26)),ROUND(IF(ISNUMBER(G26),G26,0)-IF(ISNUMBER(H26),H26,0),2),\" \")","v":" "}]
[null,null,null,null,null,null," ",null," "]
[null,null,null,null,null,null," ",null," "]
[null,null,null,null,null,null," ",null," "]
[null,null,null,null,null,null," ",null," "]
[null,null,null,null,null,null," ",null," "]
[null,null,null,null,null,null," ",null," "]
[null,null,null,null,null,null," ",null," "]
[null,"Total équipement",null,null,null,null,{"$f":"SUM(G26:G33)","v":0},{"$f":"SUM(H26:H33)","v":0},0]
[null,"Personnel"]
[null,"Description",null,"Statut","Coût unitaire","Nb. h.mois","Coût total","Aide","Apport"]
[null,null,null,null,null,null,{"$f":"IF(AND(ISNUMBER(E37),ISNUMBER(F37)),E37*F37,\" \")","v":" "},null,{"$f":"IF(OR(ISNUMBER(G37),ISNUMBER(H37)),ROUND(IF(ISNUMBER(G37),G37,0)-IF(ISNUMBER(H37),H37,0),2),\" \")","v":" "}]
[null,null,null,null,null,null," ",null," "]
[null,null,null,null,null,null," ",null," "]
[null,null,null,null,null,null," ",null," "]
[null,null,null,null,null,null," ",null,{"$f":"IF(OR(ISNUMBER(G41),ISNUMBER(H41)),ROUND(IF(ISNUMBER(G41),G41,0)-IF(ISNUMBER(H41),H41,0),2),\" \")","v":" "}]
[null,null,null,null,null,null," ",null," "]
[null,null,null,null,null,null," ",null," "]
[null,null,null,null,null,null," ",null," "]
[null,"Primes et heures complémentaires pour le personnel statutaire",null,null,null,null,null,{"$f":"IF(G45<>\" \",G45,\" \")","v":0}]
[null,"Total personnel",null,null,null,{"$f":"SUM(F37:F44)","v":0},{"$f":"SUM(G37:G45)","v":0},{"$f":"SUM(H37:H45)","v":0},{"$f":"SUM(I37:I44)","v":0}]
[null,"Fonctionnement (si le partenaire récupère la TVA, indiquer le coût hors TVA)"]
[null,"Description",null,null,"Coût unitaire","Quantité","Coût total","Partie aidée","Apport"]
[null,"Prestations de service externes"]
[null,null,null,null,null,null,null,null,{"$f":"IF(OR(ISNUMBER(G50),ISNUMBER(H50)),ROUND(IF(ISNUMBER(G50),G50,0)-IF(ISNUMBER(H50),H50,0),2),\" \")","v":" "}]
[null,null,null,null,null,null,null,null," "]
[null,null,null,null,null,null,null,null," "]
[null,null,null,null,null,null,null,null," "]
[null,null,null,null,null,null,null,null," "]
[null,null,null,null,null,null,null,null," "]
[null,null,null,null,null,null,null,null," "]
[null,null,null,null,null,null,null,null," "]
[null,"Sous-total prestations de service externes",null,null,null,null,{"$f":"SUM(G50:G57)","v":0},{"$f":"SUM(H50:H57)","v":0},{"$f":"SUM(I50:I57)","v":0}]
[null,"Missions",null,null,"Coût unitaire","Quantité","Coût total","Partie aidée","Apport"]
[null,null,null,null,null,null,null,null,{"$f":"IF(OR(ISNUMBER(G60),ISNUMBER(H60)),ROUND(IF(ISNUMBER(G60),G60,0)-IF(ISNUMBER(H60),H60,0),2),\" \")","v":" "}]
[null,null,null,null,null,null,null,null," "]
[null,null,null,null,null,null,null,null," "]
[null,null,null,null,null,null,null,null," "]
[null,null,null,null,null,null,null,null," "]
[null,null,null,null,null,null,null,null," "]
[null,null,null,null,null,null,null,null," "]
[null,null,null,null,null,null,null,null," "]
[null,"Sous-total missions",null,null,null,null,{"$f":"SUM(G60:G67)","v":0},0,0]
[null,"Autres dépenses externes",null,null,"Coût unitaire","Quantité","Coût total","Partie aidée","Apport"]
[null,null,null,null,null,null,{"$f":"IF(AND(ISNUMBER(E70),ISNUMBER(F70)),E70*F70,\" \")","v":" "},null,{"$f":"IF(OR(ISNUMBER(G70),ISNUMBER(H70)),ROUND(IF(ISNUMBER(G70),G70,0)-IF(ISNUMBER(H70),H70,0),2),\" \")","v":" "}]
[null,null,null,null,null,null," ",null," "]
[null,null,null,null,null,null," ",null," "]
[null,null,null,null,null,null," ",null," "]
[null,null,null,null,null,null," ",null," "]
[null,null,null,null,null,null," ",null," "]
[null,null,null,null,null,null," ",null," "]
[null,null,null,null,null,null," ",null," "]
[null,null,null,null,null,null," ",null," "]
[null,"Sous-total autres dépenses externes",null,null,null,null,{"$f":"SUM(G70:G78)","v":0},0,0]
[null,null,null,null,null,null,"Coût total","Partie aidée","Apport"]
[null,"Total fonctionnement",null,null,null,null,{"$f":"G79+G68+G58","v":0},{"$f":"H79+H68+H58","v":0},{"$f":"I79+I68+I58","v":0}]
[null,"Facturation interne"]
[null,"Description",null,null,null,null,"Coût total","Partie aidée","Apport"]
[null," ",null,null,null,null," ",null,{"$f":"IF(OR(ISNUMBER(G84),ISNUMBER(H84)),ROUND(IF(ISNUMBER(G84),G84,0)-IF(ISNUMBER(H84),H84,0),2),\" \")","v":" "}]
[null," ",null,null,null,null,null,null," "]
[null," ",null,null,null,null,null,null," "]
[null," ",null,null,null,null,null,null," "]
[null," ",null,null,null,null," "," "," "]
[null," ",null,null,null,null," "," "," "]
[null," ",null,null,null,null," "," "," "]
[null," ",null,null,null,null," "," "," "]
[null,"Total facturation interne",null,null,null,null,{"$f":"SUM(G84:G91)","v":0},{"$f":"SUM(H84:H91)","v":0},0]
[null,"Frais de structure"]
[null,"Description",null,null,null,null,"Coût total","Partie aidée","Apport"]
[null," ",null,null,null,null," ",null,{"$f":"IF(OR(ISNUMBER(G95),ISNUMBER(H95)),ROUND(IF(ISNUMBER(G95),G95,0)-IF(ISNUMBER(H95),H95,0),2),\" \")","v":" "}]
[null," ",null,null,null,null,null,null," "]
[null," ",null,null,null,null,null,null," "]
[null," ",null,null,null,null," "," "," "]
[null," ",null,null,null,null," "," "," "]
[null," ",null,null,null,null," "," "," "]
[null," ",null,null,null,null," "," "," "]
[null," ",null,null,null,null," "," "," "]
[null,"Total frais de structure",null,null,null,null,{"$f":"SUM(G95:G102)","v":0},{"$f":"SUM(H95:H102)","v":0},0]
[]
[null,"Synthèse de la demande financière"]
[]
[null,null,null,null,null,null,"Coût complet","Aide demandée","Apport"]
[null,"Total hors frais de gestion",null,null,null,null,{"$f":"G34+G46+G81+G92+G103","v":0},{"$f":"IF(D10=\"Privé\",0,H34+H46+H81+H92+H103)","v":0},{"$f":"I34+I46+I81+I92+I103","v":0}]
[null,"Frais de gestion (max : 8%) (hors frais de structure)",null,null,null,null,{"$f":"H109","v":0},{"$f":"IF(D10=\"Privé\",0,((H108-H103)*E109))","v":0},0]
[null,"Taux d'environnement",null,null,null,null,{"$f":"(G46-G45)*E110","v":0},null,{"$f":"G110","v":0},null,null,{"$f":"(IF($D$11=listesDeroulantes!$A$6,0.7,0)+IF($D$11=listesDeroulantes!$A$7,0.6,0)+IF($D$11=listesDeroulantes!$A$8,0.5,0))","v":0}]
[null,"Total",null,null,null,null,{"$f":"G108+G109+G110","v":0},{"$f":"H108+H109","v":0},{"$f":"I108+I109+I110","v":0}]
[]
[null,"Autres soutiens financiers sollicités ou obtenus pour le projet"]
[]
[null,{"$f":"\"                                   Nom des financeurs\"","v":"                                   Nom des financeurs"},null,"Nature et objet du financement",null,null,null,"Sollicité","Obtenu"]
[null,{"$f":"COUNTA(B$115:B115)","v":1}," "," "]
[null,{"$f":"COUNTA(B$115:B116)","v":2}," "," "]
[null,{"$f":"COUNTA(B$115:B117)","v":3}," "," "]
[null,{"$f":"COUNTA(B$115:B118)","v":4}," "," ",null,null,null," "," "]
[null,{"$f":"COUNTA(B$115:B119)","v":5}," "," ",null,null,null," "," "]
[null,{"$f":"COUNTA(B$115:B120)","v":6}," "," ",null,null,null," "," "]
[null,{"$f":"COUNTA(B$115:B121)","v":7}," "," ",null,null,null," "," "]
[null,{"$f":"COUNTA(B$115:B122)","v":8}," "," ",null,null,null," "," "]
[null,"Total des autres financements",null,null,null,null,null,{"$f":"SUM(H116:H123)","v":0},0]
[]
[null,"Commentaires (le cas échéant)"]
[]
[]
[]
[]
[]
[]
[]
[]
[null,"Les informations personnelles transmises dans ces documents sont obligatoires et seront conservées en fichiers par l'ANR pour assurer la conduite opérationnelle de l'évaluation et l'administration des dossiers.\nConformément à la loi n° 78-17 du 6 janvier 1978 modifiée, relative à l'Informatique, aux Fichiers et aux Libertés, les personnes concernées disposent d'un droit d'accès et de rectification des données personnelles les concernant. Les personnes concernées peuvent exercer ce droit en s'adressant à l'ANR (voir coordonnées dans le texte de l’appel à projets)."]

{"sheet":"part15","index":19,"n_rows":135,"n_cols":12,"rows_kept":135,"cut":false,"hidden":false,"merged":[[123,1,123,3],[125,1,125,8],[127,1,133,8],[134,1,136,8],[117,3,117,6],[118,3,118,6],[119,3,119,6],[120,3,120,6],[121,3,121,6],[122,3,122,6],[110,1,110,5],[112,1,112,8],[114,1,114,2],[114,3,114,6],[115,3,115,6],[116,3,116,6],[104,1,104,8],[105,1,105,8],[106,2,106,5],[107,1,107,5],[108,1,108,3],[109,1,109,3],[97,1,97,5],[98,1,98,5],[99,1,99,5],[100,1,100,5],[101,1,101,5],[102,1,102,3],[91,1,91,3],[92,1,92,8],[93,1,93,5],[94,1,94,5],[95,1,95,5],[96,1,96,5],[85,1,85,5],[86,1,86,5],[87,1,87,5],[88,1,88,5],[89,1,89,5],[90,1,90,5],[79,1,79,3],[80,1,80,3],[81,1,81,8],[82,1,82,5],[83,1,83,5],[84,1,84,5],[73,1,73,3],[74,1,74,3],[75,1,75,3],[76,1,76,3],[77,1,77,3],[78,1,78,3],[67,1,67,3],[68,1,68,3],[69,1,69,3],[70,1,70,3],[71,1,71,3],[72,1,72,3],[61,1,61,3],[62,1,62,3],[63,1,63,3],[64,1,64,3],[65,1,65,3],[66,1,66,3],[55,1,55,3],[56,1,56,3],[57,1,57,3],[58,1,58,3],[59,1,59,3],[60,1,60,3],[49,1,49,3],[50,1,50,3],[51,1,51,3],[52,1,52,3],[53,1,53,3],[54,1,54,3],[42,1,42,2],[43,1,43,2],[45,1,45,3],[46,1,46,8],[47,1,47,3],[48,1,48,3],[36,1,36,2],[37,1,37,2],[38,1,38,2],[39,1,39,2],[40,1,40,2],[41,1,41,2],[30,1,30,3],[31,1,31,3],[32,1,32,3],[33,1,33,3],[34,1,34,8],[35,1,35,2],[26,1,26,3],[27,1,27,3],[28,1,28,3],[29,1,29,3],[17,3,17,8],[18,3,18,8],[19,3,19,8],[20,3,20,4],[22,1,22,8],[23,1,23,8],[11,3,11,5],[13,1,13,8],[16,3,16,8],[0,0,2,4],[0,5,0,8],[1,5,1,6],[1,7,1,8],[24,1,24,3],[25,1,25,3],[2,5,2,6],[2,7,2,8],[4,1,4,8],[6,2,7,2],[6,3,7,8],[8,3,8,5],[9,3,9,5],[10,3,10,5]]}
["Identification de l'établissement partenaire",null,null,null,null,"Réservé à l'organisme gestionnaire du programme",null,null,null,{"$f":"G34","v":0},{"$f":"H34","v":0}]
[null,null,null,null,null,"N° de dossier",null,{"$f":"voletGeneral!$M$2&\"-\"&TEXT(NUM_PARTENAIRE(C2),\"0000\")","v":"ANR-17-EUR-XXXX-0015"},null,{"$f":"G46","v":0},{"$f":"H46","v":0},"Public"]
[null,null,null,null,null,"Acronyme",null,{"$f":"IF(voletGeneral!H10<>\"\",voletGeneral!H10,\"\")","v":""},null,{"$f":"G81","v":0},{"$f":"H81","v":0},"Privé"]
[null,null,20408,{"$f":"C4&\"-0\"","v":"20408-0"},null,null,null,null,null,{"$f":"G92","v":0},{"$f":"H92","v":0}]
[null,"Nom complet du partenaire",null,null,null,null,null,null,null,{"$f":"G103","v":0},{"$f":"H103","v":0}]
[null,null,null,null,null,null,null,null,null,{"$f":"G109","v":0},{"$f":"H109","v":0},"EPSCP"]
[null,null,"Nom complet du partenaire",null,null,null,null,null,null,{"$f":"G110","v":0},0,"EPST"]
[null,null,null,null,null,null,null,null,null,{"$f":"G111","v":0},{"$f":"H111","v":0},"EPA"]
[null,null,"Sigle du partenaire ",null,null,null,null,null,null,{"$f":"H124","v":0},{"$f":"I124","v":0},"EPIC"]
[null,null,"Secteur d'activité du partenaire",null,null,null,null,"co-porteur de l'EUR :",null,null,null,"Autre établissement public"]
[null,null,"Type de partenaire",null,null,null,null,null,null,null,null,"Groupement d'établissements"]
[null,null,"Numéro SIRET",null,null,null,null,null,null,null,null,"Fondation"]
[null,null,null,null,null,null,null,null,null,null,null,"Association"]
[null,"Personne habilitée à engager juridiquement l'établissement partenaire",null,null,null,null,null,null,null,null,null,"Petite entreprise "]
[null,null,null,null,null,null,null,null,null,null,null,"Moyenne entreprise"]
[null,null,"Genre",null,null,null,null,null,null,null,null,"Grande entreprise"]
[null,null,"Nom",null,null,null,null,null,null,null,null,"Statutaire"]
[null,null,"Prénom",null,null,null,null,null,null,null,null,"Non statutaire avec financement"]
[null,null,"Qualité",null,null,null,null,null,null,null,null,"Non statutaire sans financement"]
[null,null,"Courriel"]
[null,null,"Téléphone"]
[]
[null,"Demande financière ANR détaillée du projet"]
[null,"Equipement (coût unitaire HT > 4000 € - si le partenaire récupére la TVA, indiquer le coût hors TVA)"]
[null,"Description",null,null,"Coût unitaire","Quantité","Coût total","Partie aidée","Apport"]
[null,null,null,null,null,null,{"$f":"IF(AND(ISNUMBER(E26),ISNUMBER(F26)),E26*F26,\" \")","v":" "},null,{"$f":"IF(OR(ISNUMBER(G26),ISNUMBER(H26)),ROUND(IF(ISNUMBER(G26),G26,0)-IF(ISNUMBER(H26),H26,0),2),\" \")","v":" "}]
[null,null,null,null,null,null," ",null," "]
[null,null,null,null,null,null," ",null," "]
[null,null,null,null,null,null," ",null," "]
[null,null,null,null,null,null," ",null," "]
[null,null,null,null,null,null," ",null," "]
[null,null,null,null,null,null," ",null," "]
[null,null,null,null,null,null," ",null," "]
[null,"Total équipement",null,null,null,null,{"$f":"SUM(G26:G33)","v":0},{"$f":"SUM(H26:H33)","v":0},0]
[null,"Personnel"]
[null,"Description",null,"Statut","Coût unitaire","Nb. h.mois","Coût total","Aide","Apport"]
[null,null,null,null,null,null,{"$f":"IF(AND(ISNUMBER(E37),ISNUMBER(F37)),E37*F37,\" \")","v":" "},null,{"$f":"IF(OR(ISNUMBER(G37),ISNUMBER(H37)),ROUND(IF(ISNUMBER(G37),G37,0)-IF(ISNUMBER(H37),H37,0),2),\" \")","v":" "}]
[null,null,null,null,null,null," ",null," "]
[null,null,null,null,null,null," ",null," "]
[null,null,null,null,null,null," ",null," "]
[null,null,null,null,null,null," ",null,{"$f":"IF(OR(ISNUMBER(G41),ISNUMBER(H41)),ROUND(IF(ISNUMBER(G41),G41,0)-IF(ISNUMBER(H41),H41,0),2),\" \")","v":" "}]
[null,null,null,null,null,null," ",null," "]
[null,null,null,null,null,null," ",null," "]
[null,null,null,null,null,null," ",null," "]
[null,"Primes et heures complémentaires pour le personnel statutaire",null,null,null,null,null,{"$f":"IF(G45<>\" \",G45,\" \")","v":0}]
[null,"Total personnel",null,null,null,{"$f":"SUM(F37:F44)","v":0},{"$f":"SUM(G37:G45)","v":0},{"$f":"SUM(H37:H45)","v":0},{"$f":"SUM(I37:I44)","v":0}]
[null,"Fonctionnement (si le partenaire récupère la TVA, indiquer le coût hors TVA)"]
[null,"Description",null,null,"Coût unitaire","Quantité","Coût total","Partie aidée","Apport"]
[null,"Prestations de service externes"]
[null,null,null,null,null,null,null,null,{"$f":"IF(OR(ISNUMBER(G50),ISNUMBER(H50)),ROUND(IF(ISNUMBER(G50),G50,0)-IF(ISNUMBER(H50),H50,0),2),\" \")","v":" "}]
[null,null,null,null,null,null,null,null," "]
[null,null,null,null,null,null,null,null," "]
[null,null,null,null,null,null,null,null," "]
[null,null,null,null,null,null,null,null," "]
[null,null,null,null,null,null,null,null," "]
[null,null,null,null,null,null,null,null," "]
[null,null,null,null,null,null,null,null," "]
[null,"Sous-total prestations de service externes",null,null,null,null,{"$f":"SUM(G50:G57)","v":0},{"$f":"SUM(H50:H57)","v":0},{"$f":"SUM(I50:I57)","v":0}]
[null,"Missions",null,null,"Coût unitaire","Quantité","Coût total","Partie aidée","Apport"]
[null,null,null,null,null,null,null,null,{"$f":"IF(OR(ISNUMBER(G60),ISNUMBER(H60)),ROUND(IF(ISNUMBER(G60),G60,0)-IF(ISNUMBER(H60),H60,0),2),\" \")","v":" "}]
[null,null,null,null,null,null,null,null," "]
[null,null,null,null,null,null,null,null," "]
[null,null,null,null,null,null,null,null," "]
[null,null,null,null,null,null,null,null," "]
[null,null,null,null,null,null,null,null," "]
[null,null,null,null,null,null,null,null," "]
[null,null,null,null,null,null,null,null," "]
[null,"Sous-total missions",null,null,null,null,{"$f":"SUM(G60:G67)","v":0},0,0]
[null,"Autres dépenses externes",null,null,"Coût unitaire","Quantité","Coût total","Partie aidée","Apport"]
[null,null,null,null,null,null,{"$f":"IF(AND(ISNUMBER(E70),ISNUMBER(F70)),E70*F70,\" \")","v":" "},null,{"$f":"IF(OR(ISNUMBER(G70),ISNUMBER(H70)),ROUND(IF(ISNUMBER(G70),G70,0)-IF(ISNUMBER(H70),H70,0),2),\" \")","v":" "}]
[null,null,null,null,null,null," ",null," "]
[null,null,null,null,null,null," ",null," "]
[null,null,null,null,null,null," ",null," "]
[null,null,null,null,null,null," ",null," "]
[null,null,null,null,null,null," ",null," "]
[null,null,null,null,null,null," ",null," "]
[null,null,null,null,null,null," ",null," "]
[null,null,null,null,null,null," ",null," "]
[null,"Sous-total autres dépenses externes",null,null,null,null,{"$f":"SUM(G70:G78)","v":0},0,0]
[null,null,null,null,null,null,"Coût total","Partie aidée","Apport"]
[null,"Total fonctionnement",null,null,null,null,{"$f":"G79+G68+G58","v":0},{"$f":"H79+H68+H58","v":0},{"$f":"I79+I68+I58","v":0}]
[null,"Facturation interne"]
[null,"Description",null,null,null,null,"Coût total","Partie aidée","Apport"]
[null," ",null,null,null,null," ",null,{"$f":"IF(OR(ISNUMBER(G84),ISNUMBER(H84)),ROUND(IF(ISNUMBER(G84),G84,0)-IF(ISNUMBER(H84),H84,0),2),\" \")","v":" "}]
[null," ",null,null,null,null,null,null," "]
[null," ",null,null,null,null,null,null," "]
[null," ",null,null,null,null,null,null," "]
[null," ",null,null,null,null," "," "," "]
[null," ",null,null,null,null," "," "," "]
[null," ",null,null,null,null," "," "," "]
[null," ",null,null,null,null," "," "," "]
[null,"Total facturation interne",null,null,null,null,{"$f":"SUM(G84:G91)","v":0},{"$f":"SUM(H84:H91)","v":0},0]
[null,"Frais de structure"]
[null,"Description",null,null,null,null,"Coût total","Partie aidée","Apport"]
[null," ",null,null,null,null," ",null,{"$f":"IF(OR(ISNUMBER(G95),ISNUMBER(H95)),ROUND(IF(ISNUMBER(G95),G95,0)-IF(ISNUMBER(H95),H95,0),2),\" \")","v":" "}]
[null," ",null,null,null,null,null,null," "]
[null," ",null,null,null,null,null,null," "]
[null," ",null,null,null,null," "," "," "]
[null," ",null,null,null,null," "," "," "]
[null," ",null,null,null,null," "," "," "]
[null," ",null,null,null,null," "," "," "]
[null," ",null,null,null,null," "," "," "]
[null,"Total frais de structure",null,null,null,null,{"$f":"SUM(G95:G102)","v":0},{"$f":"SUM(H95:H102)","v":0},0]
[]
[null,"Synthèse de la demande financière"]
[]
[null,null,null,null,null,null,"Coût complet","Aide demandée","Apport"]
[null,"Total hors frais de gestion",null,null,null,null,{"$f":"G34+G46+G81+G92+G103","v":0},{"$f":"IF(D10=\"Privé\",0,H34+H46+H81+H92+H103)","v":0},{"$f":"I34+I46+I81+I92+I103","v":0}]
[null,"Frais de gestion (max : 8%) (hors frais de structure)",null,null,null,null,{"$f":"H109","v":0},{"$f":"IF(D10=\"Privé\",0,((H108-H103)*E109))","v":0},0]
[null,"Taux d'environnement",null,null,null,null,{"$f":"(G46-G45)*E110","v":0},null,{"$f":"G110","v":0},null,null,{"$f":"(IF($D$11=listesDeroulantes!$A$6,0.7,0)+IF($D$11=listesDeroulantes!$A$7,0.6,0)+IF($D$11=listesDeroulantes!$A$8,0.5,0))","v":0}]
[null,"Total",null,null,null,null,{"$f":"G108+G109+G110","v":0},{"$f":"H108+H109","v":0},{"$f":"I108+I109+I110","v":0}]
[]
[null,"Autres soutiens financiers sollicités ou obtenus pour le projet"]
[]
[null,{"$f":"\"                                   Nom des financeurs\"","v":"                                   Nom des financeurs"},null,"Nature et objet du financement",null,null,null,"Sollicité","Obtenu"]
[null,{"$f":"COUNTA(B$115:B115)","v":1}," "," "]
[null,{"$f":"COUNTA(B$115:B116)","v":2}," "," "]
[null,{"$f":"COUNTA(B$115:B117)","v":3}," "," "]
[null,{"$f":"COUNTA(B$115:B118)","v":4}," "," ",null,null,null," "," "]
[null,{"$f":"COUNTA(B$115:B119)","v":5}," "," ",null,null,null," "," "]
[null,{"$f":"COUNTA(B$115:B120)","v":6}," "," ",null,null,null," "," "]
[null,{"$f":"COUNTA(B$115:B121)","v":7}," "," ",null,null,null," "," "]
[null,{"$f":"COUNTA(B$115:B122)","v":8}," "," ",null,null,null," "," "]
[null,"Total des autres financements",null,null,null,null,null,{"$f":"SUM(H116:H123)","v":0},0]
[]
[null,"Commentaires (le cas échéant)"]
[]
[]
[]
[]
[]
[]
[]
[]
[null,"Les informations personnelles transmises dans ces documents sont obligatoires et seront conservées en fichiers par l'ANR pour assurer la conduite opérationnelle de l'évaluation et l'administration des dossiers.\nConformément à la loi n° 78-17 du 6 janvier 1978 modifiée, relative à l'Informatique, aux Fichiers et aux Libertés, les personnes concernées disposent d'un droit d'accès et de rectification des données personnelles les concernant. Les personnes concernées peuvent exercer ce droit en s'adressant à l'ANR (voir coordonnées dans le texte de l’appel à projets)."]

{"sheet":"part16","index":20,"n_rows":135,"n_cols":12,"rows_kept":135,"cut":false,"hidden":false,"merged":[[123,1,123,3],[125,1,125,8],[127,1,133,8],[134,1,136,8],[117,3,117,6],[118,3,118,6],[119,3,119,6],[120,3,120,6],[121,3,121,6],[122,3,122,6],[110,1,110,5],[112,1,112,8],[114,1,114,2],[114,3,114,6],[115,3,115,6],[116,3,116,6],[104,1,104,8],[105,1,105,8],[106,2,106,5],[107,1,107,5],[108,1,108,3],[109,1,109,3],[97,1,97,5],[98,1,98,5],[99,1,99,5],[100,1,100,5],[101,1,101,5],[102,1,102,3],[91,1,91,3],[92,1,92,8],[93,1,93,5],[94,1,94,5],[95,1,95,5],[96,1,96,5],[85,1,85,5],[86,1,86,5],[87,1,87,5],[88,1,88,5],[89,1,89,5],[90,1,90,5],[79,1,79,3],[80,1,80,3],[81,1,81,8],[82,1,82,5],[83,1,83,5],[84,1,84,5],[73,1,73,3],[74,1,74,3],[75,1,75,3],[76,1,76,3],[77,1,77,3],[78,1,78,3],[67,1,67,3],[68,1,68,3],[69,1,69,3],[70,1,70,3],[71,1,71,3],[72,1,72,3],[61,1,61,3],[62,1,62,3],[63,1,63,3],[64,1,64,3],[65,1,65,3],[66,1,66,3],[55,1,55,3],[56,1,56,3],[57,1,57,3],[58,1,58,3],[59,1,59,3],[60,1,60,3],[49,1,49,3],[50,1,50,3],[51,1,51,3],[52,1,52,3],[53,1,53,3],[54,1,54,3],[42,1,42,2],[43,1,43,2],[45,1,45,3],[46,1,46,8],[47,1,47,3],[48,1,48,3],[36,1,36,2],[37,1,37,2],[38,1,38,2],[39,1,39,2],[40,1,40,2],[41,1,41,2],[30,1,30,3],[31,1,31,3],[32,1,32,3],[33,1,33,3],[34,1,34,8],[35,1,35,2],[26,1,26,3],[27,1,27,3],[28,1,28,3],[29,1,29,3],[17,3,17,8],[18,3,18,8],[19,3,19,8],[20,3,20,4],[22,1,22,8],[23,1,23,8],[11,3,11,5],[13,1,13,8],[16,3,16,8],[0,0,2,4],[0,5,0,8],[1,5,1,6],[1,7,1,8],[24,1,24,3],[25,1,25,3],[2,5,2,6],[2,7,2,8],[4,1,4,8],[6,2,7,2],[6,3,7,8],[8,3,8,5],[9,3,9,5],[10,3,10,5]]}
["Identification de l'établissement partenaire",null,null,null,null,"Réservé à l'organisme gestionnaire du programme",null,null,null,{"$f":"G34","v":0},{"$f":"H34","v":0}]
[null,null,null,null,null,"N° de dossier",null,{"$f":"voletGeneral!$M$2&\"-\"&TEXT(NUM_PARTENAIRE(C2),\"0000\")","v":"ANR-17-EUR-XXXX-0016"},null,{"$f":"G46","v":0},{"$f":"H46","v":0},"Public"]
[null,null,null,null,null,"Acronyme",null,{"$f":"IF(voletGeneral!H10<>\"\",voletGeneral!H10,\"\")","v":""},null,{"$f":"G81","v":0},{"$f":"H81","v":0},"Privé"]
[null,null,20408,{"$f":"C4&\"-0\"","v":"20408-0"},null,null,null,null,null,{"$f":"G92","v":0},{"$f":"H92","v":0}]
[null,"Nom complet du partenaire",null,null,null,null,null,null,null,{"$f":"G103","v":0},{"$f":"H103","v":0}]
[null,null,null,null,null,null,null,null,null,{"$f":"G109","v":0},{"$f":"H109","v":0},"EPSCP"]
[null,null,"Nom complet du partenaire",null,null,null,null,null,null,{"$f":"G110","v":0},0,"EPST"]
[null,null,null,null,null,null,null,null,null,{"$f":"G111","v":0},{"$f":"H111","v":0},"EPA"]
[null,null,"Sigle du partenaire ",null,null,null,null,null,null,{"$f":"H124","v":0},{"$f":"I124","v":0},"EPIC"]
[null,null,"Secteur d'activité du partenaire",null,null,null,null,"co-porteur de l'EUR :",null,null,null,"Autre établissement public"]
[null,null,"Type de partenaire",null,null,null,null,null,null,null,null,"Groupement d'établissements"]
[null,null,"Numéro SIRET",null,null,null,null,null,null,null,null,"Fondation"]
[null,null,null,null,null,null,null,null,null,null,null,"Association"]
[null,"Personne habilitée à engager juridiquement l'établissement partenaire",null,null,null,null,null,null,null,null,null,"Petite entreprise "]
[null,null,null,null,null,null,null,null,null,null,null,"Moyenne entreprise"]
[null,null,"Genre",null,null,null,null,null,null,null,null,"Grande entreprise"]
[null,null,"Nom",null,null,null,null,null,null,null,null,"Statutaire"]
[null,null,"Prénom",null,null,null,null,null,null,null,null,"Non statutaire avec financement"]
[null,null,"Qualité",null,null,null,null,null,null,null,null,"Non statutaire sans financement"]
[null,null,"Courriel"]
[null,null,"Téléphone"]
[]
[null,"Demande financière ANR détaillée du projet"]
[null,"Equipement (coût unitaire HT > 4000 € - si le partenaire récupére la TVA, indiquer le coût hors TVA)"]
[null,"Description",null,null,"Coût unitaire","Quantité","Coût total","Partie aidée","Apport"]
[null,null,null,null,null,null,{"$f":"IF(AND(ISNUMBER(E26),ISNUMBER(F26)),E26*F26,\" \")","v":" "},null,{"$f":"IF(OR(ISNUMBER(G26),ISNUMBER(H26)),ROUND(IF(ISNUMBER(G26),G26,0)-IF(ISNUMBER(H26),H26,0),2),\" \")","v":" "}]
[null,null,null,null,null,null," ",null," "]
[null,null,null,null,null,null," ",null," "]
[null,null,null,null,null,null," ",null," "]
[null,null,null,null,null,null," ",null," "]
[null,null,null,null,null,null," ",null," "]
[null,null,null,null,null,null," ",null," "]
[null,null,null,null,null,null," ",null," "]
[null,"Total équipement",null,null,null,null,{"$f":"SUM(G26:G33)","v":0},{"$f":"SUM(H26:H33)","v":0},0]
[null,"Personnel"]
[null,"Description",null,"Statut","Coût unitaire","Nb. h.mois","Coût total","Aide","Apport"]
[null,null,null,null,null,null,{"$f":"IF(AND(ISNUMBER(E37),ISNUMBER(F37)),E37*F37,\" \")","v":" "},null,{"$f":"IF(OR(ISNUMBER(G37),ISNUMBER(H37)),ROUND(IF(ISNUMBER(G37),G37,0)-IF(ISNUMBER(H37),H37,0),2),\" \")","v":" "}]
[null,null,null,null,null,null," ",null," "]
[null,null,null,null,null,null," ",null," "]
[null,null,null,null,null,null," ",null," "]
[null,null,null,null,null,null," ",null,{"$f":"IF(OR(ISNUMBER(G41),ISNUMBER(H41)),ROUND(IF(ISNUMBER(G41),G41,0)-IF(ISNUMBER(H41),H41,0),2),\" \")","v":" "}]
[null,null,null,null,null,null," ",null," "]
[null,null,null,null,null,null," ",null," "]
[null,null,null,null,null,null," ",null," "]
[null,"Primes et heures complémentaires pour le personnel statutaire",null,null,null,null,null,{"$f":"IF(G45<>\" \",G45,\" \")","v":0}]
[null,"Total personnel",null,null,null,{"$f":"SUM(F37:F44)","v":0},{"$f":"SUM(G37:G45)","v":0},{"$f":"SUM(H37:H45)","v":0},{"$f":"SUM(I37:I44)","v":0}]
[null,"Fonctionnement (si le partenaire récupère la TVA, indiquer le coût hors TVA)"]
[null,"Description",null,null,"Coût unitaire","Quantité","Coût total","Partie aidée","Apport"]
[null,"Prestations de service externes"]
[null,null,null,null,null,null,null,null,{"$f":"IF(OR(ISNUMBER(G50),ISNUMBER(H50)),ROUND(IF(ISNUMBER(G50),G50,0)-IF(ISNUMBER(H50),H50,0),2),\" \")","v":" "}]
[null,null,null,null,null,null,null,null," "]
[null,null,null,null,null,null,null,null," "]
[null,null,null,null,null,null,null,null," "]
[null,null,null,null,null,null,null,null," "]
[null,null,null,null,null,null,null,null," "]
[null,null,null,null,null,null,null,null," "]
[null,null,null,null,null,null,null,null," "]
[null,"Sous-total prestations de service externes",null,null,null,null,{"$f":"SUM(G50:G57)","v":0},{"$f":"SUM(H50:H57)","v":0},{"$f":"SUM(I50:I57)","v":0}]
[null,"Missions",null,null,"Coût unitaire","Quantité","Coût total","Partie aidée","Apport"]
[null,null,null,null,null,null,null,null,{"$f":"IF(OR(ISNUMBER(G60),ISNUMBER(H60)),ROUND(IF(ISNUMBER(G60),G60,0)-IF(ISNUMBER(H60),H60,0),2),\" \")","v":" "}]
[null,null,null,null,null,null,null,null," "]
[null,null,null,null,null,null,null,null," "]
[null,null,null,null,null,null,null,null," "]
[null,null,null,null,null,null,null,null," "]
[null,null,null,null,null,null,null,null," "]
[null,null,null,null,null,null,null,null," "]
[null,null,null,null,null,null,null,null," "]
[null,"Sous-total missions",null,null,null,null,{"$f":"SUM(G60:G67)","v":0},0,0]
[null,"Autres dépenses externes",null,null,"Coût unitaire","Quantité","Coût total","Partie aidée","Apport"]
[null,null,null,null,null,null,{"$f":"IF(AND(ISNUMBER(E70),ISNUMBER(F70)),E70*F70,\" \")","v":" "},null,{"$f":"IF(OR(ISNUMBER(G70),ISNUMBER(H70)),ROUND(IF(ISNUMBER(G70),G70,0)-IF(ISNUMBER(H70),H70,0),2),\" \")","v":" "}]
[null,null,null,null,null,null," ",null," "]
[null,null,null,null,null,null," ",null," "]
[null,null,null,null,null,null," ",null," "]
[null,null,null,null,null,null," ",null," "]
[null,null,null,null,null,null," ",null," "]
[null,null,null,null,null,null," ",null," "]
[null,null,null,null,null,null," ",null," "]
[null,null,null,null,null,null," ",null," "]
[null,"Sous-total autres dépenses externes",null,null,null,null,{"$f":"SUM(G70:G78)","v":0},0,0]
[null,null,null,null,null,null,"Coût total","Partie aidée","Apport"]
[null,"Total fonctionnement",null,null,null,null,{"$f":"G79+G68+G58","v":0},{"$f":"H79+H68+H58","v":0},{"$f":"I79+I68+I58","v":0}]
[null,"Facturation interne"]
[null,"Description",null,null,null,null,"Coût total","Partie aidée","Apport"]
[null," ",null,null,null,null," ",null,{"$f":"IF(OR(ISNUMBER(G84),ISNUMBER(H84)),ROUND(IF(ISNUMBER(G84),G84,0)-IF(ISNUMBER(H84),H84,0),2),\" \")","v":" "}]
[null," ",null,null,null,null,null,null," "]
[null," ",null,null,null,null,null,null," "]
[null," ",null,null,null,null,null,null," "]
[null," ",null,null,null,null," "," "," "]
[null," ",null,null,null,null," "," "," "]
[null," ",null,null,null,null," "," "," "]
[null," ",null,null,null,null," "," "," "]
[null,"Total facturation interne",null,null,null,null,{"$f":"SUM(G84:G91)","v":0},{"$f":"SUM(H84:H91)","v":0},0]
[null,"Frais de structure"]
[null,"Description",null,null,null,null,"Coût total","Partie aidée","Apport"]
[null," ",null,null,null,null," ",null,{"$f":"IF(OR(ISNUMBER(G95),ISNUMBER(H95)),ROUND(IF(ISNUMBER(G95),G95,0)-IF(ISNUMBER(H95),H95,0),2),\" \")","v":" "}]
[null," ",null,null,null,null,null,null," "]
[null," ",null,null,null,null,null,null," "]
[null," ",null,null,null,null," "," "," "]
[null," ",null,null,null,null," "," "," "]
[null," ",null,null,null,null," "," "," "]
[null," ",null,null,null,null," "," "," "]
[null," ",null,null,null,null," "," "," "]
[null,"Total frais de structure",null,null,null,null,{"$f":"SUM(G95:G102)","v":0},{"$f":"SUM(H95:H102)","v":0},0]
[]
[null,"Synthèse de la demande financière"]
[]
[null,null,null,null,null,null,"Coût complet","Aide demandée","Apport"]
[null,"Total hors frais de gestion",null,null,null,null,{"$f":"G34+G46+G81+G92+G103","v":0},{"$f":"IF(D10=\"Privé\",0,H34+H46+H81+H92+H103)","v":0},{"$f":"I34+I46+I81+I92+I103","v":0}]
[null,"Frais de gestion (max : 8%) (hors frais de structure)",null,null,null,null,{"$f":"H109","v":0},{"$f":"IF(D10=\"Privé\",0,((H108-H103)*E109))","v":0},0]
[null,"Taux d'environnement",null,null,null,null,{"$f":"(G46-G45)*E110","v":0},null,{"$f":"G110","v":0},null,null,{"$f":"(IF($D$11=listesDeroulantes!$A$6,0.7,0)+IF($D$11=listesDeroulantes!$A$7,0.6,0)+IF($D$11=listesDeroulantes!$A$8,0.5,0))","v":0}]
[null,"Total",null,null,null,null,{"$f":"G108+G109+G110","v":0},{"$f":"H108+H109","v":0},{"$f":"I108+I109+I110","v":0}]
[]
[null,"Autres soutiens financiers sollicités ou obtenus pour le projet"]
[]
[null,{"$f":"\"                                   Nom des financeurs\"","v":"                                   Nom des financeurs"},null,"Nature et objet du financement",null,null,null,"Sollicité","Obtenu"]
[null,{"$f":"COUNTA(B$115:B115)","v":1}," "," "]
[null,{"$f":"COUNTA(B$115:B116)","v":2}," "," "]
[null,{"$f":"COUNTA(B$115:B117)","v":3}," "," "]
[null,{"$f":"COUNTA(B$115:B118)","v":4}," "," ",null,null,null," "," "]
[null,{"$f":"COUNTA(B$115:B119)","v":5}," "," ",null,null,null," "," "]
[null,{"$f":"COUNTA(B$115:B120)","v":6}," "," ",null,null,null," "," "]
[null,{"$f":"COUNTA(B$115:B121)","v":7}," "," ",null,null,null," "," "]
[null,{"$f":"COUNTA(B$115:B122)","v":8}," "," ",null,null,null," "," "]
[null,"Total des autres financements",null,null,null,null,null,{"$f":"SUM(H116:H123)","v":0},0]
[]
[null,"Commentaires (le cas échéant)"]
[]
[]
[]
[]
[]
[]
[]
[]
[null,"Les informations personnelles transmises dans ces documents sont obligatoires et seront conservées en fichiers par l'ANR pour assurer la conduite opérationnelle de l'évaluation et l'administration des dossiers.\nConformément à la loi n° 78-17 du 6 janvier 1978 modifiée, relative à l'Informatique, aux Fichiers et aux Libertés, les personnes concernées disposent d'un droit d'accès et de rectification des données personnelles les concernant. Les personnes concernées peuvent exercer ce droit en s'adressant à l'ANR (voir coordonnées dans le texte de l’appel à projets)."]

{"sheet":"part17","index":21,"n_rows":135,"n_cols":12,"rows_kept":135,"cut":false,"hidden":false,"merged":[[123,1,123,3],[125,1,125,8],[127,1,133,8],[134,1,136,8],[117,3,117,6],[118,3,118,6],[119,3,119,6],[120,3,120,6],[121,3,121,6],[122,3,122,6],[110,1,110,5],[112,1,112,8],[114,1,114,2],[114,3,114,6],[115,3,115,6],[116,3,116,6],[104,1,104,8],[105,1,105,8],[106,2,106,5],[107,1,107,5],[108,1,108,3],[109,1,109,3],[97,1,97,5],[98,1,98,5],[99,1,99,5],[100,1,100,5],[101,1,101,5],[102,1,102,3],[91,1,91,3],[92,1,92,8],[93,1,93,5],[94,1,94,5],[95,1,95,5],[96,1,96,5],[85,1,85,5],[86,1,86,5],[87,1,87,5],[88,1,88,5],[89,1,89,5],[90,1,90,5],[79,1,79,3],[80,1,80,3],[81,1,81,8],[82,1,82,5],[83,1,83,5],[84,1,84,5],[73,1,73,3],[74,1,74,3],[75,1,75,3],[76,1,76,3],[77,1,77,3],[78,1,78,3],[67,1,67,3],[68,1,68,3],[69,1,69,3],[70,1,70,3],[71,1,71,3],[72,1,72,3],[61,1,61,3],[62,1,62,3],[63,1,63,3],[64,1,64,3],[65,1,65,3],[66,1,66,3],[55,1,55,3],[56,1,56,3],[57,1,57,3],[58,1,58,3],[59,1,59,3],[60,1,60,3],[49,1,49,3],[50,1,50,3],[51,1,51,3],[52,1,52,3],[53,1,53,3],[54,1,54,3],[42,1,42,2],[43,1,43,2],[45,1,45,3],[46,1,46,8],[47,1,47,3],[48,1,48,3],[36,1,36,2],[37,1,37,2],[38,1,38,2],[39,1,39,2],[40,1,40,2],[41,1,41,2],[30,1,30,3],[31,1,31,3],[32,1,32,3],[33,1,33,3],[34,1,34,8],[35,1,35,2],[26,1,26,3],[27,1,27,3],[28,1,28,3],[29,1,29,3],[17,3,17,8],[18,3,18,8],[19,3,19,8],[20,3,20,4],[22,1,22,8],[23,1,23,8],[11,3,11,5],[13,1,13,8],[16,3,16,8],[0,0,2,4],[0,5,0,8],[1,5,1,6],[1,7,1,8],[24,1,24,3],[25,1,25,3],[2,5,2,6],[2,7,2,8],[4,1,4,8],[6,2,7,2],[6,3,7,8],[8,3,8,5],[9,3,9,5],[10,3,10,5]]}
["Identification de l'établissement partenaire",null,null,null,null,"Réservé à l'organisme gestionnaire du programme",null,null,null,{"$f":"G34","v":0},{"$f":"H34","v":0}]
[null,null,null,null,null,"N° de dossier",null,{"$f":"voletGeneral!$M$2&\"-\"&TEXT(NUM_PARTENAIRE(C2),\"0000\")","v":"ANR-17-EUR-XXXX-0017"},null,{"$f":"G46","v":0},{"$f":"H46","v":0},"Public"]
[null,null,null,null,null,"Acronyme",null,{"$f":"IF(voletGeneral!H10<>\"\",voletGeneral!H10,\"\")","v":""},null,{"$f":"G81","v":0},{"$f":"H81","v":0},"Privé"]
[null,null,20408,{"$f":"C4&\"-0\"","v":"20408-0"},null,null,null,null,null,{"$f":"G92","v":0},{"$f":"H92","v":0}]
[null,"Nom complet du partenaire",null,null,null,null,null,null,null,{"$f":"G103","v":0},{"$f":"H103","v":0}]
[null,null,null,null,null,null,null,null,null,{"$f":"G109","v":0},{"$f":"H109","v":0},"EPSCP"]
[null,null,"Nom complet du partenaire",null,null,null,null,null,null,{"$f":"G110","v":0},0,"EPST"]
[null,null,null,null,null,null,null,null,null,{"$f":"G111","v":0},{"$f":"H111","v":0},"EPA"]
[null,null,"Sigle du partenaire ",null,null,null,null,null,null,{"$f":"H124","v":0},{"$f":"I124","v":0},"EPIC"]
[null,null,"Secteur d'activité du partenaire",null,null,null,null,"co-porteur de l'EUR :",null,null,null,"Autre établissement public"]
[null,null,"Type de partenaire",null,null,null,null,null,null,null,null,"Groupement d'établissements"]
[null,null,"Numéro SIRET",null,null,null,null,null,null,null,null,"Fondation"]
[null,null,null,null,null,null,null,null,null,null,null,"Association"]
[null,"Personne habilitée à engager juridiquement l'établissement partenaire",null,null,null,null,null,null,null,null,null,"Petite entreprise "]
[null,null,null,null,null,null,null,null,null,null,null,"Moyenne entreprise"]
[null,null,"Genre",null,null,null,null,null,null,null,null,"Grande entreprise"]
[null,null,"Nom",null,null,null,null,null,null,null,null,"Statutaire"]
[null,null,"Prénom",null,null,null,null,null,null,null,null,"Non statutaire avec financement"]
[null,null,"Qualité",null,null,null,null,null,null,null,null,"Non statutaire sans financement"]
[null,null,"Courriel"]
[null,null,"Téléphone"]
[]
[null,"Demande financière ANR détaillée du projet"]
[null,"Equipement (coût unitaire HT > 4000 € - si le partenaire récupére la TVA, indiquer le coût hors TVA)"]
[null,"Description",null,null,"Coût unitaire","Quantité","Coût total","Partie aidée","Apport"]
[null,null,null,null,null,null,{"$f":"IF(AND(ISNUMBER(E26),ISNUMBER(F26)),E26*F26,\" \")","v":" "},null,{"$f":"IF(OR(ISNUMBER(G26),ISNUMBER(H26)),ROUND(IF(ISNUMBER(G26),G26,0)-IF(ISNUMBER(H26),H26,0),2),\" \")","v":" "}]
[null,null,null,null,null,null," ",null," "]
[null,null,null,null,null,null," ",null," "]
[null,null,null,null,null,null," ",null," "]
[null,null,null,null,null,null," ",null," "]
[null,null,null,null,null,null," ",null," "]
[null,null,null,null,null,null," ",null," "]
[null,null,null,null,null,null," ",null," "]
[null,"Total équipement",null,null,null,null,{"$f":"SUM(G26:G33)","v":0},{"$f":"SUM(H26:H33)","v":0},0]
[null,"Personnel"]
[null,"Description",null,"Statut","Coût unitaire","Nb. h.mois","Coût total","Aide","Apport"]
[null,null,null,null,null,null,{"$f":"IF(AND(ISNUMBER(E37),ISNUMBER(F37)),E37*F37,\" \")","v":" "},null,{"$f":"IF(OR(ISNUMBER(G37),ISNUMBER(H37)),ROUND(IF(ISNUMBER(G37),G37,0)-IF(ISNUMBER(H37),H37,0),2),\" \")","v":" "}]
[null,null,null,null,null,null," ",null," "]
[null,null,null,null,null,null," ",null," "]
[null,null,null,null,null,null," ",null," "]
[null,null,null,null,null,null," ",null,{"$f":"IF(OR(ISNUMBER(G41),ISNUMBER(H41)),ROUND(IF(ISNUMBER(G41),G41,0)-IF(ISNUMBER(H41),H41,0),2),\" \")","v":" "}]
[null,null,null,null,null,null," ",null," "]
[null,null,null,null,null,null," ",null," "]
[null,null,null,null,null,null," ",null," "]
[null,"Primes et heures complémentaires pour le personnel statutaire",null,null,null,null,null,{"$f":"IF(G45<>\" \",G45,\" \")","v":0}]
[null,"Total personnel",null,null,null,{"$f":"SUM(F37:F44)","v":0},{"$f":"SUM(G37:G45)","v":0},{"$f":"SUM(H37:H45)","v":0},{"$f":"SUM(I37:I44)","v":0}]
[null,"Fonctionnement (si le partenaire récupère la TVA, indiquer le coût hors TVA)"]
[null,"Description",null,null,"Coût unitaire","Quantité","Coût total","Partie aidée","Apport"]
[null,"Prestations de service externes"]
[null,null,null,null,null,null,null,null,{"$f":"IF(OR(ISNUMBER(G50),ISNUMBER(H50)),ROUND(IF(ISNUMBER(G50),G50,0)-IF(ISNUMBER(H50),H50,0),2),\" \")","v":" "}]
[null,null,null,null,null,null,null,null," "]
[null,null,null,null,null,null,null,null," "]
[null,null,null,null,null,null,null,null," "]
[null,null,null,null,null,null,null,null," "]
[null,null,null,null,null,null,null,null," "]
[null,null,null,null,null,null,null,null," "]
[null,null,null,null,null,null,null,null," "]
[null,"Sous-total prestations de service externes",null,null,null,null,{"$f":"SUM(G50:G57)","v":0},{"$f":"SUM(H50:H57)","v":0},{"$f":"SUM(I50:I57)","v":0}]
[null,"Missions",null,null,"Coût unitaire","Quantité","Coût total","Partie aidée","Apport"]
[null,null,null,null,null,null,null,null,{"$f":"IF(OR(ISNUMBER(G60),ISNUMBER(H60)),ROUND(IF(ISNUMBER(G60),G60,0)-IF(ISNUMBER(H60),H60,0),2),\" \")","v":" "}]
[null,null,null,null,null,null,null,null," "]
[null,null,null,null,null,null,null,null," "]
[null,null,null,null,null,null,null,null," "]
[null,null,null,null,null,null,null,null," "]
[null,null,null,null,null,null,null,null," "]
[null,null,null,null,null,null,null,null," "]
[null,null,null,null,null,null,null,null," "]
[null,"Sous-total missions",null,null,null,null,{"$f":"SUM(G60:G67)","v":0},0,0]
[null,"Autres dépenses externes",null,null,"Coût unitaire","Quantité","Coût total","Partie aidée","Apport"]
[null,null,null,null,null,null,{"$f":"IF(AND(ISNUMBER(E70),ISNUMBER(F70)),E70*F70,\" \")","v":" "},null,{"$f":"IF(OR(ISNUMBER(G70),ISNUMBER(H70)),ROUND(IF(ISNUMBER(G70),G70,0)-IF(ISNUMBER(H70),H70,0),2),\" \")","v":" "}]
[null,null,null,null,null,null," ",null," "]
[null,null,null,null,null,null," ",null," "]
[null,null,null,null,null,null," ",null," "]
[null,null,null,null,null,null," ",null," "]
[null,null,null,null,null,null," ",null," "]
[null,null,null,null,null,null," ",null," "]
[null,null,null,null,null,null," ",null," "]
[null,null,null,null,null,null," ",null," "]
[null,"Sous-total autres dépenses externes",null,null,null,null,{"$f":"SUM(G70:G78)","v":0},0,0]
[null,null,null,null,null,null,"Coût total","Partie aidée","Apport"]
[null,"Total fonctionnement",null,null,null,null,{"$f":"G79+G68+G58","v":0},{"$f":"H79+H68+H58","v":0},{"$f":"I79+I68+I58","v":0}]
[null,"Facturation interne"]
[null,"Description",null,null,null,null,"Coût total","Partie aidée","Apport"]
[null," ",null,null,null,null," ",null,{"$f":"IF(OR(ISNUMBER(G84),ISNUMBER(H84)),ROUND(IF(ISNUMBER(G84),G84,0)-IF(ISNUMBER(H84),H84,0),2),\" \")","v":" "}]
[null," ",null,null,null,null,null,null," "]
[null," ",null,null,null,null,null,null," "]
[null," ",null,null,null,null,null,null," "]
[null," ",null,null,null,null," "," "," "]
[null," ",null,null,null,null," "," "," "]
[null," ",null,null,null,null," "," "," "]
[null," ",null,null,null,null," "," "," "]
[null,"Total facturation interne",null,null,null,null,{"$f":"SUM(G84:G91)","v":0},{"$f":"SUM(H84:H91)","v":0},0]
[null,"Frais de structure"]
[null,"Description",null,null,null,null,"Coût total","Partie aidée","Apport"]
[null," ",null,null,null,null," ",null,{"$f":"IF(OR(ISNUMBER(G95),ISNUMBER(H95)),ROUND(IF(ISNUMBER(G95),G95,0)-IF(ISNUMBER(H95),H95,0),2),\" \")","v":" "}]
[null," ",null,null,null,null,null,null," "]
[null," ",null,null,null,null,null,null," "]
[null," ",null,null,null,null," "," "," "]
[null," ",null,null,null,null," "," "," "]
[null," ",null,null,null,null," "," "," "]
[null," ",null,null,null,null," "," "," "]
[null," ",null,null,null,null," "," "," "]
[null,"Total frais de structure",null,null,null,null,{"$f":"SUM(G95:G102)","v":0},{"$f":"SUM(H95:H102)","v":0},0]
[]
[null,"Synthèse de la demande financière"]
[]
[null,null,null,null,null,null,"Coût complet","Aide demandée","Apport"]
[null,"Total hors frais de gestion",null,null,null,null,{"$f":"G34+G46+G81+G92+G103","v":0},{"$f":"IF(D10=\"Privé\",0,H34+H46+H81+H92+H103)","v":0},{"$f":"I34+I46+I81+I92+I103","v":0}]
[null,"Frais de gestion (max : 8%) (hors frais de structure)",null,null,null,null,{"$f":"H109","v":0},{"$f":"IF(D10=\"Privé\",0,((H108-H103)*E109))","v":0},0]
[null,"Taux d'environnement",null,null,null,null,{"$f":"(G46-G45)*E110","v":0},null,{"$f":"G110","v":0},null,null,{"$f":"(IF($D$11=listesDeroulantes!$A$6,0.7,0)+IF($D$11=listesDeroulantes!$A$7,0.6,0)+IF($D$11=listesDeroulantes!$A$8,0.5,0))","v":0}]
[null,"Total",null,null,null,null,{"$f":"G108+G109+G110","v":0},{"$f":"H108+H109","v":0},{"$f":"I108+I109+I110","v":0}]
[]
[null,"Autres soutiens financiers sollicités ou obtenus pour le projet"]
[]
[null,{"$f":"\"                                   Nom des financeurs\"","v":"                                   Nom des financeurs"},null,"Nature et objet du financement",null,null,null,"Sollicité","Obtenu"]
[null,{"$f":"COUNTA(B$115:B115)","v":1}," "," "]
[null,{"$f":"COUNTA(B$115:B116)","v":2}," "," "]
[null,{"$f":"COUNTA(B$115:B117)","v":3}," "," "]
[null,{"$f":"COUNTA(B$115:B118)","v":4}," "," ",null,null,null," "," "]
[null,{"$f":"COUNTA(B$115:B119)","v":5}," "," ",null,null,null," "," "]
[null,{"$f":"COUNTA(B$115:B120)","v":6}," "," ",null,null,null," "," "]
[null,{"$f":"COUNTA(B$115:B121)","v":7}," "," ",null,null,null," "," "]
[null,{"$f":"COUNTA(B$115:B122)","v":8}," "," ",null,null,null," "," "]
[null,"Total des autres financements",null,null,null,null,null,{"$f":"SUM(H116:H123)","v":0},0]
[]
[null,"Commentaires (le cas échéant)"]
[]
[]
[]
[]
[]
[]
[]
[]
[null,"Les informations personnelles transmises dans ces documents sont obligatoires et seront conservées en fichiers par l'ANR pour assurer la conduite opérationnelle de l'évaluation et l'administration des dossiers.\nConformément à la loi n° 78-17 du 6 janvier 1978 modifiée, relative à l'Informatique, aux Fichiers et aux Libertés, les personnes concernées disposent d'un droit d'accès et de rectification des données personnelles les concernant. Les personnes concernées peuvent exercer ce droit en s'adressant à l'ANR (voir coordonnées dans le texte de l’appel à projets)."]

{"sheet":"part18","index":22,"n_rows":135,"n_cols":12,"rows_kept":135,"cut":false,"hidden":false,"merged":[[123,1,123,3],[125,1,125,8],[127,1,133,8],[134,1,136,8],[117,3,117,6],[118,3,118,6],[119,3,119,6],[120,3,120,6],[121,3,121,6],[122,3,122,6],[110,1,110,5],[112,1,112,8],[114,1,114,2],[114,3,114,6],[115,3,115,6],[116,3,116,6],[104,1,104,8],[105,1,105,8],[106,2,106,5],[107,1,107,5],[108,1,108,3],[109,1,109,3],[97,1,97,5],[98,1,98,5],[99,1,99,5],[100,1,100,5],[101,1,101,5],[102,1,102,3],[91,1,91,3],[92,1,92,8],[93,1,93,5],[94,1,94,5],[95,1,95,5],[96,1,96,5],[85,1,85,5],[86,1,86,5],[87,1,87,5],[88,1,88,5],[89,1,89,5],[90,1,90,5],[79,1,79,3],[80,1,80,3],[81,1,81,8],[82,1,82,5],[83,1,83,5],[84,1,84,5],[73,1,73,3],[74,1,74,3],[75,1,75,3],[76,1,76,3],[77,1,77,3],[78,1,78,3],[67,1,67,3],[68,1,68,3],[69,1,69,3],[70,1,70,3],[71,1,71,3],[72,1,72,3],[61,1,61,3],[62,1,62,3],[63,1,63,3],[64,1,64,3],[65,1,65,3],[66,1,66,3],[55,1,55,3],[56,1,56,3],[57,1,57,3],[58,1,58,3],[59,1,59,3],[60,1,60,3],[49,1,49,3],[50,1,50,3],[51,1,51,3],[52,1,52,3],[53,1,53,3],[54,1,54,3],[42,1,42,2],[43,1,43,2],[45,1,45,3],[46,1,46,8],[47,1,47,3],[48,1,48,3],[36,1,36,2],[37,1,37,2],[38,1,38,2],[39,1,39,2],[40,1,40,2],[41,1,41,2],[30,1,30,3],[31,1,31,3],[32,1,32,3],[33,1,33,3],[34,1,34,8],[35,1,35,2],[26,1,26,3],[27,1,27,3],[28,1,28,3],[29,1,29,3],[17,3,17,8],[18,3,18,8],[19,3,19,8],[20,3,20,4],[22,1,22,8],[23,1,23,8],[11,3,11,5],[13,1,13,8],[16,3,16,8],[0,0,2,4],[0,5,0,8],[1,5,1,6],[1,7,1,8],[24,1,24,3],[25,1,25,3],[2,5,2,6],[2,7,2,8],[4,1,4,8],[6,2,7,2],[6,3,7,8],[8,3,8,5],[9,3,9,5],[10,3,10,5]]}
["Identification de l'établissement partenaire",null,null,null,null,"Réservé à l'organisme gestionnaire du programme",null,null,null,{"$f":"G34","v":0},{"$f":"H34","v":0}]
[null,null,null,null,null,"N° de dossier",null,{"$f":"voletGeneral!$M$2&\"-\"&TEXT(NUM_PARTENAIRE(C2),\"0000\")","v":"ANR-17-EUR-XXXX-0018"},null,{"$f":"G46","v":0},{"$f":"H46","v":0},"Public"]
[null,null,null,null,null,"Acronyme",null,{"$f":"IF(voletGeneral!H10<>\"\",voletGeneral!H10,\"\")","v":""},null,{"$f":"G81","v":0},{"$f":"H81","v":0},"Privé"]
[null,null,20408,{"$f":"C4&\"-0\"","v":"20408-0"},null,null,null,null,null,{"$f":"G92","v":0},{"$f":"H92","v":0}]
[null,"Nom complet du partenaire",null,null,null,null,null,null,null,{"$f":"G103","v":0},{"$f":"H103","v":0}]
[null,null,null,null,null,null,null,null,null,{"$f":"G109","v":0},{"$f":"H109","v":0},"EPSCP"]
[null,null,"Nom complet du partenaire",null,null,null,null,null,null,{"$f":"G110","v":0},0,"EPST"]
[null,null,null,null,null,null,null,null,null,{"$f":"G111","v":0},{"$f":"H111","v":0},"EPA"]
[null,null,"Sigle du partenaire ",null,null,null,null,null,null,{"$f":"H124","v":0},{"$f":"I124","v":0},"EPIC"]
[null,null,"Secteur d'activité du partenaire",null,null,null,null,"co-porteur de l'EUR :",null,null,null,"Autre établissement public"]
[null,null,"Type de partenaire",null,null,null,null,null,null,null,null,"Groupement d'établissements"]
[null,null,"Numéro SIRET",null,null,null,null,null,null,null,null,"Fondation"]
[null,null,null,null,null,null,null,null,null,null,null,"Association"]
[null,"Personne habilitée à engager juridiquement l'établissement partenaire",null,null,null,null,null,null,null,null,null,"Petite entreprise "]
[null,null,null,null,null,null,null,null,null,null,null,"Moyenne entreprise"]
[null,null,"Genre",null,null,null,null,null,null,null,null,"Grande entreprise"]
[null,null,"Nom",null,null,null,null,null,null,null,null,"Statutaire"]
[null,null,"Prénom",null,null,null,null,null,null,null,null,"Non statutaire avec financement"]
[null,null,"Qualité",null,null,null,null,null,null,null,null,"Non statutaire sans financement"]
[null,null,"Courriel"]
[null,null,"Téléphone"]
[]
[null,"Demande financière ANR détaillée du projet"]
[null,"Equipement (coût unitaire HT > 4000 € - si le partenaire récupére la TVA, indiquer le coût hors TVA)"]
[null,"Description",null,null,"Coût unitaire","Quantité","Coût total","Partie aidée","Apport"]
[null,null,null,null,null,null,{"$f":"IF(AND(ISNUMBER(E26),ISNUMBER(F26)),E26*F26,\" \")","v":" "},null,{"$f":"IF(OR(ISNUMBER(G26),ISNUMBER(H26)),ROUND(IF(ISNUMBER(G26),G26,0)-IF(ISNUMBER(H26),H26,0),2),\" \")","v":" "}]
[null,null,null,null,null,null," ",null," "]
[null,null,null,null,null,null," ",null," "]
[null,null,null,null,null,null," ",null," "]
[null,null,null,null,null,null," ",null," "]
[null,null,null,null,null,null," ",null," "]
[null,null,null,null,null,null," ",null," "]
[null,null,null,null,null,null," ",null," "]
[null,"Total équipement",null,null,null,null,{"$f":"SUM(G26:G33)","v":0},{"$f":"SUM(H26:H33)","v":0},0]
[null,"Personnel"]
[null,"Description",null,"Statut","Coût unitaire","Nb. h.mois","Coût total","Aide","Apport"]
[null,null,null,null,null,null,{"$f":"IF(AND(ISNUMBER(E37),ISNUMBER(F37)),E37*F37,\" \")","v":" "},null,{"$f":"IF(OR(ISNUMBER(G37),ISNUMBER(H37)),ROUND(IF(ISNUMBER(G37),G37,0)-IF(ISNUMBER(H37),H37,0),2),\" \")","v":" "}]
[null,null,null,null,null,null," ",null," "]
[null,null,null,null,null,null," ",null," "]
[null,null,null,null,null,null," ",null," "]
[null,null,null,null,null,null," ",null,{"$f":"IF(OR(ISNUMBER(G41),ISNUMBER(H41)),ROUND(IF(ISNUMBER(G41),G41,0)-IF(ISNUMBER(H41),H41,0),2),\" \")","v":" "}]
[null,null,null,null,null,null," ",null," "]
[null,null,null,null,null,null," ",null," "]
[null,null,null,null,null,null," ",null," "]
[null,"Primes et heures complémentaires pour le personnel statutaire",null,null,null,null,null,{"$f":"IF(G45<>\" \",G45,\" \")","v":0}]
[null,"Total personnel",null,null,null,{"$f":"SUM(F37:F44)","v":0},{"$f":"SUM(G37:G45)","v":0},{"$f":"SUM(H37:H45)","v":0},{"$f":"SUM(I37:I44)","v":0}]
[null,"Fonctionnement (si le partenaire récupère la TVA, indiquer le coût hors TVA)"]
[null,"Description",null,null,"Coût unitaire","Quantité","Coût total","Partie aidée","Apport"]
[null,"Prestations de service externes"]
[null,null,null,null,null,null,null,null,{"$f":"IF(OR(ISNUMBER(G50),ISNUMBER(H50)),ROUND(IF(ISNUMBER(G50),G50,0)-IF(ISNUMBER(H50),H50,0),2),\" \")","v":" "}]
[null,null,null,null,null,null,null,null," "]
[null,null,null,null,null,null,null,null," "]
[null,null,null,null,null,null,null,null," "]
[null,null,null,null,null,null,null,null," "]
[null,null,null,null,null,null,null,null," "]
[null,null,null,null,null,null,null,null," "]
[null,null,null,null,null,null,null,null," "]
[null,"Sous-total prestations de service externes",null,null,null,null,{"$f":"SUM(G50:G57)","v":0},{"$f":"SUM(H50:H57)","v":0},{"$f":"SUM(I50:I57)","v":0}]
[null,"Missions",null,null,"Coût unitaire","Quantité","Coût total","Partie aidée","Apport"]
[null,null,null,null,null,null,null,null,{"$f":"IF(OR(ISNUMBER(G60),ISNUMBER(H60)),ROUND(IF(ISNUMBER(G60),G60,0)-IF(ISNUMBER(H60),H60,0),2),\" \")","v":" "}]
[null,null,null,null,null,null,null,null," "]
[null,null,null,null,null,null,null,null," "]
[null,null,null,null,null,null,null,null," "]
[null,null,null,null,null,null,null,null," "]
[null,null,null,null,null,null,null,null," "]
[null,null,null,null,null,null,null,null," "]
[null,null,null,null,null,null,null,null," "]
[null,"Sous-total missions",null,null,null,null,{"$f":"SUM(G60:G67)","v":0},0,0]
[null,"Autres dépenses externes",null,null,"Coût unitaire","Quantité","Coût total","Partie aidée","Apport"]
[null,null,null,null,null,null,{"$f":"IF(AND(ISNUMBER(E70),ISNUMBER(F70)),E70*F70,\" \")","v":" "},null,{"$f":"IF(OR(ISNUMBER(G70),ISNUMBER(H70)),ROUND(IF(ISNUMBER(G70),G70,0)-IF(ISNUMBER(H70),H70,0),2),\" \")","v":" "}]
[null,null,null,null,null,null," ",null," "]
[null,null,null,null,null,null," ",null," "]
[null,null,null,null,null,null," ",null," "]
[null,null,null,null,null,null," ",null," "]
[null,null,null,null,null,null," ",null," "]
[null,null,null,null,null,null," ",null," "]
[null,null,null,null,null,null," ",null," "]
[null,null,null,null,null,null," ",null," "]
[null,"Sous-total autres dépenses externes",null,null,null,null,{"$f":"SUM(G70:G78)","v":0},0,0]
[null,null,null,null,null,null,"Coût total","Partie aidée","Apport"]
[null,"Total fonctionnement",null,null,null,null,{"$f":"G79+G68+G58","v":0},{"$f":"H79+H68+H58","v":0},{"$f":"I79+I68+I58","v":0}]
[null,"Facturation interne"]
[null,"Description",null,null,null,null,"Coût total","Partie aidée","Apport"]
[null," ",null,null,null,null," ",null,{"$f":"IF(OR(ISNUMBER(G84),ISNUMBER(H84)),ROUND(IF(ISNUMBER(G84),G84,0)-IF(ISNUMBER(H84),H84,0),2),\" \")","v":" "}]
[null," ",null,null,null,null,null,null," "]
[null," ",null,null,null,null,null,null," "]
[null," ",null,null,null,null,null,null," "]
[null," ",null,null,null,null," "," "," "]
[null," ",null,null,null,null," "," "," "]
[null," ",null,null,null,null," "," "," "]
[null," ",null,null,null,null," "," "," "]
[null,"Total facturation interne",null,null,null,null,{"$f":"SUM(G84:G91)","v":0},{"$f":"SUM(H84:H91)","v":0},0]
[null,"Frais de structure"]
[null,"Description",null,null,null,null,"Coût total","Partie aidée","Apport"]
[null," ",null,null,null,null," ",null,{"$f":"IF(OR(ISNUMBER(G95),ISNUMBER(H95)),ROUND(IF(ISNUMBER(G95),G95,0)-IF(ISNUMBER(H95),H95,0),2),\" \")","v":" "}]
[null," ",null,null,null,null,null,null," "]
[null," ",null,null,null,null,null,null," "]
[null," ",null,null,null,null," "," "," "]
[null," ",null,null,null,null," "," "," "]
[null," ",null,null,null,null," "," "," "]
[null," ",null,null,null,null," "," "," "]
[null," ",null,null,null,null," "," "," "]
[null,"Total frais de structure",null,null,null,null,{"$f":"SUM(G95:G102)","v":0},{"$f":"SUM(H95:H102)","v":0},0]
[]
[null,"Synthèse de la demande financière"]
[]
[null,null,null,null,null,null,"Coût complet","Aide demandée","Apport"]
[null,"Total hors frais de gestion",null,null,null,null,{"$f":"G34+G46+G81+G92+G103","v":0},{"$f":"IF(D10=\"Privé\",0,H34+H46+H81+H92+H103)","v":0},{"$f":"I34+I46+I81+I92+I103","v":0}]
[null,"Frais de gestion (max : 8%) (hors frais de structure)",null,null,null,null,{"$f":"H109","v":0},{"$f":"IF(D10=\"Privé\",0,((H108-H103)*E109))","v":0},0]
[null,"Taux d'environnement",null,null,null,null,{"$f":"(G46-G45)*E110","v":0},null,{"$f":"G110","v":0},null,null,{"$f":"(IF($D$11=listesDeroulantes!$A$6,0.7,0)+IF($D$11=listesDeroulantes!$A$7,0.6,0)+IF($D$11=listesDeroulantes!$A$8,0.5,0))","v":0}]
[null,"Total",null,null,null,null,{"$f":"G108+G109+G110","v":0},{"$f":"H108+H109","v":0},{"$f":"I108+I109+I110","v":0}]
[]
[null,"Autres soutiens financiers sollicités ou obtenus pour le projet"]
[]
[null,{"$f":"\"                                   Nom des financeurs\"","v":"                                   Nom des financeurs"},null,"Nature et objet du financement",null,null,null,"Sollicité","Obtenu"]
[null,{"$f":"COUNTA(B$115:B115)","v":1}," "," "]
[null,{"$f":"COUNTA(B$115:B116)","v":2}," "," "]
[null,{"$f":"COUNTA(B$115:B117)","v":3}," "," "]
[null,{"$f":"COUNTA(B$115:B118)","v":4}," "," ",null,null,null," "," "]
[null,{"$f":"COUNTA(B$115:B119)","v":5}," "," ",null,null,null," "," "]
[null,{"$f":"COUNTA(B$115:B120)","v":6}," "," ",null,null,null," "," "]
[null,{"$f":"COUNTA(B$115:B121)","v":7}," "," ",null,null,null," "," "]
[null,{"$f":"COUNTA(B$115:B122)","v":8}," "," ",null,null,null," "," "]
[null,"Total des autres financements",null,null,null,null,null,{"$f":"SUM(H116:H123)","v":0},0]
[]
[null,"Commentaires (le cas échéant)"]
[]
[]
[]
[]
[]
[]
[]
[]
[null,"Les informations personnelles transmises dans ces documents sont obligatoires et seront conservées en fichiers par l'ANR pour assurer la conduite opérationnelle de l'évaluation et l'administration des dossiers.\nConformément à la loi n° 78-17 du 6 janvier 1978 modifiée, relative à l'Informatique, aux Fichiers et aux Libertés, les personnes concernées disposent d'un droit d'accès et de rectification des données personnelles les concernant. Les personnes concernées peuvent exercer ce droit en s'adressant à l'ANR (voir coordonnées dans le texte de l’appel à projets)."]

{"sheet":"part19","index":23,"n_rows":135,"n_cols":12,"rows_kept":135,"cut":false,"hidden":false,"merged":[[123,1,123,3],[125,1,125,8],[127,1,133,8],[134,1,136,8],[117,3,117,6],[118,3,118,6],[119,3,119,6],[120,3,120,6],[121,3,121,6],[122,3,122,6],[110,1,110,5],[112,1,112,8],[114,1,114,2],[114,3,114,6],[115,3,115,6],[116,3,116,6],[104,1,104,8],[105,1,105,8],[106,2,106,5],[107,1,107,5],[108,1,108,3],[109,1,109,3],[97,1,97,5],[98,1,98,5],[99,1,99,5],[100,1,100,5],[101,1,101,5],[102,1,102,3],[91,1,91,3],[92,1,92,8],[93,1,93,5],[94,1,94,5],[95,1,95,5],[96,1,96,5],[85,1,85,5],[86,1,86,5],[87,1,87,5],[88,1,88,5],[89,1,89,5],[90,1,90,5],[79,1,79,3],[80,1,80,3],[81,1,81,8],[82,1,82,5],[83,1,83,5],[84,1,84,5],[73,1,73,3],[74,1,74,3],[75,1,75,3],[76,1,76,3],[77,1,77,3],[78,1,78,3],[67,1,67,3],[68,1,68,3],[69,1,69,3],[70,1,70,3],[71,1,71,3],[72,1,72,3],[61,1,61,3],[62,1,62,3],[63,1,63,3],[64,1,64,3],[65,1,65,3],[66,1,66,3],[55,1,55,3],[56,1,56,3],[57,1,57,3],[58,1,58,3],[59,1,59,3],[60,1,60,3],[49,1,49,3],[50,1,50,3],[51,1,51,3],[52,1,52,3],[53,1,53,3],[54,1,54,3],[42,1,42,2],[43,1,43,2],[45,1,45,3],[46,1,46,8],[47,1,47,3],[48,1,48,3],[36,1,36,2],[37,1,37,2],[38,1,38,2],[39,1,39,2],[40,1,40,2],[41,1,41,2],[30,1,30,3],[31,1,31,3],[32,1,32,3],[33,1,33,3],[34,1,34,8],[35,1,35,2],[26,1,26,3],[27,1,27,3],[28,1,28,3],[29,1,29,3],[17,3,17,8],[18,3,18,8],[19,3,19,8],[20,3,20,4],[22,1,22,8],[23,1,23,8],[11,3,11,5],[13,1,13,8],[16,3,16,8],[0,0,2,4],[0,5,0,8],[1,5,1,6],[1,7,1,8],[24,1,24,3],[25,1,25,3],[2,5,2,6],[2,7,2,8],[4,1,4,8],[6,2,7,2],[6,3,7,8],[8,3,8,5],[9,3,9,5],[10,3,10,5]]}
["Identification de l'établissement partenaire",null,null,null,null,"Réservé à l'organisme gestionnaire du programme",null,null,null,{"$f":"G34","v":0},{"$f":"H34","v":0}]
[null,null,null,null,null,"N° de dossier",null,{"$f":"voletGeneral!$M$2&\"-\"&TEXT(NUM_PARTENAIRE(C2),\"0000\")","v":"ANR-17-EUR-XXXX-0019"},null,{"$f":"G46","v":0},{"$f":"H46","v":0},"Public"]
[null,null,null,null,null,"Acronyme",null,{"$f":"IF(voletGeneral!H10<>\"\",voletGeneral!H10,\"\")","v":""},null,{"$f":"G81","v":0},{"$f":"H81","v":0},"Privé"]
[null,null,20408,{"$f":"C4&\"-0\"","v":"20408-0"},null,null,null,null,null,{"$f":"G92","v":0},{"$f":"H92","v":0}]
[null,"Nom complet du partenaire",null,null,null,null,null,null,null,{"$f":"G103","v":0},{"$f":"H103","v":0}]
[null,null,null,null,null,null,null,null,null,{"$f":"G109","v":0},{"$f":"H109","v":0},"EPSCP"]
[null,null,"Nom complet du partenaire",null,null,null,null,null,null,{"$f":"G110","v":0},0,"EPST"]
[null,null,null,null,null,null,null,null,null,{"$f":"G111","v":0},{"$f":"H111","v":0},"EPA"]
[null,null,"Sigle du partenaire ",null,null,null,null,null,null,{"$f":"H124","v":0},{"$f":"I124","v":0},"EPIC"]
[null,null,"Secteur d'activité du partenaire",null,null,null,null,"co-porteur de l'EUR :",null,null,null,"Autre établissement public"]
[null,null,"Type de partenaire",null,null,null,null,null,null,null,null,"Groupement d'établissements"]
[null,null,"Numéro SIRET",null,null,null,null,null,null,null,null,"Fondation"]
[null,null,null,null,null,null,null,null,null,null,null,"Association"]
[null,"Personne habilitée à engager juridiquement l'établissement partenaire",null,null,null,null,null,null,null,null,null,"Petite entreprise "]
[null,null,null,null,null,null,null,null,null,null,null,"Moyenne entreprise"]
[null,null,"Genre",null,null,null,null,null,null,null,null,"Grande entreprise"]
[null,null,"Nom",null,null,null,null,null,null,null,null,"Statutaire"]
[null,null,"Prénom",null,null,null,null,null,null,null,null,"Non statutaire avec financement"]
[null,null,"Qualité",null,null,null,null,null,null,null,null,"Non statutaire sans financement"]
[null,null,"Courriel"]
[null,null,"Téléphone"]
[]
[null,"Demande financière ANR détaillée du projet"]
[null,"Equipement (coût unitaire HT > 4000 € - si le partenaire récupére la TVA, indiquer le coût hors TVA)"]
[null,"Description",null,null,"Coût unitaire","Quantité","Coût total","Partie aidée","Apport"]
[null,null,null,null,null,null,{"$f":"IF(AND(ISNUMBER(E26),ISNUMBER(F26)),E26*F26,\" \")","v":" "},null,{"$f":"IF(OR(ISNUMBER(G26),ISNUMBER(H26)),ROUND(IF(ISNUMBER(G26),G26,0)-IF(ISNUMBER(H26),H26,0),2),\" \")","v":" "}]
[null,null,null,null,null,null," ",null," "]
[null,null,null,null,null,null," ",null," "]
[null,null,null,null,null,null," ",null," "]
[null,null,null,null,null,null," ",null," "]
[null,null,null,null,null,null," ",null," "]
[null,null,null,null,null,null," ",null," "]
[null,null,null,null,null,null," ",null," "]
[null,"Total équipement",null,null,null,null,{"$f":"SUM(G26:G33)","v":0},{"$f":"SUM(H26:H33)","v":0},0]
[null,"Personnel"]
[null,"Description",null,"Statut","Coût unitaire","Nb. h.mois","Coût total","Aide","Apport"]
[null,null,null,null,null,null,{"$f":"IF(AND(ISNUMBER(E37),ISNUMBER(F37)),E37*F37,\" \")","v":" "},null,{"$f":"IF(OR(ISNUMBER(G37),ISNUMBER(H37)),ROUND(IF(ISNUMBER(G37),G37,0)-IF(ISNUMBER(H37),H37,0),2),\" \")","v":" "}]
[null,null,null,null,null,null," ",null," "]
[null,null,null,null,null,null," ",null," "]
[null,null,null,null,null,null," ",null," "]
[null,null,null,null,null,null," ",null,{"$f":"IF(OR(ISNUMBER(G41),ISNUMBER(H41)),ROUND(IF(ISNUMBER(G41),G41,0)-IF(ISNUMBER(H41),H41,0),2),\" \")","v":" "}]
[null,null,null,null,null,null," ",null," "]
[null,null,null,null,null,null," ",null," "]
[null,null,null,null,null,null," ",null," "]
[null,"Primes et heures complémentaires pour le personnel statutaire",null,null,null,null,null,{"$f":"IF(G45<>\" \",G45,\" \")","v":0}]
[null,"Total personnel",null,null,null,{"$f":"SUM(F37:F44)","v":0},{"$f":"SUM(G37:G45)","v":0},{"$f":"SUM(H37:H45)","v":0},{"$f":"SUM(I37:I44)","v":0}]
[null,"Fonctionnement (si le partenaire récupère la TVA, indiquer le coût hors TVA)"]
[null,"Description",null,null,"Coût unitaire","Quantité","Coût total","Partie aidée","Apport"]
[null,"Prestations de service externes"]
[null,null,null,null,null,null,null,null,{"$f":"IF(OR(ISNUMBER(G50),ISNUMBER(H50)),ROUND(IF(ISNUMBER(G50),G50,0)-IF(ISNUMBER(H50),H50,0),2),\" \")","v":" "}]
[null,null,null,null,null,null,null,null," "]
[null,null,null,null,null,null,null,null," "]
[null,null,null,null,null,null,null,null," "]
[null,null,null,null,null,null,null,null," "]
[null,null,null,null,null,null,null,null," "]
[null,null,null,null,null,null,null,null," "]
[null,null,null,null,null,null,null,null," "]
[null,"Sous-total prestations de service externes",null,null,null,null,{"$f":"SUM(G50:G57)","v":0},{"$f":"SUM(H50:H57)","v":0},{"$f":"SUM(I50:I57)","v":0}]
[null,"Missions",null,null,"Coût unitaire","Quantité","Coût total","Partie aidée","Apport"]
[null,null,null,null,null,null,null,null,{"$f":"IF(OR(ISNUMBER(G60),ISNUMBER(H60)),ROUND(IF(ISNUMBER(G60),G60,0)-IF(ISNUMBER(H60),H60,0),2),\" \")","v":" "}]
[null,null,null,null,null,null,null,null," "]
[null,null,null,null,null,null,null,null," "]
[null,null,null,null,null,null,null,null," "]
[null,null,null,null,null,null,null,null," "]
[null,null,null,null,null,null,null,null," "]
[null,null,null,null,null,null,null,null," "]
[null,null,null,null,null,null,null,null," "]
[null,"Sous-total missions",null,null,null,null,{"$f":"SUM(G60:G67)","v":0},0,0]
[null,"Autres dépenses externes",null,null,"Coût unitaire","Quantité","Coût total","Partie aidée","Apport"]
[null,null,null,null,null,null,{"$f":"IF(AND(ISNUMBER(E70),ISNUMBER(F70)),E70*F70,\" \")","v":" "},null,{"$f":"IF(OR(ISNUMBER(G70),ISNUMBER(H70)),ROUND(IF(ISNUMBER(G70),G70,0)-IF(ISNUMBER(H70),H70,0),2),\" \")","v":" "}]
[null,null,null,null,null,null," ",null," "]
[null,null,null,null,null,null," ",null," "]
[null,null,null,null,null,null," ",null," "]
[null,null,null,null,null,null," ",null," "]
[null,null,null,null,null,null," ",null," "]
[null,null,null,null,null,null," ",null," "]
[null,null,null,null,null,null," ",null," "]
[null,null,null,null,null,null," ",null," "]
[null,"Sous-total autres dépenses externes",null,null,null,null,{"$f":"SUM(G70:G78)","v":0},0,0]
[null,null,null,null,null,null,"Coût total","Partie aidée","Apport"]
[null,"Total fonctionnement",null,null,null,null,{"$f":"G79+G68+G58","v":0},{"$f":"H79+H68+H58","v":0},{"$f":"I79+I68+I58","v":0}]
[null,"Facturation interne"]
[null,"Description",null,null,null,null,"Coût total","Partie aidée","Apport"]
[null," ",null,null,null,null," ",null,{"$f":"IF(OR(ISNUMBER(G84),ISNUMBER(H84)),ROUND(IF(ISNUMBER(G84),G84,0)-IF(ISNUMBER(H84),H84,0),2),\" \")","v":" "}]
[null," ",null,null,null,null,null,null," "]
[null," ",null,null,null,null,null,null," "]
[null," ",null,null,null,null,null,null," "]
[null," ",null,null,null,null," "," "," "]
[null," ",null,null,null,null," "," "," "]
[null," ",null,null,null,null," "," "," "]
[null," ",null,null,null,null," "," "," "]
[null,"Total facturation interne",null,null,null,null,{"$f":"SUM(G84:G91)","v":0},{"$f":"SUM(H84:H91)","v":0},0]
[null,"Frais de structure"]
[null,"Description",null,null,null,null,"Coût total","Partie aidée","Apport"]
[null," ",null,null,null,null," ",null,{"$f":"IF(OR(ISNUMBER(G95),ISNUMBER(H95)),ROUND(IF(ISNUMBER(G95),G95,0)-IF(ISNUMBER(H95),H95,0),2),\" \")","v":" "}]
[null," ",null,null,null,null,null,null," "]
[null," ",null,null,null,null,null,null," "]
[null," ",null,null,null,null," "," "," "]
[null," ",null,null,null,null," "," "," "]
[null," ",null,null,null,null," "," "," "]
[null," ",null,null,null,null," "," "," "]
[null," ",null,null,null,null," "," "," "]
[null,"Total frais de structure",null,null,null,null,{"$f":"SUM(G95:G102)","v":0},{"$f":"SUM(H95:H102)","v":0},0]
[]
[null,"Synthèse de la demande financière"]
[]
[null,null,null,null,null,null,"Coût complet","Aide demandée","Apport"]
[null,"Total hors frais de gestion",null,null,null,null,{"$f":"G34+G46+G81+G92+G103","v":0},{"$f":"IF(D10=\"Privé\",0,H34+H46+H81+H92+H103)","v":0},{"$f":"I34+I46+I81+I92+I103","v":0}]
[null,"Frais de gestion (max : 8%) (hors frais de structure)",null,null,null,null,{"$f":"H109","v":0},{"$f":"IF(D10=\"Privé\",0,((H108-H103)*E109))","v":0},0]
[null,"Taux d'environnement",null,null,null,null,{"$f":"(G46-G45)*E110","v":0},null,{"$f":"G110","v":0},null,null,{"$f":"(IF($D$11=listesDeroulantes!$A$6,0.7,0)+IF($D$11=listesDeroulantes!$A$7,0.6,0)+IF($D$11=listesDeroulantes!$A$8,0.5,0))","v":0}]
[null,"Total",null,null,null,null,{"$f":"G108+G109+G110","v":0},{"$f":"H108+H109","v":0},{"$f":"I108+I109+I110","v":0}]
[]
[null,"Autres soutiens financiers sollicités ou obtenus pour le projet"]
[]
[null,{"$f":"\"                                   Nom des financeurs\"","v":"                                   Nom des financeurs"},null,"Nature et objet du financement",null,null,null,"Sollicité","Obtenu"]
[null,{"$f":"COUNTA(B$115:B115)","v":1}," "," "]
[null,{"$f":"COUNTA(B$115:B116)","v":2}," "," "]
[null,{"$f":"COUNTA(B$115:B117)","v":3}," "," "]
[null,{"$f":"COUNTA(B$115:B118)","v":4}," "," ",null,null,null," "," "]
[null,{"$f":"COUNTA(B$115:B119)","v":5}," "," ",null,null,null," "," "]
[null,{"$f":"COUNTA(B$115:B120)","v":6}," "," ",null,null,null," "," "]
[null,{"$f":"COUNTA(B$115:B121)","v":7}," "," ",null,null,null," "," "]
[null,{"$f":"COUNTA(B$115:B122)","v":8}," "," ",null,null,null," "," "]
[null,"Total des autres financements",null,null,null,null,null,{"$f":"SUM(H116:H123)","v":0},0]
[]
[null,"Commentaires (le cas échéant)"]
[]
[]
[]
[]
[]
[]
[]
[]
[null,"Les informations personnelles transmises dans ces documents sont obligatoires et seront conservées en fichiers par l'ANR pour assurer la conduite opérationnelle de l'évaluation et l'administration des dossiers.\nConformément à la loi n° 78-17 du 6 janvier 1978 modifiée, relative à l'Informatique, aux Fichiers et aux Libertés, les personnes concernées disposent d'un droit d'accès et de rectification des données personnelles les concernant. Les personnes concernées peuvent exercer ce droit en s'adressant à l'ANR (voir coordonnées dans le texte de l’appel à projets)."]

{"sheet":"part20","index":24,"n_rows":135,"n_cols":12,"rows_kept":135,"cut":false,"hidden":false,"merged":[[123,1,123,3],[125,1,125,8],[127,1,133,8],[134,1,136,8],[117,3,117,6],[118,3,118,6],[119,3,119,6],[120,3,120,6],[121,3,121,6],[122,3,122,6],[110,1,110,5],[112,1,112,8],[114,1,114,2],[114,3,114,6],[115,3,115,6],[116,3,116,6],[104,1,104,8],[105,1,105,8],[106,2,106,5],[107,1,107,5],[108,1,108,3],[109,1,109,3],[97,1,97,5],[98,1,98,5],[99,1,99,5],[100,1,100,5],[101,1,101,5],[102,1,102,3],[91,1,91,3],[92,1,92,8],[93,1,93,5],[94,1,94,5],[95,1,95,5],[96,1,96,5],[85,1,85,5],[86,1,86,5],[87,1,87,5],[88,1,88,5],[89,1,89,5],[90,1,90,5],[79,1,79,3],[80,1,80,3],[81,1,81,8],[82,1,82,5],[83,1,83,5],[84,1,84,5],[73,1,73,3],[74,1,74,3],[75,1,75,3],[76,1,76,3],[77,1,77,3],[78,1,78,3],[67,1,67,3],[68,1,68,3],[69,1,69,3],[70,1,70,3],[71,1,71,3],[72,1,72,3],[61,1,61,3],[62,1,62,3],[63,1,63,3],[64,1,64,3],[65,1,65,3],[66,1,66,3],[55,1,55,3],[56,1,56,3],[57,1,57,3],[58,1,58,3],[59,1,59,3],[60,1,60,3],[49,1,49,3],[50,1,50,3],[51,1,51,3],[52,1,52,3],[53,1,53,3],[54,1,54,3],[42,1,42,2],[43,1,43,2],[45,1,45,3],[46,1,46,8],[47,1,47,3],[48,1,48,3],[36,1,36,2],[37,1,37,2],[38,1,38,2],[39,1,39,2],[40,1,40,2],[41,1,41,2],[30,1,30,3],[31,1,31,3],[32,1,32,3],[33,1,33,3],[34,1,34,8],[35,1,35,2],[26,1,26,3],[27,1,27,3],[28,1,28,3],[29,1,29,3],[17,3,17,8],[18,3,18,8],[19,3,19,8],[20,3,20,4],[22,1,22,8],[23,1,23,8],[11,3,11,5],[13,1,13,8],[16,3,16,8],[0,0,2,4],[0,5,0,8],[1,5,1,6],[1,7,1,8],[24,1,24,3],[25,1,25,3],[2,5,2,6],[2,7,2,8],[4,1,4,8],[6,2,7,2],[6,3,7,8],[8,3,8,5],[9,3,9,5],[10,3,10,5]]}
["Identification de l'établissement partenaire",null,null,null,null,"Réservé à l'organisme gestionnaire du programme",null,null,null,{"$f":"G34","v":0},{"$f":"H34","v":0}]
[null,null,null,null,null,"N° de dossier",null,{"$f":"voletGeneral!$M$2&\"-\"&TEXT(NUM_PARTENAIRE(C2),\"0000\")","v":"ANR-17-EUR-XXXX-0020"},null,{"$f":"G46","v":0},{"$f":"H46","v":0},"Public"]
[null,null,null,null,null,"Acronyme",null,{"$f":"IF(voletGeneral!H10<>\"\",voletGeneral!H10,\"\")","v":""},null,{"$f":"G81","v":0},{"$f":"H81","v":0},"Privé"]
[null,null,20408,{"$f":"C4&\"-0\"","v":"20408-0"},null,null,null,null,null,{"$f":"G92","v":0},{"$f":"H92","v":0}]
[null,"Nom complet du partenaire",null,null,null,null,null,null,null,{"$f":"G103","v":0},{"$f":"H103","v":0}]
[null,null,null,null,null,null,null,null,null,{"$f":"G109","v":0},{"$f":"H109","v":0},"EPSCP"]
[null,null,"Nom complet du partenaire",null,null,null,null,null,null,{"$f":"G110","v":0},0,"EPST"]
[null,null,null,null,null,null,null,null,null,{"$f":"G111","v":0},{"$f":"H111","v":0},"EPA"]
[null,null,"Sigle du partenaire ",null,null,null,null,null,null,{"$f":"H124","v":0},{"$f":"I124","v":0},"EPIC"]
[null,null,"Secteur d'activité du partenaire",null,null,null,null,"co-porteur de l'EUR :",null,null,null,"Autre établissement public"]
[null,null,"Type de partenaire",null,null,null,null,null,null,null,null,"Groupement d'établissements"]
[null,null,"Numéro SIRET",null,null,null,null,null,null,null,null,"Fondation"]
[null,null,null,null,null,null,null,null,null,null,null,"Association"]
[null,"Personne habilitée à engager juridiquement l'établissement partenaire",null,null,null,null,null,null,null,null,null,"Petite entreprise "]
[null,null,null,null,null,null,null,null,null,null,null,"Moyenne entreprise"]
[null,null,"Genre",null,null,null,null,null,null,null,null,"Grande entreprise"]
[null,null,"Nom",null,null,null,null,null,null,null,null,"Statutaire"]
[null,null,"Prénom",null,null,null,null,null,null,null,null,"Non statutaire avec financement"]
[null,null,"Qualité",null,null,null,null,null,null,null,null,"Non statutaire sans financement"]
[null,null,"Courriel"]
[null,null,"Téléphone"]
[]
[null,"Demande financière ANR détaillée du projet"]
[null,"Equipement (coût unitaire HT > 4000 € - si le partenaire récupére la TVA, indiquer le coût hors TVA)"]
[null,"Description",null,null,"Coût unitaire","Quantité","Coût total","Partie aidée","Apport"]
[null,null,null,null,null,null,{"$f":"IF(AND(ISNUMBER(E26),ISNUMBER(F26)),E26*F26,\" \")","v":" "},null,{"$f":"IF(OR(ISNUMBER(G26),ISNUMBER(H26)),ROUND(IF(ISNUMBER(G26),G26,0)-IF(ISNUMBER(H26),H26,0),2),\" \")","v":" "}]
[null,null,null,null,null,null," ",null," "]
[null,null,null,null,null,null," ",null," "]
[null,null,null,null,null,null," ",null," "]
[null,null,null,null,null,null," ",null," "]
[null,null,null,null,null,null," ",null," "]
[null,null,null,null,null,null," ",null," "]
[null,null,null,null,null,null," ",null," "]
[null,"Total équipement",null,null,null,null,{"$f":"SUM(G26:G33)","v":0},{"$f":"SUM(H26:H33)","v":0},0]
[null,"Personnel"]
[null,"Description",null,"Statut","Coût unitaire","Nb. h.mois","Coût total","Aide","Apport"]
[null,null,null,null,null,null,{"$f":"IF(AND(ISNUMBER(E37),ISNUMBER(F37)),E37*F37,\" \")","v":" "},null,{"$f":"IF(OR(ISNUMBER(G37),ISNUMBER(H37)),ROUND(IF(ISNUMBER(G37),G37,0)-IF(ISNUMBER(H37),H37,0),2),\" \")","v":" "}]
[null,null,null,null,null,null," ",null," "]
[null,null,null,null,null,null," ",null," "]
[null,null,null,null,null,null," ",null," "]
[null,null,null,null,null,null," ",null,{"$f":"IF(OR(ISNUMBER(G41),ISNUMBER(H41)),ROUND(IF(ISNUMBER(G41),G41,0)-IF(ISNUMBER(H41),H41,0),2),\" \")","v":" "}]
[null,null,null,null,null,null," ",null," "]
[null,null,null,null,null,null," ",null," "]
[null,null,null,null,null,null," ",null," "]
[null,"Primes et heures complémentaires pour le personnel statutaire",null,null,null,null,null,{"$f":"IF(G45<>\" \",G45,\" \")","v":0}]
[null,"Total personnel",null,null,null,{"$f":"SUM(F37:F44)","v":0},{"$f":"SUM(G37:G45)","v":0},{"$f":"SUM(H37:H45)","v":0},{"$f":"SUM(I37:I44)","v":0}]
[null,"Fonctionnement (si le partenaire récupère la TVA, indiquer le coût hors TVA)"]
[null,"Description",null,null,"Coût unitaire","Quantité","Coût total","Partie aidée","Apport"]
[null,"Prestations de service externes"]
[null,null,null,null,null,null,null,null,{"$f":"IF(OR(ISNUMBER(G50),ISNUMBER(H50)),ROUND(IF(ISNUMBER(G50),G50,0)-IF(ISNUMBER(H50),H50,0),2),\" \")","v":" "}]
[null,null,null,null,null,null,null,null," "]
[null,null,null,null,null,null,null,null," "]
[null,null,null,null,null,null,null,null," "]
[null,null,null,null,null,null,null,null," "]
[null,null,null,null,null,null,null,null," "]
[null,null,null,null,null,null,null,null," "]
[null,null,null,null,null,null,null,null," "]
[null,"Sous-total prestations de service externes",null,null,null,null,{"$f":"SUM(G50:G57)","v":0},{"$f":"SUM(H50:H57)","v":0},{"$f":"SUM(I50:I57)","v":0}]
[null,"Missions",null,null,"Coût unitaire","Quantité","Coût total","Partie aidée","Apport"]
[null,null,null,null,null,null,null,null,{"$f":"IF(OR(ISNUMBER(G60),ISNUMBER(H60)),ROUND(IF(ISNUMBER(G60),G60,0)-IF(ISNUMBER(H60),H60,0),2),\" \")","v":" "}]
[null,null,null,null,null,null,null,null," "]
[null,null,null,null,null,null,null,null," "]
[null,null,null,null,null,null,null,null," "]
[null,null,null,null,null,null,null,null," "]
[null,null,null,null,null,null,null,null," "]
[null,null,null,null,null,null,null,null," "]
[null,null,null,null,null,null,null,null," "]
[null,"Sous-total missions",null,null,null,null,{"$f":"SUM(G60:G67)","v":0},0,0]
[null,"Autres dépenses externes",null,null,"Coût unitaire","Quantité","Coût total","Partie aidée","Apport"]
[null,null,null,null,null,null,{"$f":"IF(AND(ISNUMBER(E70),ISNUMBER(F70)),E70*F70,\" \")","v":" "},null,{"$f":"IF(OR(ISNUMBER(G70),ISNUMBER(H70)),ROUND(IF(ISNUMBER(G70),G70,0)-IF(ISNUMBER(H70),H70,0),2),\" \")","v":" "}]
[null,null,null,null,null,null," ",null," "]
[null,null,null,null,null,null," ",null," "]
[null,null,null,null,null,null," ",null," "]
[null,null,null,null,null,null," ",null," "]
[null,null,null,null,null,null," ",null," "]
[null,null,null,null,null,null," ",null," "]
[null,null,null,null,null,null," ",null," "]
[null,null,null,null,null,null," ",null," "]
[null,"Sous-total autres dépenses externes",null,null,null,null,{"$f":"SUM(G70:G78)","v":0},0,0]
[null,null,null,null,null,null,"Coût total","Partie aidée","Apport"]
[null,"Total fonctionnement",null,null,null,null,{"$f":"G79+G68+G58","v":0},{"$f":"H79+H68+H58","v":0},{"$f":"I79+I68+I58","v":0}]
[null,"Facturation interne"]
[null,"Description",null,null,null,null,"Coût total","Partie aidée","Apport"]
[null," ",null,null,null,null," ",null,{"$f":"IF(OR(ISNUMBER(G84),ISNUMBER(H84)),ROUND(IF(ISNUMBER(G84),G84,0)-IF(ISNUMBER(H84),H84,0),2),\" \")","v":" "}]
[null," ",null,null,null,null,null,null," "]
[null," ",null,null,null,null,null,null," "]
[null," ",null,null,null,null,null,null," "]
[null," ",null,null,null,null," "," "," "]
[null," ",null,null,null,null," "," "," "]
[null," ",null,null,null,null," "," "," "]
[null," ",null,null,null,null," "," "," "]
[null,"Total facturation interne",null,null,null,null,{"$f":"SUM(G84:G91)","v":0},{"$f":"SUM(H84:H91)","v":0},0]
[null,"Frais de structure"]
[null,"Description",null,null,null,null,"Coût total","Partie aidée","Apport"]
[null," ",null,null,null,null," ",null,{"$f":"IF(OR(ISNUMBER(G95),ISNUMBER(H95)),ROUND(IF(ISNUMBER(G95),G95,0)-IF(ISNUMBER(H95),H95,0),2),\" \")","v":" "}]
[null," ",null,null,null,null,null,null," "]
[null," ",null,null,null,null,null,null," "]
[null," ",null,null,null,null," "," "," "]
[null," ",null,null,null,null," "," "," "]
[null," ",null,null,null,null," "," "," "]
[null," ",null,null,null,null," "," "," "]
[null," ",null,null,null,null," "," "," "]
[null,"Total frais de structure",null,null,null,null,{"$f":"SUM(G95:G102)","v":0},{"$f":"SUM(H95:H102)","v":0},0]
[]
[null,"Synthèse de la demande financière"]
[]
[null,null,null,null,null,null,"Coût complet","Aide demandée","Apport"]
[null,"Total hors frais de gestion",null,null,null,null,{"$f":"G34+G46+G81+G92+G103","v":0},{"$f":"IF(D10=\"Privé\",0,H34+H46+H81+H92+H103)","v":0},{"$f":"I34+I46+I81+I92+I103","v":0}]
[null,"Frais de gestion (max : 8%) (hors frais de structure)",null,null,null,null,{"$f":"H109","v":0},{"$f":"IF(D10=\"Privé\",0,((H108-H103)*E109))","v":0},0]
[null,"Taux d'environnement",null,null,null,null,{"$f":"(G46-G45)*E110","v":0},null,{"$f":"G110","v":0},null,null,{"$f":"(IF($D$11=listesDeroulantes!$A$6,0.7,0)+IF($D$11=listesDeroulantes!$A$7,0.6,0)+IF($D$11=listesDeroulantes!$A$8,0.5,0))","v":0}]
[null,"Total",null,null,null,null,{"$f":"G108+G109+G110","v":0},{"$f":"H108+H109","v":0},{"$f":"I108+I109+I110","v":0}]
[]
[null,"Autres soutiens financiers sollicités ou obtenus pour le projet"]
[]
[null,{"$f":"\"                                   Nom des financeurs\"","v":"                                   Nom des financeurs"},null,"Nature et objet du financement",null,null,null,"Sollicité","Obtenu"]
[null,{"$f":"COUNTA(B$115:B115)","v":1}," "," "]
[null,{"$f":"COUNTA(B$115:B116)","v":2}," "," "]
[null,{"$f":"COUNTA(B$115:B117)","v":3}," "," "]
[null,{"$f":"COUNTA(B$115:B118)","v":4}," "," ",null,null,null," "," "]
[null,{"$f":"COUNTA(B$115:B119)","v":5}," "," ",null,null,null," "," "]
[null,{"$f":"COUNTA(B$115:B120)","v":6}," "," ",null,null,null," "," "]
[null,{"$f":"COUNTA(B$115:B121)","v":7}," "," ",null,null,null," "," "]
[null,{"$f":"COUNTA(B$115:B122)","v":8}," "," ",null,null,null," "," "]
[null,"Total des autres financements",null,null,null,null,null,{"$f":"SUM(H116:H123)","v":0},0]
[]
[null,"Commentaires (le cas échéant)"]
[]
[]
[]
[]
[]
[]
[]
[]
[null,"Les informations personnelles transmises dans ces documents sont obligatoires et seront conservées en fichiers par l'ANR pour assurer la conduite opérationnelle de l'évaluation et l'administration des dossiers.\nConformément à la loi n° 78-17 du 6 janvier 1978 modifiée, relative à l'Informatique, aux Fichiers et aux Libertés, les personnes concernées disposent d'un droit d'accès et de rectification des données personnelles les concernant. Les personnes concernées peuvent exercer ce droit en s'adressant à l'ANR (voir coordonnées dans le texte de l’appel à projets)."]